{"text_format":"1","workbook":"xlsx","n_sheets":5,"sheets":["使い方","職員名簿","基本情報","日記","日記帳"],"not_rendered":{"charts":0,"images":11,"macros":1,"external_links":0,"defined_names":4,"comments":0,"pivot_tables":0},"unopened":[],"bounds":{"document_bytes":16777216,"sheet_cells":100000,"rows_first":2000,"rows_last":500,"rows_between":2000,"halvings":0,"cell_chars":16384,"cell_head_chars":4096},"cells_cut":0,"cells_raw":0,"read":"whole","date_system":"1900"}

{"sheet":"使い方","index":0,"n_rows":120,"n_cols":23,"rows_kept":120,"cut":false,"hidden":false,"merged":[[55,2,55,3],[0,15,0,18]]}
[null,null,null,null,null,null,null,null,null,null,null,null,null,null,null,"マクロ使用のための設定"]
["日記帳 Ver.6  の使い方"]
[null,null,null,null,null,null,null,null,null,null,null,null,null,null,null,"エクセル２０１０の場合"]
["この「日記帳」は　使い方　職員名簿　基本情報　日記　日記帳　の５枚のシートで構成されています。",null,null,null,null,null,null,null,null,null,null,null,null,null,null,null,null,null,null,"まず、ファイルを選び・・・"]
["もともと、辰巳萬緑苑の介護日誌で使われているシートの技術を応用して、シンプルに構成しなおしたものです。"]
["シンプルとはいえ、改良版なのでエクセル２００７以降に対応しており、動作も軽快に改良しています。"]
["試作版なのでプログラムも荒削りですが、一応の作動確認はしてあります。"]
[]
["マクロを有効にしよう！（別紙に詳細を記述しています。）"]
["ファイルを開いて、マクロが無効にされましたの表示が出てきたときは、マクロ（コンテンツ）を有効にするを選んでください。"]
["マクロが有効にならなかった場合は設定の変更が必要です。"]
["エクセル２００７と２０１０で設定が若干異なります。詳細は別紙『マクロ使用のための設定』をご参照ください。"]
[]
["マクロとは・・・",null,null,null,null,null,null,null,null,null,null,null,null,null,null,null,null,null,null,"オプションを選択します・・・"]
["このシートを構成するプログラムです。"]
[]
["禁止事項","切り取り（ドラッグ＆ドロップ）　フォントサイズの変更　行・列の追加と削除　シート名の変更　シートの削除"]
[null,"コピー＆ペーストをする場合、「文字情報・テキストのみ」だけで実施すること。（できればしないこと。）"]
["紺地白文字","の部分にはプログラムに関する制御が組み込まれているケースがほとんどです。"]
["この部分に手を加える（文字サイズ変更・文字変更）と、プログラムが作動しなくなりますので、特にご注意ください。"]
[null,null,null,null,null,null,null,null,null,null,null,null,null,null,null,null,null,null,null,null,null,null,"リボンのユーザー設定から・・・"]
["試用期間と使用条件について"]
["一応、３か月の期限を付けさせていただきます。施設で継続稼働させたい場合はひとまずご連絡ください。"]
["改良点やバグを見つけてご連絡いただければ修正したものをお贈りします。"]
[]
["職員名簿","（追加機能）"]
["職員の名前とフリガナを入力したあとに",null,null,null,"名簿整列","を右クリックしてください。名簿が50音順に並びかわります。",null,null,null,null,null,null,null,null,null,null,null,null,null,null,null,null,"開発にチェックを入れます。"]
["番号部分をクリックすると、日記シートの記録者欄に名前が記載されます。"]
[]
["基本情報",null,null,null,null,null,null,null,null,null,null,null,null,null,null,"これでマクロの編集が可能になる開発タブが表示されるようになります。"]
["利用者の名前とフリガナを入力してください。生年月日を入れると年齢は自動で入ります。"]
["入力が終わったら",null,"名簿整列","を右クリックしてください。名簿が50音順に並びかわります。",null,null,null,null,null,null,null,null,null,null,null,"エクセル２００７の場合"]
["亡くなった方、入院などで一時的に記録をしない方などは",null,null,null,null,null,"表示/非表示","の欄を右クリックします。"]
["すると","×","マークが表示されます。そのうえで再度、名簿整列をするとその人は最下段に移動します。",null,null,null,null,null,null,null,null,null,null,null,null,"オフィスボタンを選び・・・"]
["×マークはもう一度右クリックすると消えます。（この部分は文字のサイズで制御していますので、文字サイズの変更は厳禁です。）"]
["名簿から抹消したいときは、",null,null,"削除者番号",null,"に番号を記入して、",null,"名簿削除","を右クリックします。"]
["削除された情報はS列から右に転記保存されます。"]
["番号列を右クリックすると、日記シートに名前が転記される入力援助機能もあります。"]
["なお、利用者はフリガナと非表示の固有番号（１００１～１１５０番：初期段階）で制御されています。"]
["新たな利用者が現れたときには（空き番号か）１１５０番以降の新番号が自動的に割り当てられます。"]
["プログラム上では９９９人までの利用者に対応するようになっていますが、削除があるたびにこの番号が進んでしまうため"]
["試験運用でむやみに試すことはできるだけ控えた方が無難です。"]
["備考欄はタイトルを含め自由に記述、設定ができますので、覚書としてご利用ください。"]
["このように、このプログラムは　マウスの右クリックでいろいろな現象が起こるように仕組まれています。"]
[]
["日記"]
["このシートは、様々な記述情報を入力するシートです。"]
["画面左側B列に登録した方々の名簿が現れているはずです。"]
["もし、名簿が50音順に並んでいなかったら、基本情報シートの名簿整列を右クリックしてください。"]
["いつ？","の欄を右クリックすると、現在の日付が入ります。また、数字の上で右クリックすると、数が一つずつ減ってゆきます。",null,null,null,null,null,null,null,null,null,null,null,null,null,"エクセルのオプションを選択します・・・"]
[null,"時刻を入れると記事の冒頭に反映されるようになっています。"]
["だれが？","と書いてあるB列の名簿の上で右クリックすると、入力対象者が自動でQ列の被選択者欄に転記されます。"]
[null,"選択は１人から最大15人まで選べます。"]
[null,"間違って選択してしまった場合は、Q列の欄の上で消したい人の名を右クリックしてください。自動消去されます。",null,null,null,null,null,null,null,null,null,null,null,null,null,null,null,null,null,null,null,null,"基本設定から・・・"]
["どこで・どうした？","以下の欄に記事を書き込みます。"]
["よく使う言葉は、",null,"登録語句（変更）",null,"以下の欄に記入しておいてください。登録語句の上で右クリックすると記事欄に転記されます。"]
["また、登録語句（変更）欄を右クリックすると、登録語句の配列が次々にかわりますので、目的の語句を探すのに便利です。",null,null,null,null,null,null,null,null,null,null,null,null,null,null,null,null,null,null,null,null,null,"開発タブをリボンに表示する（D)"]
["記事を書き終えたら日記帳に転記する機能を作動させましょう。選択できるボタンは以下の４つです。",null,null,null,null,null,null,null,null,null,null,null,null,null,null,null,null,null,null,null,null,null,"にチェックを入れます。"]
["個別報告","ひとりずつの個別記事として記録されます。ひとりから１５人までの同じ内容の同時記録が可能です。"]
[null,"※同じ記事が複製され、個別記録になります。"]
["まとめて報告","利用者の名前は記事の中にまとめられて記名されます。（個人記録としては残りません。）１５人まで記名可能です。"]
[null,"※記事は1行にすっきりまとめられ、参加者が記事の最後に羅列されます。"]
["連絡事項","職員への通達、連絡事項に使います。対象者がいる連絡には使用できません。",null,null,null,null,null,null,null,null,null,null,null,null,null,"これで２００７の設定も半分終了。これからは２０１０とほぼ同じ画面になります。"]
[null,"※対象者のいない連絡記事のときはこれで対応。行事予定を入れておいても良いですね。"]
["記事消去","日付・記事・選択者が消去されます。",null,null,null,null,null,null,null,null,null,null,null,null,null,"２００７・２０１０共通"]
[null,null,null,null,null,null,null,null,null,null,null,null,null,null,null,"セキュリティセンター　→　セキュリティセンターの設定を選びます。"]
[]
[]
[]
[]
[]
[]
[]
[]
[]
["日記帳"]
["日記で書いた記事がここに記録されます。記事・記録者の手直しは自由にできますが、対象者（お名前）の変更は禁止です。"]
["対象者は、個別コードで管理されていますので、名前を変えても反映されません。（誤作動の原因になります。）"]
["日の変更はできますが、並び順に反映されないことがあります。従って大きな変更はお勧めできません。"]
["不要な記事は、名前の上で右クリックすると消去されます。（手動消去は危険なのでおやめください。）"]
["重要欄の上で右クリックすると",null,null,"☆","マークが出現します。（もう一度クリックすると消えます。）"]
["重要記事","を右クリックすると、星マークのある記事が集められ閲覧・印刷が可能になります。（新聞作成機能）",null,null,null,null,null,null,null,null,null,null,null,null,null,null,null,null,null,null,null,"マクロの設定を選びます。"]
["名前順","記事が50音順、日付順に整列します。"]
["日付順","記事が日付順、50音順に整列します。"]
["日付検索","日付欄に日付を入れてから右クリックすると、該当日付の記事が集められ閲覧・印刷が可能になります。（日報作成機能）"]
["印刷","AD列に番号を入れてから右クリックすると、記事が集められ閲覧・印刷が可能になります。（ケース記録作成機能）"]
[null,"個別検索欄の名前を右クリックしても、対象者の記事が集められ閲覧・印刷が可能になります。（ケース記録作成機能）"]
["連続印刷","ＡＢ～AD列に番号を入れてから右クリックすると、対象者全員の記事が（対象者ごとに）連続印刷されます。"]
[null,"一度作動させると途中停止は難しいので使用に際してはご注意ください。"]
["消去","日記帳の全記事がクリアされます。更新の時や練習入力が終わったら記事クリアしましょう。",null,null,null,null,null,null,null,null,null,null,null,null,null,null,null,null,null,null,null,null,"警告を表示してすべてのマクロを"]
["メンテナンス","シートの保護を解除して、プログラム部分をオープンにします。修理・点検用のもの。一般職員は触れないこと。",null,null,null,null,null,null,null,null,null,null,null,null,null,null,null,null,null,null,null,null,"無効にする（L)　を選びます。"]
["メンテ完了","メンテ終了後に元に戻します。普段は隠れています。"]
[]
["試作版で保有できる記事は、２９９９４行までです。"]
["数ヶ月分の記事の格納は可能ですけど、重くなるので毎月、更新してゆくことをお勧めします。"]
["２９９９５行目以降の記事については、プログラムが反応しないと思います。（誤作動すると思われます。）"]
[]
["誤作動が起きたら・・・",null,null,null,null,null,null,null,null,null,null,null,null,null,null,"ここまで終わったら、OKをクリックして一度エクセルを終了します。"]
["プログラム警告文が出たら、いったんその作業をやめてください。名前を付けて保存を選び、いったん終了します。"]
["※必ず違う名をつけて保存してください。できれば警告文はメモしておいてください。"]
["デバックという表示で黄色着色の長文の英語表示が出た場合は、プログラムに関係するエラーです。"]
["画面表示が乱れたり、作動そのものがうまくゆかないケースは、何らかの意図しない変更がシートにされてしまっています。"]
["再度、起動して正常に動けば良いのですが、動かない場合は元の名前のファイルを開いて動作を確認してください。"]
["それでもうまくゆかない場合は・・・",null,null,null,null,null,null,null,null,null,null,null,null,null,null,"再度エクセルを立ち上げるとセキュリティの警告が出ます。"]
["１）すでにプログラムに影響を与えるほどの誤った変更がされてしまっているケース。",null,null,null,null,null,null,null,null,null,null,null,null,null,null,"コンテンツの有効化を選んでください。"]
["２）一時的なエラー。パソコンのCPU不足に起因するものやプログラム作動中にESCキーやEnterキーの連打を行ったケース。"]
["３）エクセル２００３以前のバージョンでの作動。（互換性環境での作動）"]
["４）プログラムミス。"]
["が考えられます。状況をご連絡いただければ解決方法をお教えしますが、１の場合は簡単には修復できないと思います。"]
[]
["制作者から"]
["このプログラムは、私の趣味でつくったものです。制作には３日以上かかっています。"]
["この技術を勉強したい方はお申し出ください。"]
[]
["特別養護老人ホーム辰巳萬緑苑",null,null,null,null,null,null,null,null,null,null,null,null,null,null,"これで準備完了です。"]
["施設長　小出浩丸",null,null,null,null,null,null,null,null,null,null,null,null,null,null,"この作業により、このプログラムは自由に動くようになります。"]
["0436-75-2251"]
[]
["３０００円程度（１年間）を以下の口座にご寄付頂ければ幸いです。 ",null,null,null,null,null,null,null,null,null,null,null,null,null,null,"このページは削除してもプログラムに影響はありません。"]
["千葉興業銀行　辰巳台支店　普通５３１８１２１  萬緑苑　後援会口　鈴木洋子"]

{"sheet":"職員名簿","index":1,"n_rows":155,"n_cols":7,"rows_kept":155,"cut":false,"hidden":false,"merged":[[2,3,2,4],[5,6,5,9],[4,6,4,9]]}
[]
[]
[null,null,"名簿整列","職員名簿",null,"番号右クリックで日記シートに記名されます。"]
[]
[null,null,"番号","氏　名","フリガナ",null,"施設名"]
[null,null,{"$f":"ROW()-5","v":1}]
[null,null,2]
[null,null,3]
[null,null,4]
[null,null,5]
[null,null,6]
[null,null,7]
[null,null,8]
[null,null,9]
[null,null,10]
[null,null,11]
[null,null,12]
[null,null,13]
[null,null,14]
[null,null,15]
[null,null,16]
[null,null,17]
[null,null,18]
[null,null,19]
[null,null,20]
[null,null,21]
[null,null,22]
[null,null,23]
[null,null,24]
[null,null,25]
[null,null,26]
[null,null,27]
[null,null,28]
[null,null,29]
[null,null,30]
[null,null,31]
[null,null,32]
[null,null,{"$f":"ROW()-5","v":33}]
[null,null,34]
[null,null,35]
[null,null,36]
[null,null,37]
[null,null,38]
[null,null,39]
[null,null,40]
[null,null,41]
[null,null,42]
[null,null,43]
[null,null,44]
[null,null,45]
[null,null,46]
[null,null,47]
[null,null,48]
[null,null,49]
[null,null,50]
[null,null,51]
[null,null,52]
[null,null,53]
[null,null,54]
[null,null,55]
[null,null,56]
[null,null,57]
[null,null,58]
[null,null,59]
[null,null,60]
[null,null,61]
[null,null,62]
[null,null,63]
[null,null,64]
[null,null,{"$f":"ROW()-5","v":65}]
[null,null,66]
[null,null,67]
[null,null,68]
[null,null,69]
[null,null,70]
[null,null,71]
[null,null,72]
[null,null,73]
[null,null,74]
[null,null,75]
[null,null,76]
[null,null,77]
[null,null,78]
[null,null,79]
[null,null,80]
[null,null,81]
[null,null,82]
[null,null,83]
[null,null,84]
[null,null,85]
[null,null,86]
[null,null,87]
[null,null,88]
[null,null,89]
[null,null,90]
[null,null,91]
[null,null,92]
[null,null,93]
[null,null,94]
[null,null,95]
[null,null,96]
[null,null,{"$f":"ROW()-5","v":97}]
[null,null,98]
[null,null,99]
[null,null,100]
[null,null,101]
[null,null,102]
[null,null,103]
[null,null,104]
[null,null,105]
[null,null,106]
[null,null,107]
[null,null,108]
[null,null,109]
[null,null,110]
[null,null,111]
[null,null,112]
[null,null,113]
[null,null,114]
[null,null,115]
[null,null,116]
[null,null,117]
[null,null,118]
[null,null,119]
[null,null,120]
[null,null,121]
[null,null,122]
[null,null,123]
[null,null,124]
[null,null,125]
[null,null,126]
[null,null,127]
[null,null,128]
[null,null,{"$f":"ROW()-5","v":129}]
[null,null,130]
[null,null,131]
[null,null,132]
[null,null,133]
[null,null,134]
[null,null,135]
[null,null,136]
[null,null,137]
[null,null,138]
[null,null,139]
[null,null,140]
[null,null,141]
[null,null,142]
[null,null,143]
[null,null,144]
[null,null,145]
[null,null,146]
[null,null,147]
[null,null,148]
[null,null,149]
[null,null,150]

{"sheet":"基本情報","index":2,"n_rows":155,"n_cols":32,"rows_kept":155,"cut":false,"hidden":false,"merged":[[1,5,1,6]]}
[null,null,"最大番号"]
[null,null,{"$f":"MAX(C6:C155)","v":1150},null,"名簿整列","基本情報台帳",null,"名簿削除","削除者番号",null,null,{"$f":"IF(J2=\"\",0,VLOOKUP(J2,E6:F155,2))","v":0},"様　が削除対象になっています。"]
[null,null,null,null,null,"名簿の番号部分を右クリックすると、名前が日記シートに転記されます。"]
[]
[null,"表示順位","割当番号","表示/\n非表示","番号","氏　名","フリガナ","性別","生年月日","年齢","備考１","備考２","備考３","備考４","備考５","備考６",null,null,"割当番号","表示/\n非表示","番号","氏　名","フリガナ","性別","生年月日","年齢","備考１","備考２","備考３","備考４","備考５","備考６"]
[null,{"$f":"IF(D6=\"×\",\"ヲ\"&G6,IF(F6=\"\",\"ン\"&C6,G6))","v":"ン1001"},1001,null,{"$f":"ROW()-5","v":1},null,null,null,null,{"$f":"IF(I6=\"\",\"\",DATEDIF(I6,TODAY(),\"y\"))","v":""}]
[null,"ン1002",1002,null,2,null,null,null,null,""]
[null,"ン1003",1003,null,3,null,null,null,null,""]
[null,"ン1004",1004,null,4,null,null,null,null,""]
[null,"ン1005",1005,null,5,null,null,null,null,""]
[null,"ン1006",1006,null,6,null,null,null,null,""]
[null,"ン1007",1007,null,7,null,null,null,null,""]
[null,"ン1008",1008,null,8,null,null,null,null,""]
[null,"ン1009",1009,null,9,null,null,null,null,""]
[null,"ン1010",1010,null,10,null,null,null,null,""]
[null,"ン1011",1011,null,11,null,null,null,null,""]
[null,"ン1012",1012,null,12,null,null,null,null,""]
[null,"ン1013",1013,null,13,null,null,null,null,""]
[null,"ン1014",1014,null,14,null,null,null,null,""]
[null,"ン1015",1015,null,15,null,null,null,null,""]
[null,"ン1016",1016,null,16,null,null,null,null,""]
[null,"ン1017",1017,null,17,null,null,null,null,""]
[null,"ン1018",1018,null,18,null,null,null,null,""]
[null,"ン1019",1019,null,19,null,null,null,null,""]
[null,"ン1020",1020,null,20,null,null,null,null,""]
[null,"ン1021",1021,null,21,null,null,null,null,""]
[null,"ン1022",1022,null,22,null,null,null,null,""]
[null,"ン1023",1023,null,23,null,null,null,null,""]
[null,"ン1024",1024,null,24,null,null,null,null,""]
[null,"ン1025",1025,null,25,null,null,null,null,""]
[null,"ン1026",1026,null,26,null,null,null,null,""]
[null,"ン1027",1027,null,27,null,null,null,null,""]
[null,"ン1028",1028,null,28,null,null,null,null,""]
[null,"ン1029",1029,null,29,null,null,null,null,""]
[null,"ン1030",1030,null,30,null,null,null,null,""]
[null,"ン1031",1031,null,31,null,null,null,null,""]
[null,"ン1032",1032,null,32,null,null,null,null,""]
[null,{"$f":"IF(D38=\"×\",\"ヲ\"&G38,IF(F38=\"\",\"ン\"&C38,G38))","v":"ン1033"},1033,null,{"$f":"ROW()-5","v":33},null,null,null,null,{"$f":"IF(I38=\"\",\"\",DATEDIF(I38,TODAY(),\"y\"))","v":""}]
[null,"ン1034",1034,null,34,null,null,null,null,""]
[null,"ン1035",1035,null,35,null,null,null,null,""]
[null,"ン1036",1036,null,36,null,null,null,null,""]
[null,"ン1037",1037,null,37,null,null,null,null,""]
[null,"ン1038",1038,null,38,null,null,null,null,""]
[null,"ン1039",1039,null,39,null,null,null,null,""]
[null,"ン1040",1040,null,40,null,null,null,null,""]
[null,"ン1041",1041,null,41,null,null,null,null,""]
[null,"ン1042",1042,null,42,null,null,null,null,""]
[null,"ン1043",1043,null,43,null,null,null,null,""]
[null,"ン1044",1044,null,44,null,null,null,null,""]
[null,"ン1045",1045,null,45,null,null,null,null,""]
[null,"ン1046",1046,null,46,null,null,null,null,""]
[null,"ン1047",1047,null,47,null,null,null,null,""]
[null,"ン1048",1048,null,48,null,null,null,null,""]
[null,"ン1049",1049,null,49,null,null,null,null,""]
[null,"ン1050",1050,null,50,null,null,null,null,""]
[null,"ン1051",1051,null,51,null,null,null,null,""]
[null,"ン1052",1052,null,52,null,null,null,null,""]
[null,"ン1053",1053,null,53,null,null,null,null,""]
[null,"ン1054",1054,null,54,null,null,null,null,""]
[null,"ン1055",1055,null,55,null,null,null,null,""]
[null,"ン1056",1056,null,56,null,null,null,null,""]
[null,"ン1057",1057,null,57,null,null,null,null,""]
[null,"ン1058",1058,null,58,null,null,null,null,""]
[null,"ン1059",1059,null,59,null,null,null,null,""]
[null,"ン1060",1060,null,60,null,null,null,null,""]
[null,"ン1061",1061,null,61,null,null,null,null,""]
[null,"ン1062",1062,null,62,null,null,null,null,""]
[null,"ン1063",1063,null,63,null,null,null,null,""]
[null,"ン1064",1064,null,64,null,null,null,null,""]
[null,{"$f":"IF(D70=\"×\",\"ヲ\"&G70,IF(F70=\"\",\"ン\"&C70,G70))","v":"ン1065"},1065,null,{"$f":"ROW()-5","v":65},null,null,null,null,{"$f":"IF(I70=\"\",\"\",DATEDIF(I70,TODAY(),\"y\"))","v":""}]
[null,"ン1066",1066,null,66,null,null,null,null,""]
[null,"ン1067",1067,null,67,null,null,null,null,""]
[null,"ン1068",1068,null,68,null,null,null,null,""]
[null,"ン1069",1069,null,69,null,null,null,null,""]
[null,"ン1070",1070,null,70,null,null,null,null,""]
[null,"ン1071",1071,null,71,null,null,null,null,""]
[null,"ン1072",1072,null,72,null,null,null,null,""]
[null,"ン1073",1073,null,73,null,null,null,null,""]
[null,"ン1074",1074,null,74,null,null,null,null,""]
[null,"ン1075",1075,null,75,null,null,null,null,""]
[null,"ン1076",1076,null,76,null,null,null,null,""]
[null,"ン1077",1077,null,77,null,null,null,null,""]
[null,"ン1078",1078,null,78,null,null,null,null,""]
[null,"ン1079",1079,null,79,null,null,null,null,""]
[null,"ン1080",1080,null,80,null,null,null,null,""]
[null,"ン1081",1081,null,81,null,null,null,null,""]
[null,"ン1082",1082,null,82,null,null,null,null,""]
[null,"ン1083",1083,null,83,null,null,null,null,""]
[null,"ン1084",1084,null,84,null,null,null,null,""]
[null,"ン1085",1085,null,85,null,null,null,null,""]
[null,"ン1086",1086,null,86,null,null,null,null,""]
[null,"ン1087",1087,null,87,null,null,null,null,""]
[null,"ン1088",1088,null,88,null,null,null,null,""]
[null,"ン1089",1089,null,89,null,null,null,null,""]
[null,"ン1090",1090,null,90,null,null,null,null,""]
[null,"ン1091",1091,null,91,null,null,null,null,""]
[null,"ン1092",1092,null,92,null,null,null,null,""]
[null,"ン1093",1093,null,93,null,null,null,null,""]
[null,"ン1094",1094,null,94,null,null,null,null,""]
[null,"ン1095",1095,null,95,null,null,null,null,""]
[null,"ン1096",1096,null,96,null,null,null,null,""]
[null,{"$f":"IF(D102=\"×\",\"ヲ\"&G102,IF(F102=\"\",\"ン\"&C102,G102))","v":"ン1097"},1097,null,{"$f":"ROW()-5","v":97},null,null,null,null,{"$f":"IF(I102=\"\",\"\",DATEDIF(I102,TODAY(),\"y\"))","v":""}]
[null,"ン1098",1098,null,98,null,null,null,null,""]
[null,"ン1099",1099,null,99,null,null,null,null,""]
[null,"ン1100",1100,null,100,null,null,null,null,""]
[null,"ン1101",1101,null,101,null,null,null,null,""]
[null,"ン1102",1102,null,102,null,null,null,null,""]
[null,"ン1103",1103,null,103,null,null,null,null,""]
[null,"ン1104",1104,null,104,null,null,null,null,""]
[null,"ン1105",1105,null,105,null,null,null,null,""]
[null,"ン1106",1106,null,106,null,null,null,null,""]
[null,"ン1107",1107,null,107,null,null,null,null,""]
[null,"ン1108",1108,null,108,null,null,null,null,""]
[null,"ン1109",1109,null,109,null,null,null,null,""]
[null,"ン1110",1110,null,110,null,null,null,null,""]
[null,"ン1111",1111,null,111,null,null,null,null,""]
[null,"ン1112",1112,null,112,null,null,null,null,""]
[null,"ン1113",1113,null,113,null,null,null,null,""]
[null,"ン1114",1114,null,114,null,null,null,null,""]
[null,"ン1115",1115,null,115,null,null,null,null,""]
[null,"ン1116",1116,null,116,null,null,null,null,""]
[null,"ン1117",1117,null,117,null,null,null,null,""]
[null,"ン1118",1118,null,118,null,null,null,null,""]
[null,"ン1119",1119,null,119,null,null,null,null,""]
[null,"ン1120",1120,null,120,null,null,null,null,""]
[null,"ン1121",1121,null,121,null,null,null,null,""]
[null,"ン1122",1122,null,122,null,null,null,null,""]
[null,"ン1123",1123,null,123,null,null,null,null,""]
[null,"ン1124",1124,null,124,null,null,null,null,""]
[null,"ン1125",1125,null,125,null,null,null,null,""]
[null,"ン1126",1126,null,126,null,null,null,null,""]
[null,"ン1127",1127,null,127,null,null,null,null,""]
[null,"ン1128",1128,null,128,null,null,null,null,""]
[null,{"$f":"IF(D134=\"×\",\"ヲ\"&G134,IF(F134=\"\",\"ン\"&C134,G134))","v":"ン1129"},1129,null,{"$f":"ROW()-5","v":129},null,null,null,null,{"$f":"IF(I134=\"\",\"\",DATEDIF(I134,TODAY(),\"y\"))","v":""}]
[null,"ン1130",1130,null,130,null,null,null,null,""]
[null,"ン1131",1131,null,131,null,null,null,null,""]
[null,"ン1132",1132,null,132,null,null,null,null,""]
[null,"ン1133",1133,null,133,null,null,null,null,""]
[null,"ン1134",1134,null,134,null,null,null,null,""]
[null,"ン1135",1135,null,135,null,null,null,null,""]
[null,"ン1136",1136,null,136,null,null,null,null,""]
[null,"ン1137",1137,null,137,null,null,null,null,""]
[null,"ン1138",1138,null,138,null,null,null,null,""]
[null,"ン1139",1139,null,139,null,null,null,null,""]
[null,"ン1140",1140,null,140,null,null,null,null,""]
[null,"ン1141",1141,null,141,null,null,null,null,""]
[null,"ン1142",1142,null,142,null,null,null,null,""]
[null,"ン1143",1143,null,143,null,null,null,null,""]
[null,"ン1144",1144,null,144,null,null,null,null,""]
[null,"ン1145",1145,null,145,null,null,null,null,""]
[null,"ン1146",1146,null,146,null,null,null,null,""]
[null,"ン1147",1147,null,147,null,null,null,null,""]
[null,"ン1148",1148,null,148,null,null,null,null,""]
[null,"ン1149",1149,null,149]
[null,"ン1150",1150,null,150]

{"sheet":"日記","index":3,"n_rows":83,"n_cols":44,"rows_kept":83,"cut":false,"hidden":false,"merged":[[0,10,0,12],[12,11,12,13],[1,9,2,9],[7,10,10,13],[2,30,5,33]]}
[null,null,null,null,null,null,null,null,null,null,{"$f":"IF(AA5=1,\"注意！日付確認！\",\"\")","v":""},null,null,{"$f":"IF(OR(N3=\"\",N4=\"\"),\"時間の記入を確認してください！\",\"\")","v":"時間の記入を確認してください！"}]
[null,null,null,null,null,null,null,null,null,"いつ？","年","月","日","時／分"]
[null,"だれが？",null,null,null,null,null,null,null,null,2019,5,13,null,null,null,null,null,null,null,null,null,null,null,null,"現在",{"$f":"YEAR(NOW())","v":2019},{"$f":"MONTH(NOW())","v":5},{"$f":"DAY(NOW())","v":13},{"$f":"HOUR(NOW())","v":1},{"$f":"$K$8&$AE$9","v":""}]
[null,{"$f":"LEFT(C5,1)&\"～\"","v":"0～"},"フリガナ","固有番号",null,{"$f":"LEFT(G5,1)&\"～\"","v":"0～"},"フリガナ","固有番号",null,null,null,null,null,null,null,null,"被選択者",null,null,null,null,null,null,null,null,"転記日付",{"$f":"IF(K3=\"\",AA3,K3)","v":2019},{"$f":"IF(L3=\"\",AB3,L3)","v":5},{"$f":"IF(M3=\"\",AC3,M3)","v":13}]
[null,{"$f":"基本情報!F6","v":0},{"$f":"基本情報!G6","v":0},{"$f":"基本情報!C6","v":1001},null,{"$f":"基本情報!F21","v":0},{"$f":"基本情報!G21","v":0},{"$f":"基本情報!C21","v":1016},null,null,{"$f":"AC12","v":0},{"$f":"IF(K5=0,\"\",IF(AB9>1,\"さんたち\"&AB9&\"人\"&\"が・・・\",\"さんが・・・\"))","v":""},"記事消去",null,null,null,{"$f":"AC12&\" \"","v":" "},null,"個別報告","ひとりずつの個別記事として記録されます。",null,null,null,null,null,"日付判定",{"$f":"IF(AA3+AB3+AC3=AA4+AB4+AC4,0,1)","v":0},"コード",{"$f":"AA4*100000000+AB4*1000000+AC4*10000+N3*100+N4","v":201905130000}]
[null,{"$f":"基本情報!F7","v":0},{"$f":"基本情報!G7","v":0},{"$f":"基本情報!C7","v":1002},null,{"$f":"基本情報!F22","v":0},{"$f":"基本情報!G22","v":0},{"$f":"基本情報!C22","v":1017},null,null,null,"個別報告","まとめて報告","連絡事項",null,null,{"$f":"AC13&\" \"","v":" "},null,null,"最大15人まで同時記録が可能です。",null,null,null,null,null,"時刻",{"$f":"IF(AND(N3=\"\",N4=\"\"),\"\",Z7&\":\"&Z8&\" \")","v":""},"日付",{"$f":"AA4*10000+AB4*100+AC4","v":20190513}]
[null,{"$f":"基本情報!F8","v":0},{"$f":"基本情報!G8","v":0},{"$f":"基本情報!C8","v":1003},null,{"$f":"基本情報!F23","v":0},{"$f":"基本情報!G23","v":0},{"$f":"基本情報!C23","v":1018},null,null,"どこで・どうした？",null,null,null,null,null," ",null,null,null,null,null,null,null,null,{"$f":"IF(AND(N3=\"\",N4=\"\"),\"\",IF(N3=0,\"00\",N3))","v":""},"転記判定",{"$f":"AB8*AB9","v":0}]
[null,{"$f":"基本情報!F9","v":0},{"$f":"基本情報!G9","v":0},{"$f":"基本情報!C9","v":1004},null,{"$f":"基本情報!F24","v":0},{"$f":"基本情報!G24","v":0},{"$f":"基本情報!C24","v":1019},null,null,null,null,null,null,null,null," ",null,"連絡事項","主に職員への通達、連絡事項に使います。",null,null,null,null,null,{"$f":"IF(AND(N4=\"\",N3=\"\"),\"\",IF(N4=\"\",\"00\",IF(N4<10,\"0\"&N4,N4)))","v":""},"記事の有無",{"$f":"IF(K8=\"\",0,1)","v":0},null,"参加者",{"$f":"CONCATENATE(Q5,Q6,Q7,Q8,Q9,Q10,Q11,Q12,Q13,Q14,Q15,Q16,Q17,Q18,Q19)","v":"               "}]
[null,{"$f":"基本情報!F10","v":0},{"$f":"基本情報!G10","v":0},{"$f":"基本情報!C10","v":1005},null,{"$f":"基本情報!F25","v":0},{"$f":"基本情報!G25","v":0},{"$f":"基本情報!C25","v":1020},null,null,null,null,null,null,null,null," ",null,null,"対象者がいる場合は、まとめて連絡を使用してください。",null,null,null,null,null,{"$f":"ROUNDDOWN(MINUTE(NOW()),-1)","v":10},"選択数",{"$f":"COUNTA(AC12:AC26)","v":0},null,"転写語句"]
[null,{"$f":"基本情報!F11","v":0},{"$f":"基本情報!G11","v":0},{"$f":"基本情報!C11","v":1006},null,{"$f":"基本情報!F26","v":0},{"$f":"基本情報!G26","v":0},{"$f":"基本情報!C26","v":1021},null,null,null,null,null,null,null,null," "]
[null,{"$f":"基本情報!F12","v":0},{"$f":"基本情報!G12","v":0},{"$f":"基本情報!C12","v":1007},null,{"$f":"基本情報!F27","v":0},{"$f":"基本情報!G27","v":0},{"$f":"基本情報!C27","v":1022},null,null,null,null,null,null,null,null," ",null,"まとめて報告","個人記録として残す必要のないものを記帳します。",null,null,null,null,null,"固有番号検索","フリガナ検索","日付検索","お名前","フリガナ","固有番号","日付","記事","記録者",null,"検索１","検索２","検索３","お名前","フリガナ","固有番号","日付","記事","記録者"]
[null,{"$f":"基本情報!F13","v":0},{"$f":"基本情報!G13","v":0},{"$f":"基本情報!C13","v":1008},null,{"$f":"基本情報!F28","v":0},{"$f":"基本情報!G28","v":0},{"$f":"基本情報!C28","v":1023},null,null,null,null,"記録者",null,null,null," ",null,null,"利用者の名前は記事の中にまとめて記名されます。",null,null,null,null,1,{"$f":"AE12&$AC$6","v":"20190513"},{"$f":"LEFT(REPT(AD12,8),8)&$AC$6","v":"20190513"},{"$f":"$AC$5&AE12","v":"201905130000"},null,null,null,{"$f":"$AC$6","v":20190513},{"$f":"$AA$6&$K$8&\"  \n\"","v":"  \n"},{"$f":"$N$12","v":0},null,{"$f":"AO12&AC6","v":"200020190513"},{"$f":"LEFT(REPT(AN12,8),8)&AC6","v":"ヲヲヲヲヲヲヲヲ20190513"},{"$f":"AC6&9999&AO12","v":"2019051399992000"},"－","ヲ",2000,{"$f":"$AC$6","v":20190513},{"$f":"$AG$12&\" \n\"&AE8","v":"  \n \n               "},{"$f":"$N$12","v":0}]
[null,{"$f":"基本情報!F14","v":0},{"$f":"基本情報!G14","v":0},{"$f":"基本情報!C14","v":1009},null,{"$f":"基本情報!F29","v":0},{"$f":"基本情報!G29","v":0},{"$f":"基本情報!C29","v":1024},null,null,"登録語句（変更）","自由に登録できます！右クリックで転写が何度でも可能です。",null,null,null,null," ",null,null,"1～15人まで記名可能です。",null,null,null,null,2,{"$f":"AE13&$AC$6","v":"20190513"},{"$f":"LEFT(REPT(AD13,8),8)&$AC$6","v":"20190513"},{"$f":"$AC$5&AE13","v":"201905130000"},null,null,null,{"$f":"$AC$6","v":20190513},{"$f":"$AA$6&$K$8&\"  \n\"","v":"  \n"},{"$f":"$N$12","v":0}]
[null,{"$f":"基本情報!F15","v":0},{"$f":"基本情報!G15","v":0},{"$f":"基本情報!C15","v":1010},null,{"$f":"基本情報!F30","v":0},{"$f":"基本情報!G30","v":0},{"$f":"基本情報!C30","v":1025},null,null,null,null,null,null,null,null," ",null,null,null,null,null,null,null,3,"20190513","20190513","201905130000",null,null,null,20190513,"  \n",0]
[null,{"$f":"基本情報!F16","v":0},{"$f":"基本情報!G16","v":0},{"$f":"基本情報!C16","v":1011},null,{"$f":"基本情報!F31","v":0},{"$f":"基本情報!G31","v":0},{"$f":"基本情報!C31","v":1026},null,null,null,null,null,null,null,null," ",null,"登録語句（変更）","２４０フレーズまで登録が可能な入力補助機能です。",null,null,null,null,4,"20190513","20190513","201905130000",null,null,null,20190513,"  \n",0]
[null,{"$f":"基本情報!F17","v":0},{"$f":"基本情報!G17","v":0},{"$f":"基本情報!C17","v":1012},null,{"$f":"基本情報!F32","v":0},{"$f":"基本情報!G32","v":0},{"$f":"基本情報!C32","v":1027},null,null,null,null,null,null,null,null," ",null,null,"語句の上で右クリックすると、記事に転写されます。",null,null,null,null,5,"20190513","20190513","201905130000",null,null,null,20190513,"  \n",0]
[null,{"$f":"基本情報!F18","v":0},{"$f":"基本情報!G18","v":0},{"$f":"基本情報!C18","v":1013},null,{"$f":"基本情報!F33","v":0},{"$f":"基本情報!G33","v":0},{"$f":"基本情報!C33","v":1028},null,null,null,null,null,null,null,null," ",null,null,"このタグを右クリックすると、表示が入れ変わります。",null,null,null,null,6,"20190513","20190513","201905130000",null,null,null,20190513,"  \n",0]
[null,{"$f":"基本情報!F19","v":0},{"$f":"基本情報!G19","v":0},{"$f":"基本情報!C19","v":1014},null,{"$f":"基本情報!F34","v":0},{"$f":"基本情報!G34","v":0},{"$f":"基本情報!C34","v":1029},null,null,null,null,null,null,null,null," ",null,null,"良く使う表現を入れておくと大変便利です。",null,null,null,null,7,"20190513","20190513","201905130000",null,null,null,20190513,"  \n",0]
[null,{"$f":"基本情報!F20","v":0},{"$f":"基本情報!G20","v":0},{"$f":"基本情報!C20","v":1015},null,{"$f":"基本情報!F35","v":0},{"$f":"基本情報!G35","v":0},{"$f":"基本情報!C35","v":1030},null,null,null,null,null,null,null,null," ",null,null,null,null,null,null,null,8,"20190513","20190513","201905130000",null,null,null,20190513,"  \n",0]
[null,null,null,null,null,null,null,null,null,null,null,null,null,null,null,null,null,null,null,null,null,null,null,null,9,"20190513","20190513","201905130000",null,null,null,20190513,"  \n",0]
[null,{"$f":"LEFT(C22,1)&\"～\"","v":"0～"},"フリガナ","固有番号",null,{"$f":"LEFT(G22,1)&\"～\"","v":"0～"},"フリガナ","固有番号",null,null,null,null,null,null,null,null,null,null,null,null,null,null,null,null,10,"20190513","20190513","201905130000",null,null,null,20190513,"  \n",0]
[null,{"$f":"基本情報!F36","v":0},{"$f":"基本情報!G36","v":0},{"$f":"基本情報!C36","v":1031},null,{"$f":"基本情報!F66","v":0},{"$f":"基本情報!G66","v":0},{"$f":"基本情報!C66","v":1061},null,null,null,null,null,null,null,null,null,null,null,null,null,null,null,null,11,"20190513","20190513","201905130000",null,null,null,20190513,"  \n",0]
[null,{"$f":"基本情報!F37","v":0},{"$f":"基本情報!G37","v":0},{"$f":"基本情報!C37","v":1032},null,{"$f":"基本情報!F67","v":0},{"$f":"基本情報!G67","v":0},{"$f":"基本情報!C67","v":1062},null,null,null,null,null,null,null,null,null,null,null,null,null,null,null,null,12,"20190513","20190513","201905130000",null,null,null,20190513,"  \n",0]
[null,{"$f":"基本情報!F38","v":0},{"$f":"基本情報!G38","v":0},{"$f":"基本情報!C38","v":1033},null,{"$f":"基本情報!F68","v":0},{"$f":"基本情報!G68","v":0},{"$f":"基本情報!C68","v":1063},null,null,null,null,null,null,null,null,null,null,null,null,null,null,null,null,13,"20190513","20190513","201905130000",null,null,null,20190513,"  \n",0]
[null,{"$f":"基本情報!F39","v":0},{"$f":"基本情報!G39","v":0},{"$f":"基本情報!C39","v":1034},null,{"$f":"基本情報!F69","v":0},{"$f":"基本情報!G69","v":0},{"$f":"基本情報!C69","v":1064},null,null,null,null,null,null,null,null,null,null,null,null,null,null,null,null,14,"20190513","20190513","201905130000",null,null,null,20190513,"  \n",0]
[null,{"$f":"基本情報!F40","v":0},{"$f":"基本情報!G40","v":0},{"$f":"基本情報!C40","v":1035},null,{"$f":"基本情報!F70","v":0},{"$f":"基本情報!G70","v":0},{"$f":"基本情報!C70","v":1065},null,null,null,null,null,null,null,null,null,null,null,null,null,null,null,null,15,"20190513","20190513","201905130000",null,null,null,20190513,"  \n",0]
[null,{"$f":"基本情報!F41","v":0},{"$f":"基本情報!G41","v":0},{"$f":"基本情報!C41","v":1036},null,{"$f":"基本情報!F71","v":0},{"$f":"基本情報!G71","v":0},{"$f":"基本情報!C71","v":1066},null,null,null,null,null,null,null,null,null,null,null,null,null,null,null,null,null,null,{"$f":"AE27&AF27","v":""},{"$f":"AF27&AE27","v":""}]
[null,{"$f":"基本情報!F42","v":0},{"$f":"基本情報!G42","v":0},{"$f":"基本情報!C42","v":1037},null,{"$f":"基本情報!F72","v":0},{"$f":"基本情報!G72","v":0},{"$f":"基本情報!C72","v":1067}]
[null,{"$f":"基本情報!F43","v":0},{"$f":"基本情報!G43","v":0},{"$f":"基本情報!C43","v":1038},null,{"$f":"基本情報!F73","v":0},{"$f":"基本情報!G73","v":0},{"$f":"基本情報!C73","v":1068}]
[null,{"$f":"基本情報!F44","v":0},{"$f":"基本情報!G44","v":0},{"$f":"基本情報!C44","v":1039},null,{"$f":"基本情報!F74","v":0},{"$f":"基本情報!G74","v":0},{"$f":"基本情報!C74","v":1069}]
[null,{"$f":"基本情報!F45","v":0},{"$f":"基本情報!G45","v":0},{"$f":"基本情報!C45","v":1040},null,{"$f":"基本情報!F75","v":0},{"$f":"基本情報!G75","v":0},{"$f":"基本情報!C75","v":1070}]
[null,{"$f":"基本情報!F46","v":0},{"$f":"基本情報!G46","v":0},{"$f":"基本情報!C46","v":1041},null,{"$f":"基本情報!F76","v":0},{"$f":"基本情報!G76","v":0},{"$f":"基本情報!C76","v":1071}]
[null,{"$f":"基本情報!F47","v":0},{"$f":"基本情報!G47","v":0},{"$f":"基本情報!C47","v":1042},null,{"$f":"基本情報!F77","v":0},{"$f":"基本情報!G77","v":0},{"$f":"基本情報!C77","v":1072}]
[null,{"$f":"基本情報!F48","v":0},{"$f":"基本情報!G48","v":0},{"$f":"基本情報!C48","v":1043},null,{"$f":"基本情報!F78","v":0},{"$f":"基本情報!G78","v":0},{"$f":"基本情報!C78","v":1073}]
[null,{"$f":"基本情報!F49","v":0},{"$f":"基本情報!G49","v":0},{"$f":"基本情報!C49","v":1044},null,{"$f":"基本情報!F79","v":0},{"$f":"基本情報!G79","v":0},{"$f":"基本情報!C79","v":1074}]
[null,{"$f":"基本情報!F50","v":0},{"$f":"基本情報!G50","v":0},{"$f":"基本情報!C50","v":1045},null,{"$f":"基本情報!F80","v":0},{"$f":"基本情報!G80","v":0},{"$f":"基本情報!C80","v":1075}]
[null,{"$f":"基本情報!F51","v":0},{"$f":"基本情報!G51","v":0},{"$f":"基本情報!C51","v":1046},null,{"$f":"基本情報!F81","v":0},{"$f":"基本情報!G81","v":0},{"$f":"基本情報!C81","v":1076}]
[null,{"$f":"基本情報!F52","v":0},{"$f":"基本情報!G52","v":0},{"$f":"基本情報!C52","v":1047},null,{"$f":"基本情報!F82","v":0},{"$f":"基本情報!G82","v":0},{"$f":"基本情報!C82","v":1077}]
[null,{"$f":"基本情報!F53","v":0},{"$f":"基本情報!G53","v":0},{"$f":"基本情報!C53","v":1048},null,{"$f":"基本情報!F83","v":0},{"$f":"基本情報!G83","v":0},{"$f":"基本情報!C83","v":1078}]
[null,{"$f":"基本情報!F54","v":0},{"$f":"基本情報!G54","v":0},{"$f":"基本情報!C54","v":1049},null,{"$f":"基本情報!F84","v":0},{"$f":"基本情報!G84","v":0},{"$f":"基本情報!C84","v":1079}]
[null,{"$f":"基本情報!F55","v":0},{"$f":"基本情報!G55","v":0},{"$f":"基本情報!C55","v":1050},null,{"$f":"基本情報!F85","v":0},{"$f":"基本情報!G85","v":0},{"$f":"基本情報!C85","v":1080}]
[null,{"$f":"基本情報!F56","v":0},{"$f":"基本情報!G56","v":0},{"$f":"基本情報!C56","v":1051},null,{"$f":"基本情報!F86","v":0},{"$f":"基本情報!G86","v":0},{"$f":"基本情報!C86","v":1081}]
[null,{"$f":"基本情報!F57","v":0},{"$f":"基本情報!G57","v":0},{"$f":"基本情報!C57","v":1052},null,{"$f":"基本情報!F87","v":0},{"$f":"基本情報!G87","v":0},{"$f":"基本情報!C87","v":1082}]
[null,{"$f":"基本情報!F58","v":0},{"$f":"基本情報!G58","v":0},{"$f":"基本情報!C58","v":1053},null,{"$f":"基本情報!F88","v":0},{"$f":"基本情報!G88","v":0},{"$f":"基本情報!C88","v":1083}]
[null,{"$f":"基本情報!F59","v":0},{"$f":"基本情報!G59","v":0},{"$f":"基本情報!C59","v":1054},null,{"$f":"基本情報!F89","v":0},{"$f":"基本情報!G89","v":0},{"$f":"基本情報!C89","v":1084}]
[null,{"$f":"基本情報!F60","v":0},{"$f":"基本情報!G60","v":0},{"$f":"基本情報!C60","v":1055},null,{"$f":"基本情報!F90","v":0},{"$f":"基本情報!G90","v":0},{"$f":"基本情報!C90","v":1085}]
[null,{"$f":"基本情報!F61","v":0},{"$f":"基本情報!G61","v":0},{"$f":"基本情報!C61","v":1056},null,{"$f":"基本情報!F91","v":0},{"$f":"基本情報!G91","v":0},{"$f":"基本情報!C91","v":1086}]
[null,{"$f":"基本情報!F62","v":0},{"$f":"基本情報!G62","v":0},{"$f":"基本情報!C62","v":1057},null,{"$f":"基本情報!F92","v":0},{"$f":"基本情報!G92","v":0},{"$f":"基本情報!C92","v":1087}]
[null,{"$f":"基本情報!F63","v":0},{"$f":"基本情報!G63","v":0},{"$f":"基本情報!C63","v":1058},null,{"$f":"基本情報!F93","v":0},{"$f":"基本情報!G93","v":0},{"$f":"基本情報!C93","v":1088}]
[null,{"$f":"基本情報!F64","v":0},{"$f":"基本情報!G64","v":0},{"$f":"基本情報!C64","v":1059},null,{"$f":"基本情報!F94","v":0},{"$f":"基本情報!G94","v":0},{"$f":"基本情報!C94","v":1089}]
[null,{"$f":"基本情報!F65","v":0},{"$f":"基本情報!G65","v":0},{"$f":"基本情報!C65","v":1060},null,{"$f":"基本情報!F95","v":0},{"$f":"基本情報!G95","v":0},{"$f":"基本情報!C95","v":1090}]
[]
[null,{"$f":"LEFT(C54,1)&\"～\"","v":"0～"},"フリガナ","固有番号",null,{"$f":"LEFT(G54,1)&\"～\"","v":"0～"},"フリガナ","固有番号"]
[null,{"$f":"基本情報!F96","v":0},{"$f":"基本情報!G96","v":0},{"$f":"基本情報!C96","v":1091},null,{"$f":"基本情報!F126","v":0},{"$f":"基本情報!G126","v":0},{"$f":"基本情報!C126","v":1121}]
[null,{"$f":"基本情報!F97","v":0},{"$f":"基本情報!G97","v":0},{"$f":"基本情報!C97","v":1092},null,{"$f":"基本情報!F127","v":0},{"$f":"基本情報!G127","v":0},{"$f":"基本情報!C127","v":1122}]
[null,{"$f":"基本情報!F98","v":0},{"$f":"基本情報!G98","v":0},{"$f":"基本情報!C98","v":1093},null,{"$f":"基本情報!F128","v":0},{"$f":"基本情報!G128","v":0},{"$f":"基本情報!C128","v":1123}]
[null,{"$f":"基本情報!F99","v":0},{"$f":"基本情報!G99","v":0},{"$f":"基本情報!C99","v":1094},null,{"$f":"基本情報!F129","v":0},{"$f":"基本情報!G129","v":0},{"$f":"基本情報!C129","v":1124}]
[null,{"$f":"基本情報!F100","v":0},{"$f":"基本情報!G100","v":0},{"$f":"基本情報!C100","v":1095},null,{"$f":"基本情報!F130","v":0},{"$f":"基本情報!G130","v":0},{"$f":"基本情報!C130","v":1125}]
[null,{"$f":"基本情報!F101","v":0},{"$f":"基本情報!G101","v":0},{"$f":"基本情報!C101","v":1096},null,{"$f":"基本情報!F131","v":0},{"$f":"基本情報!G131","v":0},{"$f":"基本情報!C131","v":1126}]
[null,{"$f":"基本情報!F102","v":0},{"$f":"基本情報!G102","v":0},{"$f":"基本情報!C102","v":1097},null,{"$f":"基本情報!F132","v":0},{"$f":"基本情報!G132","v":0},{"$f":"基本情報!C132","v":1127}]
[null,{"$f":"基本情報!F103","v":0},{"$f":"基本情報!G103","v":0},{"$f":"基本情報!C103","v":1098},null,{"$f":"基本情報!F133","v":0},{"$f":"基本情報!G133","v":0},{"$f":"基本情報!C133","v":1128}]
[null,{"$f":"基本情報!F104","v":0},{"$f":"基本情報!G104","v":0},{"$f":"基本情報!C104","v":1099},null,{"$f":"基本情報!F134","v":0},{"$f":"基本情報!G134","v":0},{"$f":"基本情報!C134","v":1129}]
[null,{"$f":"基本情報!F105","v":0},{"$f":"基本情報!G105","v":0},{"$f":"基本情報!C105","v":1100},null,{"$f":"基本情報!F135","v":0},{"$f":"基本情報!G135","v":0},{"$f":"基本情報!C135","v":1130}]
[null,{"$f":"基本情報!F106","v":0},{"$f":"基本情報!G106","v":0},{"$f":"基本情報!C106","v":1101},null,{"$f":"基本情報!F136","v":0},{"$f":"基本情報!G136","v":0},{"$f":"基本情報!C136","v":1131}]
[null,{"$f":"基本情報!F107","v":0},{"$f":"基本情報!G107","v":0},{"$f":"基本情報!C107","v":1102},null,{"$f":"基本情報!F137","v":0},{"$f":"基本情報!G137","v":0},{"$f":"基本情報!C137","v":1132}]
[null,{"$f":"基本情報!F108","v":0},{"$f":"基本情報!G108","v":0},{"$f":"基本情報!C108","v":1103},null,{"$f":"基本情報!F138","v":0},{"$f":"基本情報!G138","v":0},{"$f":"基本情報!C138","v":1133}]
[null,{"$f":"基本情報!F109","v":0},{"$f":"基本情報!G109","v":0},{"$f":"基本情報!C109","v":1104},null,{"$f":"基本情報!F139","v":0},{"$f":"基本情報!G139","v":0},{"$f":"基本情報!C139","v":1134}]
[null,{"$f":"基本情報!F110","v":0},{"$f":"基本情報!G110","v":0},{"$f":"基本情報!C110","v":1105},null,{"$f":"基本情報!F140","v":0},{"$f":"基本情報!G140","v":0},{"$f":"基本情報!C140","v":1135}]
[null,{"$f":"基本情報!F111","v":0},{"$f":"基本情報!G111","v":0},{"$f":"基本情報!C111","v":1106},null,{"$f":"基本情報!F141","v":0},{"$f":"基本情報!G141","v":0},{"$f":"基本情報!C141","v":1136}]
[null,{"$f":"基本情報!F112","v":0},{"$f":"基本情報!G112","v":0},{"$f":"基本情報!C112","v":1107},null,{"$f":"基本情報!F142","v":0},{"$f":"基本情報!G142","v":0},{"$f":"基本情報!C142","v":1137}]
[null,{"$f":"基本情報!F113","v":0},{"$f":"基本情報!G113","v":0},{"$f":"基本情報!C113","v":1108},null,{"$f":"基本情報!F143","v":0},{"$f":"基本情報!G143","v":0},{"$f":"基本情報!C143","v":1138}]
[null,{"$f":"基本情報!F114","v":0},{"$f":"基本情報!G114","v":0},{"$f":"基本情報!C114","v":1109},null,{"$f":"基本情報!F144","v":0},{"$f":"基本情報!G144","v":0},{"$f":"基本情報!C144","v":1139}]
[null,{"$f":"基本情報!F115","v":0},{"$f":"基本情報!G115","v":0},{"$f":"基本情報!C115","v":1110},null,{"$f":"基本情報!F145","v":0},{"$f":"基本情報!G145","v":0},{"$f":"基本情報!C145","v":1140}]
[null,{"$f":"基本情報!F116","v":0},{"$f":"基本情報!G116","v":0},{"$f":"基本情報!C116","v":1111},null,{"$f":"基本情報!F146","v":0},{"$f":"基本情報!G146","v":0},{"$f":"基本情報!C146","v":1141}]
[null,{"$f":"基本情報!F117","v":0},{"$f":"基本情報!G117","v":0},{"$f":"基本情報!C117","v":1112},null,{"$f":"基本情報!F147","v":0},{"$f":"基本情報!G147","v":0},{"$f":"基本情報!C147","v":1142}]
[null,{"$f":"基本情報!F118","v":0},{"$f":"基本情報!G118","v":0},{"$f":"基本情報!C118","v":1113},null,{"$f":"基本情報!F148","v":0},{"$f":"基本情報!G148","v":0},{"$f":"基本情報!C148","v":1143}]
[null,{"$f":"基本情報!F119","v":0},{"$f":"基本情報!G119","v":0},{"$f":"基本情報!C119","v":1114},null,{"$f":"基本情報!F149","v":0},{"$f":"基本情報!G149","v":0},{"$f":"基本情報!C149","v":1144}]
[null,{"$f":"基本情報!F120","v":0},{"$f":"基本情報!G120","v":0},{"$f":"基本情報!C120","v":1115},null,{"$f":"基本情報!F150","v":0},{"$f":"基本情報!G150","v":0},{"$f":"基本情報!C150","v":1145}]
[null,{"$f":"基本情報!F121","v":0},{"$f":"基本情報!G121","v":0},{"$f":"基本情報!C121","v":1116},null,{"$f":"基本情報!F151","v":0},{"$f":"基本情報!G151","v":0},{"$f":"基本情報!C151","v":1146}]
[null,{"$f":"基本情報!F122","v":0},{"$f":"基本情報!G122","v":0},{"$f":"基本情報!C122","v":1117},null,{"$f":"基本情報!F152","v":0},{"$f":"基本情報!G152","v":0},{"$f":"基本情報!C152","v":1147}]
[null,{"$f":"基本情報!F123","v":0},{"$f":"基本情報!G123","v":0},{"$f":"基本情報!C123","v":1118},null,{"$f":"基本情報!F153","v":0},{"$f":"基本情報!G153","v":0},{"$f":"基本情報!C153","v":1148}]
[null,{"$f":"基本情報!F124","v":0},{"$f":"基本情報!G124","v":0},{"$f":"基本情報!C124","v":1119},null,{"$f":"基本情報!F154","v":0},{"$f":"基本情報!G154","v":0},{"$f":"基本情報!C154","v":1149}]
[null,{"$f":"基本情報!F125","v":0},{"$f":"基本情報!G125","v":0},{"$f":"基本情報!C125","v":1120},null,{"$f":"基本情報!F155","v":0},{"$f":"基本情報!G155","v":0},{"$f":"基本情報!C155","v":1150}]

{"sheet":"日記帳","index":4,"n_rows":156,"n_cols":33,"rows_kept":156,"cut":false,"hidden":false,"merged":[[4,17,5,17],[3,19,3,21]]}
[null,null,null,null,null,null,null,null,null,null,null,null,null,null,null,null,null,null,null,null,null,null,null,"名前","フリガナ","コード"]
[null,null,"メンテ完了",null,null,null,null,null,"右クリック以外で記事削除はしないでください。","名前順",null,null,"重要記事",null,null,null,null,null,null,"日付検索",null,null,null,{"$f":"IF($AD$4=\"\",\"\",VLOOKUP($AD$4,$M$7:$P$156,2))","v":0},{"$f":"IF($AD$4=\"\",\"\",VLOOKUP($AD$4,$M$7:$P$156,3))","v":0},{"$f":"IF($AD$4=\"\",\"\",VLOOKUP($AD$4,$M$7:$P$156,4))","v":1002},null,1,"～",2,"番を印刷",null,"連続印刷"]
[null,null,null,null,{"$f":"NOW()","v":"2019-05-13T01:10:40.540"},null,null,null,null,null,null,null,null,null,null,null,null,null,null,null,null,null,null,"名前","フリガナ","コード",null,null,null,null,null,null,"危険"]
[null,null,null,null,"名前順",null,null,null,{"$f":"職員名簿!G6&\" 介護日誌\"","v":" 介護日誌"},"日付順",null,null,"メンテナンス",null,null,null,null,"印刷対象者",null,"日付で検索",null,null,null,"荒木　貞芳","ｱﾗｷ　ｻﾀﾞﾖｼ",1003,null,"印刷",null,2,"番を印刷",null,"消去"]
[null,null,null,null,null,null,null,null,null,null,null,null,null,null,null,null,null,{"$f":"IF(AD4=\"\",\"\",VLOOKUP(AD4,M7:N156,2))","v":0},null,"年","月","日",null,"合成日付"]
[null,"コード","名前順","日付順","お名前\n（右クリック削除）","フリガナ","固有番号","日付","記事（記事は自由に変更できます。）","記録者","重要",null,null,"個別検索",null,null,null,null,null,2019,5,10,null,{"$f":"T6*10000+U6*100+V6","v":20190510}]
[null,null,null,null,null,null,null,null,null,null,null,null,1,{"$f":"基本情報!F6","v":0},{"$f":"基本情報!G6","v":0},{"$f":"基本情報!C6","v":1001},null,null,null,null,null,null,null,null,"日付","コード"]
[null,null,null,null,null,null,null,null,null,null,null,null,2,{"$f":"基本情報!F7","v":0},{"$f":"基本情報!G7","v":0},{"$f":"基本情報!C7","v":1002},null,null,null,null,null,null,null,"大きい",{"$f":"COUNTIF(H7:H30000,\">\"&X6)","v":0},{"$f":"COUNTIF($G$7:$G$30000,\">\"&$Z$4)","v":0}]
[null,null,null,null,null,null,null,null,null,null,null,null,3,{"$f":"基本情報!F8","v":0},{"$f":"基本情報!G8","v":0},{"$f":"基本情報!C8","v":1003},null,null,null,null,null,null,null,"小さい",{"$f":"COUNTIF(H7:H30000,\"<\"&X6)","v":0},{"$f":"COUNTIF($G$7:$G$30000,\"<\"&$Z$4)","v":0}]
[null,null,null,null,null,null,null,null,null,null,null,null,4,{"$f":"基本情報!F9","v":0},{"$f":"基本情報!G9","v":0},{"$f":"基本情報!C9","v":1004},null,null,null,null,null,null,null,"総数",{"$f":"COUNT(G7:G300000)","v":0},{"$f":"Y10","v":0}]
[null,null,null,null,null,null,null,null,null,null,null,null,5,{"$f":"基本情報!F10","v":0},{"$f":"基本情報!G10","v":0},{"$f":"基本情報!C10","v":1005},null,null,null,null,null,null,null,"一致数",{"$f":"COUNTIF(H7:H30000,X6)","v":0},{"$f":"COUNTIF($G$7:$G$30000,$Z$4)","v":0}]
[null,null,null,null,null,null,null,null,null,null,null,null,6,{"$f":"基本情報!F11","v":0},{"$f":"基本情報!G11","v":0},{"$f":"基本情報!C11","v":1006}]
[null,null,null,null,null,null,null,null,null,null,null,null,7,{"$f":"基本情報!F12","v":0},{"$f":"基本情報!G12","v":0},{"$f":"基本情報!C12","v":1007},null,null,null,null,null,null,null,"星の数",{"$f":"COUNTIF(K7:K30000,\"☆\")","v":0}]
[null,null,null,null,null,null,null,null,null,null,null,null,8,{"$f":"基本情報!F13","v":0},{"$f":"基本情報!G13","v":0},{"$f":"基本情報!C13","v":1008}]
[null,null,null,null,null,null,null,null,null,null,null,null,9,{"$f":"基本情報!F14","v":0},{"$f":"基本情報!G14","v":0},{"$f":"基本情報!C14","v":1009}]
[null,null,null,null,null,null,null,null,null,null,null,null,10,{"$f":"基本情報!F15","v":0},{"$f":"基本情報!G15","v":0},{"$f":"基本情報!C15","v":1010}]
[null,null,null,null,null,null,null,null,null,null,null,null,11,{"$f":"基本情報!F16","v":0},{"$f":"基本情報!G16","v":0},{"$f":"基本情報!C16","v":1011}]
[null,null,null,null,null,null,null,null,null,null,null,null,12,{"$f":"基本情報!F17","v":0},{"$f":"基本情報!G17","v":0},{"$f":"基本情報!C17","v":1012}]
[null,null,null,null,null,null,null,null,null,null,null,null,13,{"$f":"基本情報!F18","v":0},{"$f":"基本情報!G18","v":0},{"$f":"基本情報!C18","v":1013}]
[null,null,null,null,null,null,null,null,null,null,null,null,14,{"$f":"基本情報!F19","v":0},{"$f":"基本情報!G19","v":0},{"$f":"基本情報!C19","v":1014}]
[null,null,null,null,null,null,null,null,null,null,null,null,15,{"$f":"基本情報!F20","v":0},{"$f":"基本情報!G20","v":0},{"$f":"基本情報!C20","v":1015}]
[null,null,null,null,null,null,null,null,null,null,null,null,16,{"$f":"基本情報!F21","v":0},{"$f":"基本情報!G21","v":0},{"$f":"基本情報!C21","v":1016}]
[null,null,null,null,null,null,null,null,null,null,null,null,17,{"$f":"基本情報!F22","v":0},{"$f":"基本情報!G22","v":0},{"$f":"基本情報!C22","v":1017}]
[null,null,null,null,null,null,null,null,null,null,null,null,18,{"$f":"基本情報!F23","v":0},{"$f":"基本情報!G23","v":0},{"$f":"基本情報!C23","v":1018}]
[null,null,null,null,null,null,null,null,null,null,null,null,19,{"$f":"基本情報!F24","v":0},{"$f":"基本情報!G24","v":0},{"$f":"基本情報!C24","v":1019}]
[null,null,null,null,null,null,null,null,null,null,null,null,20,{"$f":"基本情報!F25","v":0},{"$f":"基本情報!G25","v":0},{"$f":"基本情報!C25","v":1020}]
[null,null,null,null,null,null,null,null,null,null,null,null,21,{"$f":"基本情報!F26","v":0},{"$f":"基本情報!G26","v":0},{"$f":"基本情報!C26","v":1021}]
[null,null,null,null,null,null,null,null,null,null,null,null,22,{"$f":"基本情報!F27","v":0},{"$f":"基本情報!G27","v":0},{"$f":"基本情報!C27","v":1022}]
[null,null,null,null,null,null,null,null,null,null,null,null,23,{"$f":"基本情報!F28","v":0},{"$f":"基本情報!G28","v":0},{"$f":"基本情報!C28","v":1023}]
[null,null,null,null,null,null,null,null,null,null,null,null,24,{"$f":"基本情報!F29","v":0},{"$f":"基本情報!G29","v":0},{"$f":"基本情報!C29","v":1024}]
[null,null,null,null,null,null,null,null,null,null,null,null,25,{"$f":"基本情報!F30","v":0},{"$f":"基本情報!G30","v":0},{"$f":"基本情報!C30","v":1025}]
[null,null,null,null,null,null,null,null,null,null,null,null,26,{"$f":"基本情報!F31","v":0},{"$f":"基本情報!G31","v":0},{"$f":"基本情報!C31","v":1026}]
[null,null,null,null,null,null,null,null,null,null,null,null,27,{"$f":"基本情報!F32","v":0},{"$f":"基本情報!G32","v":0},{"$f":"基本情報!C32","v":1027}]
[null,null,null,null,null,null,null,null,null,null,null,null,28,{"$f":"基本情報!F33","v":0},{"$f":"基本情報!G33","v":0},{"$f":"基本情報!C33","v":1028}]
[null,null,null,null,null,null,null,null,null,null,null,null,29,{"$f":"基本情報!F34","v":0},{"$f":"基本情報!G34","v":0},{"$f":"基本情報!C34","v":1029}]
[null,null,null,null,null,null,null,null,null,null,null,null,30,{"$f":"基本情報!F35","v":0},{"$f":"基本情報!G35","v":0},{"$f":"基本情報!C35","v":1030}]
[null,null,null,null,null,null,null,null,null,null,null,null,31,{"$f":"基本情報!F36","v":0},{"$f":"基本情報!G36","v":0},{"$f":"基本情報!C36","v":1031}]
[null,null,null,null,null,null,null,null,null,null,null,null,32,{"$f":"基本情報!F37","v":0},{"$f":"基本情報!G37","v":0},{"$f":"基本情報!C37","v":1032}]
[null,null,null,null,null,null,null,null,null,null,null,null,33,{"$f":"基本情報!F38","v":0},{"$f":"基本情報!G38","v":0},{"$f":"基本情報!C38","v":1033}]
[null,null,null,null,null,null,null,null,null,null,null,null,34,{"$f":"基本情報!F39","v":0},{"$f":"基本情報!G39","v":0},{"$f":"基本情報!C39","v":1034}]
[null,null,null,null,null,null,null,null,null,null,null,null,35,{"$f":"基本情報!F40","v":0},{"$f":"基本情報!G40","v":0},{"$f":"基本情報!C40","v":1035}]
[null,null,null,null,null,null,null,null,null,null,null,null,36,{"$f":"基本情報!F41","v":0},{"$f":"基本情報!G41","v":0},{"$f":"基本情報!C41","v":1036}]
[null,null,null,null,null,null,null,null,null,null,null,null,37,{"$f":"基本情報!F42","v":0},{"$f":"基本情報!G42","v":0},{"$f":"基本情報!C42","v":1037}]
[null,null,null,null,null,null,null,null,null,null,null,null,38,{"$f":"基本情報!F43","v":0},{"$f":"基本情報!G43","v":0},{"$f":"基本情報!C43","v":1038}]
[null,null,null,null,null,null,null,null,null,null,null,null,39,{"$f":"基本情報!F44","v":0},{"$f":"基本情報!G44","v":0},{"$f":"基本情報!C44","v":1039}]
[null,null,null,null,null,null,null,null,null,null,null,null,40,{"$f":"基本情報!F45","v":0},{"$f":"基本情報!G45","v":0},{"$f":"基本情報!C45","v":1040}]
[null,null,null,null,null,null,null,null,null,null,null,null,41,{"$f":"基本情報!F46","v":0},{"$f":"基本情報!G46","v":0},{"$f":"基本情報!C46","v":1041}]
[null,null,null,null,null,null,null,null,null,null,null,null,42,{"$f":"基本情報!F47","v":0},{"$f":"基本情報!G47","v":0},{"$f":"基本情報!C47","v":1042}]
[null,null,null,null,null,null,null,null,null,null,null,null,43,{"$f":"基本情報!F48","v":0},{"$f":"基本情報!G48","v":0},{"$f":"基本情報!C48","v":1043}]
[null,null,null,null,null,null,null,null,null,null,null,null,44,{"$f":"基本情報!F49","v":0},{"$f":"基本情報!G49","v":0},{"$f":"基本情報!C49","v":1044}]
[null,null,null,null,null,null,null,null,null,null,null,null,45,{"$f":"基本情報!F50","v":0},{"$f":"基本情報!G50","v":0},{"$f":"基本情報!C50","v":1045}]
[null,null,null,null,null,null,null,null,null,null,null,null,46,{"$f":"基本情報!F51","v":0},{"$f":"基本情報!G51","v":0},{"$f":"基本情報!C51","v":1046}]
[null,null,null,null,null,null,null,null,null,null,null,null,47,{"$f":"基本情報!F52","v":0},{"$f":"基本情報!G52","v":0},{"$f":"基本情報!C52","v":1047}]
[null,null,null,null,null,null,null,null,null,null,null,null,48,{"$f":"基本情報!F53","v":0},{"$f":"基本情報!G53","v":0},{"$f":"基本情報!C53","v":1048}]
[null,null,null,null,null,null,null,null,null,null,null,null,49,{"$f":"基本情報!F54","v":0},{"$f":"基本情報!G54","v":0},{"$f":"基本情報!C54","v":1049}]
[null,null,null,null,null,null,null,null,null,null,null,null,50,{"$f":"基本情報!F55","v":0},{"$f":"基本情報!G55","v":0},{"$f":"基本情報!C55","v":1050}]
[null,null,null,null,null,null,null,null,null,null,null,null,51,{"$f":"基本情報!F56","v":0},{"$f":"基本情報!G56","v":0},{"$f":"基本情報!C56","v":1051}]
[null,null,null,null,null,null,null,null,null,null,null,null,52,{"$f":"基本情報!F57","v":0},{"$f":"基本情報!G57","v":0},{"$f":"基本情報!C57","v":1052}]
[null,null,null,null,null,null,null,null,null,null,null,null,53,{"$f":"基本情報!F58","v":0},{"$f":"基本情報!G58","v":0},{"$f":"基本情報!C58","v":1053}]
[null,null,null,null,null,null,null,null,null,null,null,null,54,{"$f":"基本情報!F59","v":0},{"$f":"基本情報!G59","v":0},{"$f":"基本情報!C59","v":1054}]
[null,null,null,null,null,null,null,null,null,null,null,null,55,{"$f":"基本情報!F60","v":0},{"$f":"基本情報!G60","v":0},{"$f":"基本情報!C60","v":1055}]
[null,null,null,null,null,null,null,null,null,null,null,null,56,{"$f":"基本情報!F61","v":0},{"$f":"基本情報!G61","v":0},{"$f":"基本情報!C61","v":1056}]
[null,null,null,null,null,null,null,null,null,null,null,null,57,{"$f":"基本情報!F62","v":0},{"$f":"基本情報!G62","v":0},{"$f":"基本情報!C62","v":1057}]
[null,null,null,null,null,null,null,null,null,null,null,null,58,{"$f":"基本情報!F63","v":0},{"$f":"基本情報!G63","v":0},{"$f":"基本情報!C63","v":1058}]
[null,null,null,null,null,null,null,null,null,null,null,null,59,{"$f":"基本情報!F64","v":0},{"$f":"基本情報!G64","v":0},{"$f":"基本情報!C64","v":1059}]
[null,null,null,null,null,null,null,null,null,null,null,null,60,{"$f":"基本情報!F65","v":0},{"$f":"基本情報!G65","v":0},{"$f":"基本情報!C65","v":1060}]
[null,null,null,null,null,null,null,null,null,null,null,null,61,{"$f":"基本情報!F66","v":0},{"$f":"基本情報!G66","v":0},{"$f":"基本情報!C66","v":1061}]
[null,null,null,null,null,null,null,null,null,null,null,null,62,{"$f":"基本情報!F67","v":0},{"$f":"基本情報!G67","v":0},{"$f":"基本情報!C67","v":1062}]
[null,null,null,null,null,null,null,null,null,null,null,null,63,{"$f":"基本情報!F68","v":0},{"$f":"基本情報!G68","v":0},{"$f":"基本情報!C68","v":1063}]
[null,null,null,null,null,null,null,null,null,null,null,null,64,{"$f":"基本情報!F69","v":0},{"$f":"基本情報!G69","v":0},{"$f":"基本情報!C69","v":1064}]
[null,null,null,null,null,null,null,null,null,null,null,null,65,{"$f":"基本情報!F70","v":0},{"$f":"基本情報!G70","v":0},{"$f":"基本情報!C70","v":1065}]
[null,null,null,null,null,null,null,null,null,null,null,null,66,{"$f":"基本情報!F71","v":0},{"$f":"基本情報!G71","v":0},{"$f":"基本情報!C71","v":1066}]
[null,null,null,null,null,null,null,null,null,null,null,null,67,{"$f":"基本情報!F72","v":0},{"$f":"基本情報!G72","v":0},{"$f":"基本情報!C72","v":1067}]
[null,null,null,null,null,null,null,null,null,null,null,null,68,{"$f":"基本情報!F73","v":0},{"$f":"基本情報!G73","v":0},{"$f":"基本情報!C73","v":1068}]
[null,null,null,null,null,null,null,null,null,null,null,null,69,{"$f":"基本情報!F74","v":0},{"$f":"基本情報!G74","v":0},{"$f":"基本情報!C74","v":1069}]
[null,null,null,null,null,null,null,null,null,null,null,null,70,{"$f":"基本情報!F75","v":0},{"$f":"基本情報!G75","v":0},{"$f":"基本情報!C75","v":1070}]
[null,null,null,null,null,null,null,null,null,null,null,null,71,{"$f":"基本情報!F76","v":0},{"$f":"基本情報!G76","v":0},{"$f":"基本情報!C76","v":1071}]
[null,null,null,null,null,null,null,null,null,null,null,null,72,{"$f":"基本情報!F77","v":0},{"$f":"基本情報!G77","v":0},{"$f":"基本情報!C77","v":1072}]
[null,null,null,null,null,null,null,null,null,null,null,null,73,{"$f":"基本情報!F78","v":0},{"$f":"基本情報!G78","v":0},{"$f":"基本情報!C78","v":1073}]
[null,null,null,null,null,null,null,null,null,null,null,null,74,{"$f":"基本情報!F79","v":0},{"$f":"基本情報!G79","v":0},{"$f":"基本情報!C79","v":1074}]
[null,null,null,null,null,null,null,null,null,null,null,null,75,{"$f":"基本情報!F80","v":0},{"$f":"基本情報!G80","v":0},{"$f":"基本情報!C80","v":1075}]
[null,null,null,null,null,null,null,null,null,null,null,null,76,{"$f":"基本情報!F81","v":0},{"$f":"基本情報!G81","v":0},{"$f":"基本情報!C81","v":1076}]
[null,null,null,null,null,null,null,null,null,null,null,null,77,{"$f":"基本情報!F82","v":0},{"$f":"基本情報!G82","v":0},{"$f":"基本情報!C82","v":1077}]
[null,null,null,null,null,null,null,null,null,null,null,null,78,{"$f":"基本情報!F83","v":0},{"$f":"基本情報!G83","v":0},{"$f":"基本情報!C83","v":1078}]
[null,null,null,null,null,null,null,null,null,null,null,null,79,{"$f":"基本情報!F84","v":0},{"$f":"基本情報!G84","v":0},{"$f":"基本情報!C84","v":1079}]
[null,null,null,null,null,null,null,null,null,null,null,null,80,{"$f":"基本情報!F85","v":0},{"$f":"基本情報!G85","v":0},{"$f":"基本情報!C85","v":1080}]
[null,null,null,null,null,null,null,null,null,null,null,null,81,{"$f":"基本情報!F86","v":0},{"$f":"基本情報!G86","v":0},{"$f":"基本情報!C86","v":1081}]
[null,null,null,null,null,null,null,null,null,null,null,null,82,{"$f":"基本情報!F87","v":0},{"$f":"基本情報!G87","v":0},{"$f":"基本情報!C87","v":1082}]
[null,null,null,null,null,null,null,null,null,null,null,null,83,{"$f":"基本情報!F88","v":0},{"$f":"基本情報!G88","v":0},{"$f":"基本情報!C88","v":1083}]
[null,null,null,null,null,null,null,null,null,null,null,null,84,{"$f":"基本情報!F89","v":0},{"$f":"基本情報!G89","v":0},{"$f":"基本情報!C89","v":1084}]
[null,null,null,null,null,null,null,null,null,null,null,null,85,{"$f":"基本情報!F90","v":0},{"$f":"基本情報!G90","v":0},{"$f":"基本情報!C90","v":1085}]
[null,null,null,null,null,null,null,null,null,null,null,null,86,{"$f":"基本情報!F91","v":0},{"$f":"基本情報!G91","v":0},{"$f":"基本情報!C91","v":1086}]
[null,null,null,null,null,null,null,null,null,null,null,null,87,{"$f":"基本情報!F92","v":0},{"$f":"基本情報!G92","v":0},{"$f":"基本情報!C92","v":1087}]
[null,null,null,null,null,null,null,null,null,null,null,null,88,{"$f":"基本情報!F93","v":0},{"$f":"基本情報!G93","v":0},{"$f":"基本情報!C93","v":1088}]
[null,null,null,null,null,null,null,null,null,null,null,null,89,{"$f":"基本情報!F94","v":0},{"$f":"基本情報!G94","v":0},{"$f":"基本情報!C94","v":1089}]
[null,null,null,null,null,null,null,null,null,null,null,null,90,{"$f":"基本情報!F95","v":0},{"$f":"基本情報!G95","v":0},{"$f":"基本情報!C95","v":1090}]
[null,null,null,null,null,null,null,null,null,null,null,null,91,{"$f":"基本情報!F96","v":0},{"$f":"基本情報!G96","v":0},{"$f":"基本情報!C96","v":1091}]
[null,null,null,null,null,null,null,null,null,null,null,null,92,{"$f":"基本情報!F97","v":0},{"$f":"基本情報!G97","v":0},{"$f":"基本情報!C97","v":1092}]
[null,null,null,null,null,null,null,null,null,null,null,null,93,{"$f":"基本情報!F98","v":0},{"$f":"基本情報!G98","v":0},{"$f":"基本情報!C98","v":1093}]
[null,null,null,null,null,null,null,null,null,null,null,null,94,{"$f":"基本情報!F99","v":0},{"$f":"基本情報!G99","v":0},{"$f":"基本情報!C99","v":1094}]
[null,null,null,null,null,null,null,null,null,null,null,null,95,{"$f":"基本情報!F100","v":0},{"$f":"基本情報!G100","v":0},{"$f":"基本情報!C100","v":1095}]
[null,null,null,null,null,null,null,null,null,null,null,null,96,{"$f":"基本情報!F101","v":0},{"$f":"基本情報!G101","v":0},{"$f":"基本情報!C101","v":1096}]
[null,null,null,null,null,null,null,null,null,null,null,null,97,{"$f":"基本情報!F102","v":0},{"$f":"基本情報!G102","v":0},{"$f":"基本情報!C102","v":1097}]
[null,null,null,null,null,null,null,null,null,null,null,null,98,{"$f":"基本情報!F103","v":0},{"$f":"基本情報!G103","v":0},{"$f":"基本情報!C103","v":1098}]
[null,null,null,null,null,null,null,null,null,null,null,null,99,{"$f":"基本情報!F104","v":0},{"$f":"基本情報!G104","v":0},{"$f":"基本情報!C104","v":1099}]
[null,null,null,null,null,null,null,null,null,null,null,null,100,{"$f":"基本情報!F105","v":0},{"$f":"基本情報!G105","v":0},{"$f":"基本情報!C105","v":1100}]
[null,null,null,null,null,null,null,null,null,null,null,null,101,{"$f":"基本情報!F106","v":0},{"$f":"基本情報!G106","v":0},{"$f":"基本情報!C106","v":1101}]
[null,null,null,null,null,null,null,null,null,null,null,null,102,{"$f":"基本情報!F107","v":0},{"$f":"基本情報!G107","v":0},{"$f":"基本情報!C107","v":1102}]
[null,null,null,null,null,null,null,null,null,null,null,null,103,{"$f":"基本情報!F108","v":0},{"$f":"基本情報!G108","v":0},{"$f":"基本情報!C108","v":1103}]
[null,null,null,null,null,null,null,null,null,null,null,null,104,{"$f":"基本情報!F109","v":0},{"$f":"基本情報!G109","v":0},{"$f":"基本情報!C109","v":1104}]
[null,null,null,null,null,null,null,null,null,null,null,null,105,{"$f":"基本情報!F110","v":0},{"$f":"基本情報!G110","v":0},{"$f":"基本情報!C110","v":1105}]
[null,null,null,null,null,null,null,null,null,null,null,null,106,{"$f":"基本情報!F111","v":0},{"$f":"基本情報!G111","v":0},{"$f":"基本情報!C111","v":1106}]
[null,null,null,null,null,null,null,null,null,null,null,null,107,{"$f":"基本情報!F112","v":0},{"$f":"基本情報!G112","v":0},{"$f":"基本情報!C112","v":1107}]
[null,null,null,null,null,null,null,null,null,null,null,null,108,{"$f":"基本情報!F113","v":0},{"$f":"基本情報!G113","v":0},{"$f":"基本情報!C113","v":1108}]
[null,null,null,null,null,null,null,null,null,null,null,null,109,{"$f":"基本情報!F114","v":0},{"$f":"基本情報!G114","v":0},{"$f":"基本情報!C114","v":1109}]
[null,null,null,null,null,null,null,null,null,null,null,null,110,{"$f":"基本情報!F115","v":0},{"$f":"基本情報!G115","v":0},{"$f":"基本情報!C115","v":1110}]
[null,null,null,null,null,null,null,null,null,null,null,null,111,{"$f":"基本情報!F116","v":0},{"$f":"基本情報!G116","v":0},{"$f":"基本情報!C116","v":1111}]
[null,null,null,null,null,null,null,null,null,null,null,null,112,{"$f":"基本情報!F117","v":0},{"$f":"基本情報!G117","v":0},{"$f":"基本情報!C117","v":1112}]
[null,null,null,null,null,null,null,null,null,null,null,null,113,{"$f":"基本情報!F118","v":0},{"$f":"基本情報!G118","v":0},{"$f":"基本情報!C118","v":1113}]
[null,null,null,null,null,null,null,null,null,null,null,null,114,{"$f":"基本情報!F119","v":0},{"$f":"基本情報!G119","v":0},{"$f":"基本情報!C119","v":1114}]
[null,null,null,null,null,null,null,null,null,null,null,null,115,{"$f":"基本情報!F120","v":0},{"$f":"基本情報!G120","v":0},{"$f":"基本情報!C120","v":1115}]
[null,null,null,null,null,null,null,null,null,null,null,null,116,{"$f":"基本情報!F121","v":0},{"$f":"基本情報!G121","v":0},{"$f":"基本情報!C121","v":1116}]
[null,null,null,null,null,null,null,null,null,null,null,null,117,{"$f":"基本情報!F122","v":0},{"$f":"基本情報!G122","v":0},{"$f":"基本情報!C122","v":1117}]
[null,null,null,null,null,null,null,null,null,null,null,null,118,{"$f":"基本情報!F123","v":0},{"$f":"基本情報!G123","v":0},{"$f":"基本情報!C123","v":1118}]
[null,null,null,null,null,null,null,null,null,null,null,null,119,{"$f":"基本情報!F124","v":0},{"$f":"基本情報!G124","v":0},{"$f":"基本情報!C124","v":1119}]
[null,null,null,null,null,null,null,null,null,null,null,null,120,{"$f":"基本情報!F125","v":0},{"$f":"基本情報!G125","v":0},{"$f":"基本情報!C125","v":1120}]
[null,null,null,null,null,null,null,null,null,null,null,null,121,{"$f":"基本情報!F126","v":0},{"$f":"基本情報!G126","v":0},{"$f":"基本情報!C126","v":1121}]
[null,null,null,null,null,null,null,null,null,null,null,null,122,{"$f":"基本情報!F127","v":0},{"$f":"基本情報!G127","v":0},{"$f":"基本情報!C127","v":1122}]
[null,null,null,null,null,null,null,null,null,null,null,null,123,{"$f":"基本情報!F128","v":0},{"$f":"基本情報!G128","v":0},{"$f":"基本情報!C128","v":1123}]
[null,null,null,null,null,null,null,null,null,null,null,null,124,{"$f":"基本情報!F129","v":0},{"$f":"基本情報!G129","v":0},{"$f":"基本情報!C129","v":1124}]
[null,null,null,null,null,null,null,null,null,null,null,null,125,{"$f":"基本情報!F130","v":0},{"$f":"基本情報!G130","v":0},{"$f":"基本情報!C130","v":1125}]
[null,null,null,null,null,null,null,null,null,null,null,null,126,{"$f":"基本情報!F131","v":0},{"$f":"基本情報!G131","v":0},{"$f":"基本情報!C131","v":1126}]
[null,null,null,null,null,null,null,null,null,null,null,null,127,{"$f":"基本情報!F132","v":0},{"$f":"基本情報!G132","v":0},{"$f":"基本情報!C132","v":1127}]
[null,null,null,null,null,null,null,null,null,null,null,null,128,{"$f":"基本情報!F133","v":0},{"$f":"基本情報!G133","v":0},{"$f":"基本情報!C133","v":1128}]
[null,null,null,null,null,null,null,null,null,null,null,null,129,{"$f":"基本情報!F134","v":0},{"$f":"基本情報!G134","v":0},{"$f":"基本情報!C134","v":1129}]
[null,null,null,null,null,null,null,null,null,null,null,null,130,{"$f":"基本情報!F135","v":0},{"$f":"基本情報!G135","v":0},{"$f":"基本情報!C135","v":1130}]
[null,null,null,null,null,null,null,null,null,null,null,null,131,{"$f":"基本情報!F136","v":0},{"$f":"基本情報!G136","v":0},{"$f":"基本情報!C136","v":1131}]
[null,null,null,null,null,null,null,null,null,null,null,null,132,{"$f":"基本情報!F137","v":0},{"$f":"基本情報!G137","v":0},{"$f":"基本情報!C137","v":1132}]
[null,null,null,null,null,null,null,null,null,null,null,null,133,{"$f":"基本情報!F138","v":0},{"$f":"基本情報!G138","v":0},{"$f":"基本情報!C138","v":1133}]
[null,null,null,null,null,null,null,null,null,null,null,null,134,{"$f":"基本情報!F139","v":0},{"$f":"基本情報!G139","v":0},{"$f":"基本情報!C139","v":1134}]
[null,null,null,null,null,null,null,null,null,null,null,null,135,{"$f":"基本情報!F140","v":0},{"$f":"基本情報!G140","v":0},{"$f":"基本情報!C140","v":1135}]
[null,null,null,null,null,null,null,null,null,null,null,null,136,{"$f":"基本情報!F141","v":0},{"$f":"基本情報!G141","v":0},{"$f":"基本情報!C141","v":1136}]
[null,null,null,null,null,null,null,null,null,null,null,null,137,{"$f":"基本情報!F142","v":0},{"$f":"基本情報!G142","v":0},{"$f":"基本情報!C142","v":1137}]
[null,null,null,null,null,null,null,null,null,null,null,null,138,{"$f":"基本情報!F143","v":0},{"$f":"基本情報!G143","v":0},{"$f":"基本情報!C143","v":1138}]
[null,null,null,null,null,null,null,null,null,null,null,null,139,{"$f":"基本情報!F144","v":0},{"$f":"基本情報!G144","v":0},{"$f":"基本情報!C144","v":1139}]
[null,null,null,null,null,null,null,null,null,null,null,null,140,{"$f":"基本情報!F145","v":0},{"$f":"基本情報!G145","v":0},{"$f":"基本情報!C145","v":1140}]
[null,null,null,null,null,null,null,null,null,null,null,null,141,{"$f":"基本情報!F146","v":0},{"$f":"基本情報!G146","v":0},{"$f":"基本情報!C146","v":1141}]
[null,null,null,null,null,null,null,null,null,null,null,null,142,{"$f":"基本情報!F147","v":0},{"$f":"基本情報!G147","v":0},{"$f":"基本情報!C147","v":1142}]
[null,null,null,null,null,null,null,null,null,null,null,null,143,{"$f":"基本情報!F148","v":0},{"$f":"基本情報!G148","v":0},{"$f":"基本情報!C148","v":1143}]
[null,null,null,null,null,null,null,null,null,null,null,null,144,{"$f":"基本情報!F149","v":0},{"$f":"基本情報!G149","v":0},{"$f":"基本情報!C149","v":1144}]
[null,null,null,null,null,null,null,null,null,null,null,null,145,{"$f":"基本情報!F150","v":0},{"$f":"基本情報!G150","v":0},{"$f":"基本情報!C150","v":1145}]
[null,null,null,null,null,null,null,null,null,null,null,null,146,{"$f":"基本情報!F151","v":0},{"$f":"基本情報!G151","v":0},{"$f":"基本情報!C151","v":1146}]
[null,null,null,null,null,null,null,null,null,null,null,null,147,{"$f":"基本情報!F152","v":0},{"$f":"基本情報!G152","v":0},{"$f":"基本情報!C152","v":1147}]
[null,null,null,null,null,null,null,null,null,null,null,null,148,{"$f":"基本情報!F153","v":0},{"$f":"基本情報!G153","v":0},{"$f":"基本情報!C153","v":1148}]
[null,null,null,null,null,null,null,null,null,null,null,null,149,{"$f":"基本情報!F154","v":0},{"$f":"基本情報!G154","v":0},{"$f":"基本情報!C154","v":1149}]
[null,null,null,null,null,null,null,null,null,null,null,null,150,{"$f":"基本情報!F155","v":0},{"$f":"基本情報!G155","v":0},{"$f":"基本情報!C155","v":1150}]