{"text_format":"1","workbook":"xlsx","n_sheets":7,"sheets":["説明書","残高表","選択表","入力表","記録表","条件表","抽出表"],"not_rendered":{"charts":0,"images":0,"macros":1,"external_links":0,"defined_names":3,"comments":0,"pivot_tables":0},"unopened":[],"bounds":{"document_bytes":16777216,"sheet_cells":100000,"rows_first":2000,"rows_last":500,"rows_between":2000,"halvings":0,"cell_chars":16384,"cell_head_chars":4096},"cells_cut":0,"cells_raw":0,"read":"whole","date_system":"1900"}

{"sheet":"説明書","index":0,"n_rows":141,"n_cols":12,"rows_kept":141,"cut":false,"hidden":false,"merged":[[139,8,139,10],[14,4,14,5],[13,8,13,9],[13,11,13,12]]}
[]
[null,null,"【金銭管理Ver.２】　の使用方法"]
[]
[null,null,"特に注意すべきところ！"]
[null,null,"１．シートの保護はむやみに解除しないでください。"]
[null,null,"２．ドラック＆ドロップ、切り取り、行や列やセルの挿入あるいは削除、列や行全体のクリアは厳禁です。"]
[null,null,"３．文字の大きさの変更をするとマクロが作動しなくなることがあります。"]
[null,null,"※どうしても変更が必要な場合は、いったん保存し、開発者に意見を聞いてから行ってください。"]
[]
[]
[null,null,"【説明表】","取扱説明書です。"]
[]
[null,null,"このエクセルプログラムは以下の７枚のシートから構成されています。"]
[null,null,null,"【説明表】",null,null,"【選択表】",null,"【記録表】",null,null,"【抽出表】"]
[null,null,null,null,"【残高表】",null,null,"【入力表】",null,null,"【条件表】"]
[null,null,"シートの様々なところには、入力などを補助する仕組み（マクロプログラム）が隠されています。"]
[null,null,"その発動は、マウスの右クリックとＷクリックによって生じます。"]
[null,null,"詳細については各シートごとに説明します。"]
[]
[]
[]
[null,null,"【残高表】","利用者残高一覧表と金融機関マスタがあり、利用者名、銀行名を登録します。一番最初に準備を行うシートです。"]
[null,null,"１．金融機関マスタに銀行名を登録します。（最高15機関まで）"]
[null,null,"２．利用者名（フリガナ）、銀行名を登録してゆきます。銀行名はコード行を右クリックすると次々に現れます。"]
[null,null,"※口座番号は銀行名や保存記録とは直接連動していません。"]
[null,null,"　なお、口座番号欄は文字列扱いになっていますので、０から始まる数も記入できます。"]
[null,null,"３．優先欄を右クリックすると○が表示されます。○表示のない人は選択シートで末尾に回されます。"]
[null,null,"※金額合計が０の場合は背景がグリーンに、設定にない銀行口座を使用している場合は赤い背景になります。"]
[null,null,"４．残高表のＶ列とＷ列が合致しない場合、及び残高がマイナスになる場合はエラーの可能性が高いので注意しましょう。"]
[]
[null,null,"Ｗクリックでマクロが発動"]
[null,null,null,"名簿作成","選択表上に番号選択シートを作成します。"]
[null,null,null,"圧縮","計算式を消してシート全体の負荷を減らします。通常は圧縮状態になっています。"]
[null,null,null,"再計算","計算式を復活させて、残高を表示します。（配列数式による計算を行っています。）"]
[null,null,null,null,"※再計算は非常にメモリを消費し、パソコンに負荷をかけますので作業中は圧縮にしておくことをお勧めします。"]
[null,null,null,null,"※再計算をすると、優先列が色分けされて以下のように表示されます。"]
[null,null,null,null,null,"○","優先表示（残高なし）",null,"○","優先表示（口座金額と不整合：表示漏れ）"]
[null,null,null,null,null,"○","優先表示（残高あり）"]
[null,null,"右クリックでマクロが発動"]
[null,null,null,"優先列","○を表示。○が表示されると、名簿作成時に優先的に上位に配置されます。"]
[null,null,null,"コード列","金融機関名を表示します。繰り返しクリックで番号が増えます。"]
[]
[]
[]
[null,null,"【選択表】","番号選択シートがあり、主に人選入力を行います。"]
[null,null,"１．コード列を右クリックすると入力表にコードが転記されてゆきます。連続で10人まで選択できます。"]
[null,null,"　一人入力するたびに、「続けて選択しますか？」と聞いてきます。「いいえ」を選ぶと入力表にジャンプします。"]
[null,null,"２．間違った場合は一人消去ボタンで消すか、入力表に直接入力して直してください。"]
[]
[null,null,"Ｗクリックでマクロが発動"]
[null,null,null,"名簿更新","名簿を最新の状態に改め、五十音順、優先表示順に配列します。"]
[null,null,null,"一人消去","末尾の選択者を消去します。選択者を間違えた場合に使用します。"]
[]
[null,null,"右クリックでマクロが発動"]
[null,null,null,"コード列","入力表にコードを自動転記します。"]
[]
[]
[]
[null,null,"【入力表】","入力シートと明細マスタがあり、入力作業を行うメインシートです。"]
[null,null,"１．入力列のコードに直接入力（利用者選択）することも可能です。コードは３ケタに変換されます。"]
[null,null,"２．変更列を右クリックすると銀行名や明細内容が変更されます。"]
[null,null,"３．明細内容は明細マスタに直接入力し、番号を変更して選択します。自由記述もＯＫです。"]
[null,null,"４．処理基準日に日付を入れておくと、処理日欄の右クリックで同じ日付が転写されます。"]
[null,null,"　処理基準日が空欄の場合、右クリックで現在の日付が自動入力されます。　"]
[null,null,"　さらに右クリックするとマイナス1日、Ｗクリックで1日プラスとどんどん変化させることができます。"]
[null,null,"５．金額や明細の入力が終わったら転記ボタンを作動させて下さい。"]
[]
[null,null,"Ｗクリックでマクロが発動"]
[null,null,null,"転記","記録表に記述内容を転記します。"]
[]
[null,null,"右クリックでマクロが発動"]
[null,null,null,"変更列","金融機関名（残高表に登録したもの）、明細を変更します。"]
[null,null,null,"基準日欄","現在の日付を入力。（右クリックで－１日、Ｗクリックで＋１日）"]
[null,null,null,"処理日列","基準日を転記入力。（右クリックで－１日、Ｗクリックで＋１日）"]
[]
[]
[]
[null,null,"【記録表】","記録保存シートがあり、すべてのデータを保存管理します。"]
[null,null,"１．転記された記録を保存するシートです。日付順、名前順に並べ直すことが可能です。"]
[null,null,"２．記録修正する場合は、保護をいったん解除します。ただし、この作業には注意が必要です。"]
[null,null,"　修正は原則として、金額、明細だけにしてください。その他の変更はソフトが混乱するので非常に危険です。"]
[null,null,"３．修正が難しい場合、個人コード欄をＷクリックして記録を削除し、再度入力し直してください。"]
[]
[null,null,"Ｗクリックでマクロが発動"]
[null,null,null,"日付順","日付順に出納記録並べ直します。"]
[null,null,null,"名前順","名前ごと（コード順）に出納記録を並べ直します。"]
[null,null,null,"保護","シート全体に保護がかかっています。（通常の状態） Ｗクリックで保護を解除できます。"]
[null,null,null,"非保護","シートの保護が解除されている状態です。Ｗクリックでシートを保護に戻ります。"]
[]
[null,null,"Ｗクリックでマクロが発動"]
[null,null,null,"個人ｺｰﾄﾞ列","記録を削除します。この取り扱いには注意が必要です。"]
[null,null,null,null,"※誤操作による記録削除を避けるため、右クリックではなくＷクリック設定にしてあります。"]
[]
[]
[]
[null,null,"【条件表】","条件選択シートです。様々な抽出条件を設定して実行します。"]
[null,null,"１．利用者コード選択画面で対象者をのコードを選び右クリックします。（個人記録、月別個人のとき必須。）"]
[null,null,"２．日付欄で抽出月を決定します。（月別個人、全記録のとき必須。）"]
[null,null,"　※空欄をクリックすると自動的に現在の年月が入ります。もう一度クリックするとマイナス１されます。（１月は１２月になります。）"]
[null,null,"３．処理を行う該当者の範囲の番号を記入します。（全記録のときのみ必須。）"]
[]
[null,null,null,"名簿更新","名簿を最新の状態に改め、五十音順、優先表示順に配列します。（上位８０人まで表示）"]
[null,null,null,"個人記録","記録保存シートにある、選択された人の全記録を抽出します。"]
[null,null,null,"月別個人","記録保存シートにある、選択された人の選択された月の記録を抽出します。"]
[null,null,null,"全記録","記録保存シートにある、選択された月の全記録を抽出します。"]
[null,null,null,"記録抹消","対象者の全記録を抹消し、コード番号に他者を割り当てられるようにします。"]
[null,null,null,null,"※残高が残っていると抹消できません。また、抽出表に記録を抽出表示します。"]
[]
[]
[]
[null,null,"【抽出表】","条件選択シートで指定された条件に従って、データを抽出して表示します。"]
[]
[null,null,null,"消去","記録抽出シートの内容を消し、リセットします。"]
[null,null,null,null,"新しく記録を抽出するときに前の記録は自動消去されますので、使わなくても大丈夫です。"]
[]
[]
[]
[null,null,"開発履歴"]
[null,null,"2012-05-24","開発着手。（現システムソフトの更新の見込みがつかないため。）"]
[null,null,"2012-05-27","Ｖｅｒ．１　をリリース。 →　メモリ不足解消。同日のうちにＶｅｒ．２に改編。"]
[]
[]
[null,null,"店主敬曰"]
[null,null,"いつまでたっても更新しない金銭管理プログラムに業を煮やし、メーカーに問い合わせたのが３日前。"]
[null,null,"現システムはいまだにウィンドウズＸＰ対応であり、１年前のパソコンの変更から待ち続けていました。"]
[null,null,"ところが・・・メーカーからの返事は、開発予定が繰り延べになっていて見込みが立たないというものでした。"]
[null,null,"開発メーカーの本社は仙台市にあり、東日本大震災の影響を受けた（納入先の被災も含む）のも一因でしょう。"]
[null,null,"代わりのメーカーを探してくれていたようですが、ソフトの価格は５０万円くらいするといわれて絶句しました。"]
[null,null,"もともと、介護保険関係の請求管理は自分で開発していましたので、それならばと自分で作ることにしました。"]
[null,null,"そして、睡眠時間を削ること３日で試作版が完成しました。"]
[null,null,"機能的には、金銭台帳を見て作りましたので、最低限必要な機能はあると思います。"]
[null,null,"また、自分ならばこういう風にしておけば横着できる・・・というようなアイデアも盛り込んでいます。"]
[null,null,"趣味で作成していますので、至らない点は多々あると思いますが、結構凝ったつくりです。"]
[null,null,"計算集計領域を欲張ってしまったためか、プログラム全体で２メガを超えてしまったのが誤算です。"]
[null,null,"これについては改良の余地があると思うのですが、何が原因なのかまだわかっておりません。"]
[null,null,"そのため、メモリ量の少ないパソコンでは連続処理でオーバーフローすることもありますのでご注意ください。"]
[null,null,"プログラム記述ももっと洗練できるはずなのですが、面倒なのでここまで・・・。"]
[null,null,"腕に自信のある方はビジュアルベーシックエディターを開いて中を編集してみて下さい。"]
[]
[null,null,null,null,null,null,null,null,"2012-05-27"]
[null,null,null,null,null,null,null,null,"特別養護老人ホーム辰巳萬緑苑　施設長　小出浩丸"]

{"sheet":"残高表","index":1,"n_rows":205,"n_cols":26,"rows_kept":205,"cut":false,"hidden":false,"merged":[]}
[1,2,3,4,5,6,7,8,9,10,11,12,13,14,15,16,17,18,19,20,21]
[null,"※優先右クリックで○＝優先表示",null,null,null,null,null,null,null,null,null,"圧縮"]
[null,"※コード右クリックで金融機関選定",null,null,"名簿作成",null,"利用者残高一覧表",null,null,null,null,"再計算",null,null,null,null,null,null,null,null,null,null,null,null,"金融機関マスタ"]
[]
[null,"優先","番号","お名前","フリガナ","コード","金融機関","口座番号","残額","コード","金融機関","口座番号","残額","コード","金融機関","口座番号","残額","コード","金融機関","口座番号","残額","合計","記録表計",null,"番号","金融機関名"]
[null,null,1,null,null,null,{"$f":"IF(F6=\"\",\"\",VLOOKUP(F6,残高表!$Y$5:$Z$20,2))","v":""},null,null,null,{"$f":"IF(J6=\"\",\"\",VLOOKUP(J6,残高表!$Y$5:$Z$20,2))","v":""},null,null,null,{"$f":"IF(N6=\"\",\"\",VLOOKUP(N6,残高表!$Y$5:$Z$20,2))","v":""},null,null,null,{"$f":"IF(R6=\"\",\"\",VLOOKUP(R6,残高表!$Y$5:$Z$20,2))","v":""},null,null,null,null,null,1,"千葉興業銀行辰巳台支店"]
[null,null,2,null,null,null,{"$f":"IF(F7=\"\",\"\",VLOOKUP(F7,残高表!$Y$5:$Z$20,2))","v":""},null,null,null,{"$f":"IF(J7=\"\",\"\",VLOOKUP(J7,残高表!$Y$5:$Z$20,2))","v":""},null,null,null,{"$f":"IF(N7=\"\",\"\",VLOOKUP(N7,残高表!$Y$5:$Z$20,2))","v":""},null,null,null,{"$f":"IF(R7=\"\",\"\",VLOOKUP(R7,残高表!$Y$5:$Z$20,2))","v":""},null,null,null,null,null,2,"千葉興業銀行　定期預金"]
[null,null,3,null,null,null,{"$f":"IF(F8=\"\",\"\",VLOOKUP(F8,残高表!$Y$5:$Z$20,2))","v":""},null,null,null,{"$f":"IF(J8=\"\",\"\",VLOOKUP(J8,残高表!$Y$5:$Z$20,2))","v":""},null,null,null,{"$f":"IF(N8=\"\",\"\",VLOOKUP(N8,残高表!$Y$5:$Z$20,2))","v":""},null,null,null,{"$f":"IF(R8=\"\",\"\",VLOOKUP(R8,残高表!$Y$5:$Z$20,2))","v":""},null,null,null,null,null,3,"郵便局"]
[null,null,4,null,null,null,{"$f":"IF(F9=\"\",\"\",VLOOKUP(F9,残高表!$Y$5:$Z$20,2))","v":""},null,null,null,{"$f":"IF(J9=\"\",\"\",VLOOKUP(J9,残高表!$Y$5:$Z$20,2))","v":""},null,null,null,{"$f":"IF(N9=\"\",\"\",VLOOKUP(N9,残高表!$Y$5:$Z$20,2))","v":""},null,null,null,{"$f":"IF(R9=\"\",\"\",VLOOKUP(R9,残高表!$Y$5:$Z$20,2))","v":""},null,null,null,null,null,4,"郵便局　定期預金"]
[null,null,5,null,null,null,{"$f":"IF(F10=\"\",\"\",VLOOKUP(F10,残高表!$Y$5:$Z$20,2))","v":""},null,null,null,{"$f":"IF(J10=\"\",\"\",VLOOKUP(J10,残高表!$Y$5:$Z$20,2))","v":""},null,null,null,{"$f":"IF(N10=\"\",\"\",VLOOKUP(N10,残高表!$Y$5:$Z$20,2))","v":""},null,null,null,{"$f":"IF(R10=\"\",\"\",VLOOKUP(R10,残高表!$Y$5:$Z$20,2))","v":""},null,null,null,null,null,5,"千葉銀行八幡宿支店"]
[null,null,6,null,null,null,{"$f":"IF(F11=\"\",\"\",VLOOKUP(F11,残高表!$Y$5:$Z$20,2))","v":""},null,null,null,{"$f":"IF(J11=\"\",\"\",VLOOKUP(J11,残高表!$Y$5:$Z$20,2))","v":""},null,null,null,{"$f":"IF(N11=\"\",\"\",VLOOKUP(N11,残高表!$Y$5:$Z$20,2))","v":""},null,null,null,{"$f":"IF(R11=\"\",\"\",VLOOKUP(R11,残高表!$Y$5:$Z$20,2))","v":""},null,null,null,null,null,6]
[null,null,7,null,null,null,{"$f":"IF(F12=\"\",\"\",VLOOKUP(F12,残高表!$Y$5:$Z$20,2))","v":""},null,null,null,{"$f":"IF(J12=\"\",\"\",VLOOKUP(J12,残高表!$Y$5:$Z$20,2))","v":""},null,null,null,{"$f":"IF(N12=\"\",\"\",VLOOKUP(N12,残高表!$Y$5:$Z$20,2))","v":""},null,null,null,{"$f":"IF(R12=\"\",\"\",VLOOKUP(R12,残高表!$Y$5:$Z$20,2))","v":""},null,null,null,null,null,7]
[null,null,8,null,null,null,{"$f":"IF(F13=\"\",\"\",VLOOKUP(F13,残高表!$Y$5:$Z$20,2))","v":""},null,null,null,{"$f":"IF(J13=\"\",\"\",VLOOKUP(J13,残高表!$Y$5:$Z$20,2))","v":""},null,null,null,{"$f":"IF(N13=\"\",\"\",VLOOKUP(N13,残高表!$Y$5:$Z$20,2))","v":""},null,null,null,{"$f":"IF(R13=\"\",\"\",VLOOKUP(R13,残高表!$Y$5:$Z$20,2))","v":""},null,null,null,null,null,8]
[null,null,9,null,null,null,{"$f":"IF(F14=\"\",\"\",VLOOKUP(F14,残高表!$Y$5:$Z$20,2))","v":""},null,null,null,{"$f":"IF(J14=\"\",\"\",VLOOKUP(J14,残高表!$Y$5:$Z$20,2))","v":""},null,null,null,{"$f":"IF(N14=\"\",\"\",VLOOKUP(N14,残高表!$Y$5:$Z$20,2))","v":""},null,null,null,{"$f":"IF(R14=\"\",\"\",VLOOKUP(R14,残高表!$Y$5:$Z$20,2))","v":""},null,null,null,null,null,9]
[null,null,10,null,null,null,{"$f":"IF(F15=\"\",\"\",VLOOKUP(F15,残高表!$Y$5:$Z$20,2))","v":""},null,null,null,{"$f":"IF(J15=\"\",\"\",VLOOKUP(J15,残高表!$Y$5:$Z$20,2))","v":""},null,null,null,{"$f":"IF(N15=\"\",\"\",VLOOKUP(N15,残高表!$Y$5:$Z$20,2))","v":""},null,null,null,{"$f":"IF(R15=\"\",\"\",VLOOKUP(R15,残高表!$Y$5:$Z$20,2))","v":""},null,null,null,null,null,10]
[null,null,11,null,null,null,{"$f":"IF(F16=\"\",\"\",VLOOKUP(F16,残高表!$Y$5:$Z$20,2))","v":""},null,null,null,{"$f":"IF(J16=\"\",\"\",VLOOKUP(J16,残高表!$Y$5:$Z$20,2))","v":""},null,null,null,{"$f":"IF(N16=\"\",\"\",VLOOKUP(N16,残高表!$Y$5:$Z$20,2))","v":""},null,null,null,{"$f":"IF(R16=\"\",\"\",VLOOKUP(R16,残高表!$Y$5:$Z$20,2))","v":""},null,null,null,null,null,11]
[null,null,12,null,null,null,{"$f":"IF(F17=\"\",\"\",VLOOKUP(F17,残高表!$Y$5:$Z$20,2))","v":""},null,null,null,{"$f":"IF(J17=\"\",\"\",VLOOKUP(J17,残高表!$Y$5:$Z$20,2))","v":""},null,null,null,{"$f":"IF(N17=\"\",\"\",VLOOKUP(N17,残高表!$Y$5:$Z$20,2))","v":""},null,null,null,{"$f":"IF(R17=\"\",\"\",VLOOKUP(R17,残高表!$Y$5:$Z$20,2))","v":""},null,null,null,null,null,12]
[null,null,13,null,null,null,{"$f":"IF(F18=\"\",\"\",VLOOKUP(F18,残高表!$Y$5:$Z$20,2))","v":""},null,null,null,{"$f":"IF(J18=\"\",\"\",VLOOKUP(J18,残高表!$Y$5:$Z$20,2))","v":""},null,null,null,{"$f":"IF(N18=\"\",\"\",VLOOKUP(N18,残高表!$Y$5:$Z$20,2))","v":""},null,null,null,{"$f":"IF(R18=\"\",\"\",VLOOKUP(R18,残高表!$Y$5:$Z$20,2))","v":""},null,null,null,null,null,13]
[null,null,14,null,null,null,{"$f":"IF(F19=\"\",\"\",VLOOKUP(F19,残高表!$Y$5:$Z$20,2))","v":""},null,null,null,{"$f":"IF(J19=\"\",\"\",VLOOKUP(J19,残高表!$Y$5:$Z$20,2))","v":""},null,null,null,{"$f":"IF(N19=\"\",\"\",VLOOKUP(N19,残高表!$Y$5:$Z$20,2))","v":""},null,null,null,{"$f":"IF(R19=\"\",\"\",VLOOKUP(R19,残高表!$Y$5:$Z$20,2))","v":""},null,null,null,null,null,14]
[null,null,15,null,null,null,{"$f":"IF(F20=\"\",\"\",VLOOKUP(F20,残高表!$Y$5:$Z$20,2))","v":""},null,null,null,{"$f":"IF(J20=\"\",\"\",VLOOKUP(J20,残高表!$Y$5:$Z$20,2))","v":""},null,null,null,{"$f":"IF(N20=\"\",\"\",VLOOKUP(N20,残高表!$Y$5:$Z$20,2))","v":""},null,null,null,{"$f":"IF(R20=\"\",\"\",VLOOKUP(R20,残高表!$Y$5:$Z$20,2))","v":""},null,null,null,null,null,15,"その他"]
[null,null,16,null,null,null,{"$f":"IF(F21=\"\",\"\",VLOOKUP(F21,残高表!$Y$5:$Z$20,2))","v":""},null,null,null,{"$f":"IF(J21=\"\",\"\",VLOOKUP(J21,残高表!$Y$5:$Z$20,2))","v":""},null,null,null,{"$f":"IF(N21=\"\",\"\",VLOOKUP(N21,残高表!$Y$5:$Z$20,2))","v":""},null,null,null,{"$f":"IF(R21=\"\",\"\",VLOOKUP(R21,残高表!$Y$5:$Z$20,2))","v":""}]
[null,null,17,null,null,null,{"$f":"IF(F22=\"\",\"\",VLOOKUP(F22,残高表!$Y$5:$Z$20,2))","v":""},null,null,null,{"$f":"IF(J22=\"\",\"\",VLOOKUP(J22,残高表!$Y$5:$Z$20,2))","v":""},null,null,null,{"$f":"IF(N22=\"\",\"\",VLOOKUP(N22,残高表!$Y$5:$Z$20,2))","v":""},null,null,null,{"$f":"IF(R22=\"\",\"\",VLOOKUP(R22,残高表!$Y$5:$Z$20,2))","v":""}]
[null,null,18,null,null,null,{"$f":"IF(F23=\"\",\"\",VLOOKUP(F23,残高表!$Y$5:$Z$20,2))","v":""},null,null,null,{"$f":"IF(J23=\"\",\"\",VLOOKUP(J23,残高表!$Y$5:$Z$20,2))","v":""},null,null,null,{"$f":"IF(N23=\"\",\"\",VLOOKUP(N23,残高表!$Y$5:$Z$20,2))","v":""},null,null,null,{"$f":"IF(R23=\"\",\"\",VLOOKUP(R23,残高表!$Y$5:$Z$20,2))","v":""}]
[null,null,19,null,null,null,{"$f":"IF(F24=\"\",\"\",VLOOKUP(F24,残高表!$Y$5:$Z$20,2))","v":""},null,null,null,{"$f":"IF(J24=\"\",\"\",VLOOKUP(J24,残高表!$Y$5:$Z$20,2))","v":""},null,null,null,{"$f":"IF(N24=\"\",\"\",VLOOKUP(N24,残高表!$Y$5:$Z$20,2))","v":""},null,null,null,{"$f":"IF(R24=\"\",\"\",VLOOKUP(R24,残高表!$Y$5:$Z$20,2))","v":""}]
[null,null,20,null,null,null,{"$f":"IF(F25=\"\",\"\",VLOOKUP(F25,残高表!$Y$5:$Z$20,2))","v":""},null,null,null,{"$f":"IF(J25=\"\",\"\",VLOOKUP(J25,残高表!$Y$5:$Z$20,2))","v":""},null,null,null,{"$f":"IF(N25=\"\",\"\",VLOOKUP(N25,残高表!$Y$5:$Z$20,2))","v":""},null,null,null,{"$f":"IF(R25=\"\",\"\",VLOOKUP(R25,残高表!$Y$5:$Z$20,2))","v":""}]
[null,null,21,null,null,null,{"$f":"IF(F26=\"\",\"\",VLOOKUP(F26,残高表!$Y$5:$Z$20,2))","v":""},null,null,null,{"$f":"IF(J26=\"\",\"\",VLOOKUP(J26,残高表!$Y$5:$Z$20,2))","v":""},null,null,null,{"$f":"IF(N26=\"\",\"\",VLOOKUP(N26,残高表!$Y$5:$Z$20,2))","v":""},null,null,null,{"$f":"IF(R26=\"\",\"\",VLOOKUP(R26,残高表!$Y$5:$Z$20,2))","v":""}]
[null,null,22,null,null,null,{"$f":"IF(F27=\"\",\"\",VLOOKUP(F27,残高表!$Y$5:$Z$20,2))","v":""},null,null,null,{"$f":"IF(J27=\"\",\"\",VLOOKUP(J27,残高表!$Y$5:$Z$20,2))","v":""},null,null,null,{"$f":"IF(N27=\"\",\"\",VLOOKUP(N27,残高表!$Y$5:$Z$20,2))","v":""},null,null,null,{"$f":"IF(R27=\"\",\"\",VLOOKUP(R27,残高表!$Y$5:$Z$20,2))","v":""}]
[null,null,23,null,null,null,{"$f":"IF(F28=\"\",\"\",VLOOKUP(F28,残高表!$Y$5:$Z$20,2))","v":""},null,null,null,{"$f":"IF(J28=\"\",\"\",VLOOKUP(J28,残高表!$Y$5:$Z$20,2))","v":""},null,null,null,{"$f":"IF(N28=\"\",\"\",VLOOKUP(N28,残高表!$Y$5:$Z$20,2))","v":""},null,null,null,{"$f":"IF(R28=\"\",\"\",VLOOKUP(R28,残高表!$Y$5:$Z$20,2))","v":""}]
[null,null,24,null,null,null,{"$f":"IF(F29=\"\",\"\",VLOOKUP(F29,残高表!$Y$5:$Z$20,2))","v":""},null,null,null,{"$f":"IF(J29=\"\",\"\",VLOOKUP(J29,残高表!$Y$5:$Z$20,2))","v":""},null,null,null,{"$f":"IF(N29=\"\",\"\",VLOOKUP(N29,残高表!$Y$5:$Z$20,2))","v":""},null,null,null,{"$f":"IF(R29=\"\",\"\",VLOOKUP(R29,残高表!$Y$5:$Z$20,2))","v":""}]
[null,null,25,null,null,null,{"$f":"IF(F30=\"\",\"\",VLOOKUP(F30,残高表!$Y$5:$Z$20,2))","v":""},null,null,null,{"$f":"IF(J30=\"\",\"\",VLOOKUP(J30,残高表!$Y$5:$Z$20,2))","v":""},null,null,null,{"$f":"IF(N30=\"\",\"\",VLOOKUP(N30,残高表!$Y$5:$Z$20,2))","v":""},null,null,null,{"$f":"IF(R30=\"\",\"\",VLOOKUP(R30,残高表!$Y$5:$Z$20,2))","v":""}]
[null,null,26,null,null,null,{"$f":"IF(F31=\"\",\"\",VLOOKUP(F31,残高表!$Y$5:$Z$20,2))","v":""},null,null,null,{"$f":"IF(J31=\"\",\"\",VLOOKUP(J31,残高表!$Y$5:$Z$20,2))","v":""},null,null,null,{"$f":"IF(N31=\"\",\"\",VLOOKUP(N31,残高表!$Y$5:$Z$20,2))","v":""},null,null,null,{"$f":"IF(R31=\"\",\"\",VLOOKUP(R31,残高表!$Y$5:$Z$20,2))","v":""}]
[null,null,27,null,null,null,{"$f":"IF(F32=\"\",\"\",VLOOKUP(F32,残高表!$Y$5:$Z$20,2))","v":""},null,null,null,{"$f":"IF(J32=\"\",\"\",VLOOKUP(J32,残高表!$Y$5:$Z$20,2))","v":""},null,null,null,{"$f":"IF(N32=\"\",\"\",VLOOKUP(N32,残高表!$Y$5:$Z$20,2))","v":""},null,null,null,{"$f":"IF(R32=\"\",\"\",VLOOKUP(R32,残高表!$Y$5:$Z$20,2))","v":""}]
[null,null,28,null,null,null,{"$f":"IF(F33=\"\",\"\",VLOOKUP(F33,残高表!$Y$5:$Z$20,2))","v":""},null,null,null,{"$f":"IF(J33=\"\",\"\",VLOOKUP(J33,残高表!$Y$5:$Z$20,2))","v":""},null,null,null,{"$f":"IF(N33=\"\",\"\",VLOOKUP(N33,残高表!$Y$5:$Z$20,2))","v":""},null,null,null,{"$f":"IF(R33=\"\",\"\",VLOOKUP(R33,残高表!$Y$5:$Z$20,2))","v":""}]
[null,null,29,null,null,null,{"$f":"IF(F34=\"\",\"\",VLOOKUP(F34,残高表!$Y$5:$Z$20,2))","v":""},null,null,null,{"$f":"IF(J34=\"\",\"\",VLOOKUP(J34,残高表!$Y$5:$Z$20,2))","v":""},null,null,null,{"$f":"IF(N34=\"\",\"\",VLOOKUP(N34,残高表!$Y$5:$Z$20,2))","v":""},null,null,null,{"$f":"IF(R34=\"\",\"\",VLOOKUP(R34,残高表!$Y$5:$Z$20,2))","v":""}]
[null,null,30,null,null,null,{"$f":"IF(F35=\"\",\"\",VLOOKUP(F35,残高表!$Y$5:$Z$20,2))","v":""},null,null,null,{"$f":"IF(J35=\"\",\"\",VLOOKUP(J35,残高表!$Y$5:$Z$20,2))","v":""},null,null,null,{"$f":"IF(N35=\"\",\"\",VLOOKUP(N35,残高表!$Y$5:$Z$20,2))","v":""},null,null,null,{"$f":"IF(R35=\"\",\"\",VLOOKUP(R35,残高表!$Y$5:$Z$20,2))","v":""}]
[null,null,31,null,null,null,{"$f":"IF(F36=\"\",\"\",VLOOKUP(F36,残高表!$Y$5:$Z$20,2))","v":""},null,null,null,{"$f":"IF(J36=\"\",\"\",VLOOKUP(J36,残高表!$Y$5:$Z$20,2))","v":""},null,null,null,{"$f":"IF(N36=\"\",\"\",VLOOKUP(N36,残高表!$Y$5:$Z$20,2))","v":""},null,null,null,{"$f":"IF(R36=\"\",\"\",VLOOKUP(R36,残高表!$Y$5:$Z$20,2))","v":""}]
[null,null,32,null,null,null,{"$f":"IF(F37=\"\",\"\",VLOOKUP(F37,残高表!$Y$5:$Z$20,2))","v":""},null,null,null,{"$f":"IF(J37=\"\",\"\",VLOOKUP(J37,残高表!$Y$5:$Z$20,2))","v":""},null,null,null,{"$f":"IF(N37=\"\",\"\",VLOOKUP(N37,残高表!$Y$5:$Z$20,2))","v":""},null,null,null,{"$f":"IF(R37=\"\",\"\",VLOOKUP(R37,残高表!$Y$5:$Z$20,2))","v":""}]
[null,null,33,null,null,null,{"$f":"IF(F38=\"\",\"\",VLOOKUP(F38,残高表!$Y$5:$Z$20,2))","v":""},null,null,null,{"$f":"IF(J38=\"\",\"\",VLOOKUP(J38,残高表!$Y$5:$Z$20,2))","v":""},null,null,null,{"$f":"IF(N38=\"\",\"\",VLOOKUP(N38,残高表!$Y$5:$Z$20,2))","v":""},null,null,null,{"$f":"IF(R38=\"\",\"\",VLOOKUP(R38,残高表!$Y$5:$Z$20,2))","v":""}]
[null,null,34,null,null,null,{"$f":"IF(F39=\"\",\"\",VLOOKUP(F39,残高表!$Y$5:$Z$20,2))","v":""},null,null,null,{"$f":"IF(J39=\"\",\"\",VLOOKUP(J39,残高表!$Y$5:$Z$20,2))","v":""},null,null,null,{"$f":"IF(N39=\"\",\"\",VLOOKUP(N39,残高表!$Y$5:$Z$20,2))","v":""},null,null,null,{"$f":"IF(R39=\"\",\"\",VLOOKUP(R39,残高表!$Y$5:$Z$20,2))","v":""}]
[null,null,35,null,null,null,{"$f":"IF(F40=\"\",\"\",VLOOKUP(F40,残高表!$Y$5:$Z$20,2))","v":""},null,null,null,{"$f":"IF(J40=\"\",\"\",VLOOKUP(J40,残高表!$Y$5:$Z$20,2))","v":""},null,null,null,{"$f":"IF(N40=\"\",\"\",VLOOKUP(N40,残高表!$Y$5:$Z$20,2))","v":""},null,null,null,{"$f":"IF(R40=\"\",\"\",VLOOKUP(R40,残高表!$Y$5:$Z$20,2))","v":""}]
[null,null,36,null,null,null,{"$f":"IF(F41=\"\",\"\",VLOOKUP(F41,残高表!$Y$5:$Z$20,2))","v":""},null,null,null,{"$f":"IF(J41=\"\",\"\",VLOOKUP(J41,残高表!$Y$5:$Z$20,2))","v":""},null,null,null,{"$f":"IF(N41=\"\",\"\",VLOOKUP(N41,残高表!$Y$5:$Z$20,2))","v":""},null,null,null,{"$f":"IF(R41=\"\",\"\",VLOOKUP(R41,残高表!$Y$5:$Z$20,2))","v":""}]
[null,null,37,null,null,null,{"$f":"IF(F42=\"\",\"\",VLOOKUP(F42,残高表!$Y$5:$Z$20,2))","v":""},null,null,null,{"$f":"IF(J42=\"\",\"\",VLOOKUP(J42,残高表!$Y$5:$Z$20,2))","v":""},null,null,null,{"$f":"IF(N42=\"\",\"\",VLOOKUP(N42,残高表!$Y$5:$Z$20,2))","v":""},null,null,null,{"$f":"IF(R42=\"\",\"\",VLOOKUP(R42,残高表!$Y$5:$Z$20,2))","v":""}]
[null,null,38,null,null,null,{"$f":"IF(F43=\"\",\"\",VLOOKUP(F43,残高表!$Y$5:$Z$20,2))","v":""},null,null,null,{"$f":"IF(J43=\"\",\"\",VLOOKUP(J43,残高表!$Y$5:$Z$20,2))","v":""},null,null,null,{"$f":"IF(N43=\"\",\"\",VLOOKUP(N43,残高表!$Y$5:$Z$20,2))","v":""},null,null,null,{"$f":"IF(R43=\"\",\"\",VLOOKUP(R43,残高表!$Y$5:$Z$20,2))","v":""}]
[null,null,39,null,null,null,{"$f":"IF(F44=\"\",\"\",VLOOKUP(F44,残高表!$Y$5:$Z$20,2))","v":""},null,null,null,{"$f":"IF(J44=\"\",\"\",VLOOKUP(J44,残高表!$Y$5:$Z$20,2))","v":""},null,null,null,{"$f":"IF(N44=\"\",\"\",VLOOKUP(N44,残高表!$Y$5:$Z$20,2))","v":""},null,null,null,{"$f":"IF(R44=\"\",\"\",VLOOKUP(R44,残高表!$Y$5:$Z$20,2))","v":""}]
[null,null,40,null,null,null,{"$f":"IF(F45=\"\",\"\",VLOOKUP(F45,残高表!$Y$5:$Z$20,2))","v":""},null,null,null,{"$f":"IF(J45=\"\",\"\",VLOOKUP(J45,残高表!$Y$5:$Z$20,2))","v":""},null,null,null,{"$f":"IF(N45=\"\",\"\",VLOOKUP(N45,残高表!$Y$5:$Z$20,2))","v":""},null,null,null,{"$f":"IF(R45=\"\",\"\",VLOOKUP(R45,残高表!$Y$5:$Z$20,2))","v":""}]
[null,null,41,null,null,null,{"$f":"IF(F46=\"\",\"\",VLOOKUP(F46,残高表!$Y$5:$Z$20,2))","v":""},null,null,null,{"$f":"IF(J46=\"\",\"\",VLOOKUP(J46,残高表!$Y$5:$Z$20,2))","v":""},null,null,null,{"$f":"IF(N46=\"\",\"\",VLOOKUP(N46,残高表!$Y$5:$Z$20,2))","v":""},null,null,null,{"$f":"IF(R46=\"\",\"\",VLOOKUP(R46,残高表!$Y$5:$Z$20,2))","v":""}]
[null,null,42,null,null,null,{"$f":"IF(F47=\"\",\"\",VLOOKUP(F47,残高表!$Y$5:$Z$20,2))","v":""},null,null,null,{"$f":"IF(J47=\"\",\"\",VLOOKUP(J47,残高表!$Y$5:$Z$20,2))","v":""},null,null,null,{"$f":"IF(N47=\"\",\"\",VLOOKUP(N47,残高表!$Y$5:$Z$20,2))","v":""},null,null,null,{"$f":"IF(R47=\"\",\"\",VLOOKUP(R47,残高表!$Y$5:$Z$20,2))","v":""}]
[null,null,43,null,null,null,{"$f":"IF(F48=\"\",\"\",VLOOKUP(F48,残高表!$Y$5:$Z$20,2))","v":""},null,null,null,{"$f":"IF(J48=\"\",\"\",VLOOKUP(J48,残高表!$Y$5:$Z$20,2))","v":""},null,null,null,{"$f":"IF(N48=\"\",\"\",VLOOKUP(N48,残高表!$Y$5:$Z$20,2))","v":""},null,null,null,{"$f":"IF(R48=\"\",\"\",VLOOKUP(R48,残高表!$Y$5:$Z$20,2))","v":""}]
[null,null,44,null,null,null,{"$f":"IF(F49=\"\",\"\",VLOOKUP(F49,残高表!$Y$5:$Z$20,2))","v":""},null,null,null,{"$f":"IF(J49=\"\",\"\",VLOOKUP(J49,残高表!$Y$5:$Z$20,2))","v":""},null,null,null,{"$f":"IF(N49=\"\",\"\",VLOOKUP(N49,残高表!$Y$5:$Z$20,2))","v":""},null,null,null,{"$f":"IF(R49=\"\",\"\",VLOOKUP(R49,残高表!$Y$5:$Z$20,2))","v":""}]
[null,null,45,null,null,null,{"$f":"IF(F50=\"\",\"\",VLOOKUP(F50,残高表!$Y$5:$Z$20,2))","v":""},null,null,null,{"$f":"IF(J50=\"\",\"\",VLOOKUP(J50,残高表!$Y$5:$Z$20,2))","v":""},null,null,null,{"$f":"IF(N50=\"\",\"\",VLOOKUP(N50,残高表!$Y$5:$Z$20,2))","v":""},null,null,null,{"$f":"IF(R50=\"\",\"\",VLOOKUP(R50,残高表!$Y$5:$Z$20,2))","v":""}]
[null,null,46,null,null,null,{"$f":"IF(F51=\"\",\"\",VLOOKUP(F51,残高表!$Y$5:$Z$20,2))","v":""},null,null,null,{"$f":"IF(J51=\"\",\"\",VLOOKUP(J51,残高表!$Y$5:$Z$20,2))","v":""},null,null,null,{"$f":"IF(N51=\"\",\"\",VLOOKUP(N51,残高表!$Y$5:$Z$20,2))","v":""},null,null,null,{"$f":"IF(R51=\"\",\"\",VLOOKUP(R51,残高表!$Y$5:$Z$20,2))","v":""}]
[null,null,47,null,null,null,{"$f":"IF(F52=\"\",\"\",VLOOKUP(F52,残高表!$Y$5:$Z$20,2))","v":""},null,null,null,{"$f":"IF(J52=\"\",\"\",VLOOKUP(J52,残高表!$Y$5:$Z$20,2))","v":""},null,null,null,{"$f":"IF(N52=\"\",\"\",VLOOKUP(N52,残高表!$Y$5:$Z$20,2))","v":""},null,null,null,{"$f":"IF(R52=\"\",\"\",VLOOKUP(R52,残高表!$Y$5:$Z$20,2))","v":""}]
[null,null,48,null,null,null,{"$f":"IF(F53=\"\",\"\",VLOOKUP(F53,残高表!$Y$5:$Z$20,2))","v":""},null,null,null,{"$f":"IF(J53=\"\",\"\",VLOOKUP(J53,残高表!$Y$5:$Z$20,2))","v":""},null,null,null,{"$f":"IF(N53=\"\",\"\",VLOOKUP(N53,残高表!$Y$5:$Z$20,2))","v":""},null,null,null,{"$f":"IF(R53=\"\",\"\",VLOOKUP(R53,残高表!$Y$5:$Z$20,2))","v":""}]
[null,null,49,null,null,null,{"$f":"IF(F54=\"\",\"\",VLOOKUP(F54,残高表!$Y$5:$Z$20,2))","v":""},null,null,null,{"$f":"IF(J54=\"\",\"\",VLOOKUP(J54,残高表!$Y$5:$Z$20,2))","v":""},null,null,null,{"$f":"IF(N54=\"\",\"\",VLOOKUP(N54,残高表!$Y$5:$Z$20,2))","v":""},null,null,null,{"$f":"IF(R54=\"\",\"\",VLOOKUP(R54,残高表!$Y$5:$Z$20,2))","v":""}]
[null,null,50,null,null,null,{"$f":"IF(F55=\"\",\"\",VLOOKUP(F55,残高表!$Y$5:$Z$20,2))","v":""},null,null,null,{"$f":"IF(J55=\"\",\"\",VLOOKUP(J55,残高表!$Y$5:$Z$20,2))","v":""},null,null,null,{"$f":"IF(N55=\"\",\"\",VLOOKUP(N55,残高表!$Y$5:$Z$20,2))","v":""},null,null,null,{"$f":"IF(R55=\"\",\"\",VLOOKUP(R55,残高表!$Y$5:$Z$20,2))","v":""}]
[null,null,51,null,null,null,{"$f":"IF(F56=\"\",\"\",VLOOKUP(F56,残高表!$Y$5:$Z$20,2))","v":""},null,null,null,{"$f":"IF(J56=\"\",\"\",VLOOKUP(J56,残高表!$Y$5:$Z$20,2))","v":""},null,null,null,{"$f":"IF(N56=\"\",\"\",VLOOKUP(N56,残高表!$Y$5:$Z$20,2))","v":""},null,null,null,{"$f":"IF(R56=\"\",\"\",VLOOKUP(R56,残高表!$Y$5:$Z$20,2))","v":""}]
[null,null,52,null,null,null,{"$f":"IF(F57=\"\",\"\",VLOOKUP(F57,残高表!$Y$5:$Z$20,2))","v":""},null,null,null,{"$f":"IF(J57=\"\",\"\",VLOOKUP(J57,残高表!$Y$5:$Z$20,2))","v":""},null,null,null,{"$f":"IF(N57=\"\",\"\",VLOOKUP(N57,残高表!$Y$5:$Z$20,2))","v":""},null,null,null,{"$f":"IF(R57=\"\",\"\",VLOOKUP(R57,残高表!$Y$5:$Z$20,2))","v":""}]
[null,null,53,null,null,null,{"$f":"IF(F58=\"\",\"\",VLOOKUP(F58,残高表!$Y$5:$Z$20,2))","v":""},null,null,null,{"$f":"IF(J58=\"\",\"\",VLOOKUP(J58,残高表!$Y$5:$Z$20,2))","v":""},null,null,null,{"$f":"IF(N58=\"\",\"\",VLOOKUP(N58,残高表!$Y$5:$Z$20,2))","v":""},null,null,null,{"$f":"IF(R58=\"\",\"\",VLOOKUP(R58,残高表!$Y$5:$Z$20,2))","v":""}]
[null,null,54,null,null,null,{"$f":"IF(F59=\"\",\"\",VLOOKUP(F59,残高表!$Y$5:$Z$20,2))","v":""},null,null,null,{"$f":"IF(J59=\"\",\"\",VLOOKUP(J59,残高表!$Y$5:$Z$20,2))","v":""},null,null,null,{"$f":"IF(N59=\"\",\"\",VLOOKUP(N59,残高表!$Y$5:$Z$20,2))","v":""},null,null,null,{"$f":"IF(R59=\"\",\"\",VLOOKUP(R59,残高表!$Y$5:$Z$20,2))","v":""}]
[null,null,55,null,null,null,{"$f":"IF(F60=\"\",\"\",VLOOKUP(F60,残高表!$Y$5:$Z$20,2))","v":""},null,null,null,{"$f":"IF(J60=\"\",\"\",VLOOKUP(J60,残高表!$Y$5:$Z$20,2))","v":""},null,null,null,{"$f":"IF(N60=\"\",\"\",VLOOKUP(N60,残高表!$Y$5:$Z$20,2))","v":""},null,null,null,{"$f":"IF(R60=\"\",\"\",VLOOKUP(R60,残高表!$Y$5:$Z$20,2))","v":""}]
[null,null,56,null,null,null,{"$f":"IF(F61=\"\",\"\",VLOOKUP(F61,残高表!$Y$5:$Z$20,2))","v":""},null,null,null,{"$f":"IF(J61=\"\",\"\",VLOOKUP(J61,残高表!$Y$5:$Z$20,2))","v":""},null,null,null,{"$f":"IF(N61=\"\",\"\",VLOOKUP(N61,残高表!$Y$5:$Z$20,2))","v":""},null,null,null,{"$f":"IF(R61=\"\",\"\",VLOOKUP(R61,残高表!$Y$5:$Z$20,2))","v":""}]
[null,null,57,null,null,null,{"$f":"IF(F62=\"\",\"\",VLOOKUP(F62,残高表!$Y$5:$Z$20,2))","v":""},null,null,null,{"$f":"IF(J62=\"\",\"\",VLOOKUP(J62,残高表!$Y$5:$Z$20,2))","v":""},null,null,null,{"$f":"IF(N62=\"\",\"\",VLOOKUP(N62,残高表!$Y$5:$Z$20,2))","v":""},null,null,null,{"$f":"IF(R62=\"\",\"\",VLOOKUP(R62,残高表!$Y$5:$Z$20,2))","v":""}]
[null,null,58,null,null,null,{"$f":"IF(F63=\"\",\"\",VLOOKUP(F63,残高表!$Y$5:$Z$20,2))","v":""},null,null,null,{"$f":"IF(J63=\"\",\"\",VLOOKUP(J63,残高表!$Y$5:$Z$20,2))","v":""},null,null,null,{"$f":"IF(N63=\"\",\"\",VLOOKUP(N63,残高表!$Y$5:$Z$20,2))","v":""},null,null,null,{"$f":"IF(R63=\"\",\"\",VLOOKUP(R63,残高表!$Y$5:$Z$20,2))","v":""}]
[null,null,59,null,null,null,{"$f":"IF(F64=\"\",\"\",VLOOKUP(F64,残高表!$Y$5:$Z$20,2))","v":""},null,null,null,{"$f":"IF(J64=\"\",\"\",VLOOKUP(J64,残高表!$Y$5:$Z$20,2))","v":""},null,null,null,{"$f":"IF(N64=\"\",\"\",VLOOKUP(N64,残高表!$Y$5:$Z$20,2))","v":""},null,null,null,{"$f":"IF(R64=\"\",\"\",VLOOKUP(R64,残高表!$Y$5:$Z$20,2))","v":""}]
[null,null,60,null,null,null,{"$f":"IF(F65=\"\",\"\",VLOOKUP(F65,残高表!$Y$5:$Z$20,2))","v":""},null,null,null,{"$f":"IF(J65=\"\",\"\",VLOOKUP(J65,残高表!$Y$5:$Z$20,2))","v":""},null,null,null,{"$f":"IF(N65=\"\",\"\",VLOOKUP(N65,残高表!$Y$5:$Z$20,2))","v":""},null,null,null,{"$f":"IF(R65=\"\",\"\",VLOOKUP(R65,残高表!$Y$5:$Z$20,2))","v":""}]
[null,null,61,null,null,null,{"$f":"IF(F66=\"\",\"\",VLOOKUP(F66,残高表!$Y$5:$Z$20,2))","v":""},null,null,null,{"$f":"IF(J66=\"\",\"\",VLOOKUP(J66,残高表!$Y$5:$Z$20,2))","v":""},null,null,null,{"$f":"IF(N66=\"\",\"\",VLOOKUP(N66,残高表!$Y$5:$Z$20,2))","v":""},null,null,null,{"$f":"IF(R66=\"\",\"\",VLOOKUP(R66,残高表!$Y$5:$Z$20,2))","v":""}]
[null,null,62,null,null,null,{"$f":"IF(F67=\"\",\"\",VLOOKUP(F67,残高表!$Y$5:$Z$20,2))","v":""},null,null,null,{"$f":"IF(J67=\"\",\"\",VLOOKUP(J67,残高表!$Y$5:$Z$20,2))","v":""},null,null,null,{"$f":"IF(N67=\"\",\"\",VLOOKUP(N67,残高表!$Y$5:$Z$20,2))","v":""},null,null,null,{"$f":"IF(R67=\"\",\"\",VLOOKUP(R67,残高表!$Y$5:$Z$20,2))","v":""}]
[null,null,63,null,null,null,{"$f":"IF(F68=\"\",\"\",VLOOKUP(F68,残高表!$Y$5:$Z$20,2))","v":""},null,null,null,{"$f":"IF(J68=\"\",\"\",VLOOKUP(J68,残高表!$Y$5:$Z$20,2))","v":""},null,null,null,{"$f":"IF(N68=\"\",\"\",VLOOKUP(N68,残高表!$Y$5:$Z$20,2))","v":""},null,null,null,{"$f":"IF(R68=\"\",\"\",VLOOKUP(R68,残高表!$Y$5:$Z$20,2))","v":""}]
[null,null,64,null,null,null,{"$f":"IF(F69=\"\",\"\",VLOOKUP(F69,残高表!$Y$5:$Z$20,2))","v":""},null,null,null,{"$f":"IF(J69=\"\",\"\",VLOOKUP(J69,残高表!$Y$5:$Z$20,2))","v":""},null,null,null,{"$f":"IF(N69=\"\",\"\",VLOOKUP(N69,残高表!$Y$5:$Z$20,2))","v":""},null,null,null,{"$f":"IF(R69=\"\",\"\",VLOOKUP(R69,残高表!$Y$5:$Z$20,2))","v":""}]
[null,null,65,null,null,null,{"$f":"IF(F70=\"\",\"\",VLOOKUP(F70,残高表!$Y$5:$Z$20,2))","v":""},null,null,null,{"$f":"IF(J70=\"\",\"\",VLOOKUP(J70,残高表!$Y$5:$Z$20,2))","v":""},null,null,null,{"$f":"IF(N70=\"\",\"\",VLOOKUP(N70,残高表!$Y$5:$Z$20,2))","v":""},null,null,null,{"$f":"IF(R70=\"\",\"\",VLOOKUP(R70,残高表!$Y$5:$Z$20,2))","v":""}]
[null,null,66,null,null,null,{"$f":"IF(F71=\"\",\"\",VLOOKUP(F71,残高表!$Y$5:$Z$20,2))","v":""},null,null,null,{"$f":"IF(J71=\"\",\"\",VLOOKUP(J71,残高表!$Y$5:$Z$20,2))","v":""},null,null,null,{"$f":"IF(N71=\"\",\"\",VLOOKUP(N71,残高表!$Y$5:$Z$20,2))","v":""},null,null,null,{"$f":"IF(R71=\"\",\"\",VLOOKUP(R71,残高表!$Y$5:$Z$20,2))","v":""}]
[null,null,67,null,null,null,{"$f":"IF(F72=\"\",\"\",VLOOKUP(F72,残高表!$Y$5:$Z$20,2))","v":""},null,null,null,{"$f":"IF(J72=\"\",\"\",VLOOKUP(J72,残高表!$Y$5:$Z$20,2))","v":""},null,null,null,{"$f":"IF(N72=\"\",\"\",VLOOKUP(N72,残高表!$Y$5:$Z$20,2))","v":""},null,null,null,{"$f":"IF(R72=\"\",\"\",VLOOKUP(R72,残高表!$Y$5:$Z$20,2))","v":""}]
[null,null,68,null,null,null,{"$f":"IF(F73=\"\",\"\",VLOOKUP(F73,残高表!$Y$5:$Z$20,2))","v":""},null,null,null,{"$f":"IF(J73=\"\",\"\",VLOOKUP(J73,残高表!$Y$5:$Z$20,2))","v":""},null,null,null,{"$f":"IF(N73=\"\",\"\",VLOOKUP(N73,残高表!$Y$5:$Z$20,2))","v":""},null,null,null,{"$f":"IF(R73=\"\",\"\",VLOOKUP(R73,残高表!$Y$5:$Z$20,2))","v":""}]
[null,null,69,null,null,null,{"$f":"IF(F74=\"\",\"\",VLOOKUP(F74,残高表!$Y$5:$Z$20,2))","v":""},null,null,null,{"$f":"IF(J74=\"\",\"\",VLOOKUP(J74,残高表!$Y$5:$Z$20,2))","v":""},null,null,null,{"$f":"IF(N74=\"\",\"\",VLOOKUP(N74,残高表!$Y$5:$Z$20,2))","v":""},null,null,null,{"$f":"IF(R74=\"\",\"\",VLOOKUP(R74,残高表!$Y$5:$Z$20,2))","v":""}]
[null,null,70,null,null,null,{"$f":"IF(F75=\"\",\"\",VLOOKUP(F75,残高表!$Y$5:$Z$20,2))","v":""},null,null,null,{"$f":"IF(J75=\"\",\"\",VLOOKUP(J75,残高表!$Y$5:$Z$20,2))","v":""},null,null,null,{"$f":"IF(N75=\"\",\"\",VLOOKUP(N75,残高表!$Y$5:$Z$20,2))","v":""},null,null,null,{"$f":"IF(R75=\"\",\"\",VLOOKUP(R75,残高表!$Y$5:$Z$20,2))","v":""}]
[null,null,71,null,null,null,{"$f":"IF(F76=\"\",\"\",VLOOKUP(F76,残高表!$Y$5:$Z$20,2))","v":""},null,null,null,{"$f":"IF(J76=\"\",\"\",VLOOKUP(J76,残高表!$Y$5:$Z$20,2))","v":""},null,null,null,{"$f":"IF(N76=\"\",\"\",VLOOKUP(N76,残高表!$Y$5:$Z$20,2))","v":""},null,null,null,{"$f":"IF(R76=\"\",\"\",VLOOKUP(R76,残高表!$Y$5:$Z$20,2))","v":""}]
[null,null,72,null,null,null,{"$f":"IF(F77=\"\",\"\",VLOOKUP(F77,残高表!$Y$5:$Z$20,2))","v":""},null,null,null,{"$f":"IF(J77=\"\",\"\",VLOOKUP(J77,残高表!$Y$5:$Z$20,2))","v":""},null,null,null,{"$f":"IF(N77=\"\",\"\",VLOOKUP(N77,残高表!$Y$5:$Z$20,2))","v":""},null,null,null,{"$f":"IF(R77=\"\",\"\",VLOOKUP(R77,残高表!$Y$5:$Z$20,2))","v":""}]
[null,null,73,null,null,null,{"$f":"IF(F78=\"\",\"\",VLOOKUP(F78,残高表!$Y$5:$Z$20,2))","v":""},null,null,null,{"$f":"IF(J78=\"\",\"\",VLOOKUP(J78,残高表!$Y$5:$Z$20,2))","v":""},null,null,null,{"$f":"IF(N78=\"\",\"\",VLOOKUP(N78,残高表!$Y$5:$Z$20,2))","v":""},null,null,null,{"$f":"IF(R78=\"\",\"\",VLOOKUP(R78,残高表!$Y$5:$Z$20,2))","v":""}]
[null,null,74,null,null,null,{"$f":"IF(F79=\"\",\"\",VLOOKUP(F79,残高表!$Y$5:$Z$20,2))","v":""},null,null,null,{"$f":"IF(J79=\"\",\"\",VLOOKUP(J79,残高表!$Y$5:$Z$20,2))","v":""},null,null,null,{"$f":"IF(N79=\"\",\"\",VLOOKUP(N79,残高表!$Y$5:$Z$20,2))","v":""},null,null,null,{"$f":"IF(R79=\"\",\"\",VLOOKUP(R79,残高表!$Y$5:$Z$20,2))","v":""}]
[null,null,75,null,null,null,{"$f":"IF(F80=\"\",\"\",VLOOKUP(F80,残高表!$Y$5:$Z$20,2))","v":""},null,null,null,{"$f":"IF(J80=\"\",\"\",VLOOKUP(J80,残高表!$Y$5:$Z$20,2))","v":""},null,null,null,{"$f":"IF(N80=\"\",\"\",VLOOKUP(N80,残高表!$Y$5:$Z$20,2))","v":""},null,null,null,{"$f":"IF(R80=\"\",\"\",VLOOKUP(R80,残高表!$Y$5:$Z$20,2))","v":""}]
[null,null,76,null,null,null,{"$f":"IF(F81=\"\",\"\",VLOOKUP(F81,残高表!$Y$5:$Z$20,2))","v":""},null,null,null,{"$f":"IF(J81=\"\",\"\",VLOOKUP(J81,残高表!$Y$5:$Z$20,2))","v":""},null,null,null,{"$f":"IF(N81=\"\",\"\",VLOOKUP(N81,残高表!$Y$5:$Z$20,2))","v":""},null,null,null,{"$f":"IF(R81=\"\",\"\",VLOOKUP(R81,残高表!$Y$5:$Z$20,2))","v":""}]
[null,null,77,null,null,null,{"$f":"IF(F82=\"\",\"\",VLOOKUP(F82,残高表!$Y$5:$Z$20,2))","v":""},null,null,null,{"$f":"IF(J82=\"\",\"\",VLOOKUP(J82,残高表!$Y$5:$Z$20,2))","v":""},null,null,null,{"$f":"IF(N82=\"\",\"\",VLOOKUP(N82,残高表!$Y$5:$Z$20,2))","v":""},null,null,null,{"$f":"IF(R82=\"\",\"\",VLOOKUP(R82,残高表!$Y$5:$Z$20,2))","v":""}]
[null,null,78,null,null,null,{"$f":"IF(F83=\"\",\"\",VLOOKUP(F83,残高表!$Y$5:$Z$20,2))","v":""},null,null,null,{"$f":"IF(J83=\"\",\"\",VLOOKUP(J83,残高表!$Y$5:$Z$20,2))","v":""},null,null,null,{"$f":"IF(N83=\"\",\"\",VLOOKUP(N83,残高表!$Y$5:$Z$20,2))","v":""},null,null,null,{"$f":"IF(R83=\"\",\"\",VLOOKUP(R83,残高表!$Y$5:$Z$20,2))","v":""}]
[null,null,79,null,null,null,{"$f":"IF(F84=\"\",\"\",VLOOKUP(F84,残高表!$Y$5:$Z$20,2))","v":""},null,null,null,{"$f":"IF(J84=\"\",\"\",VLOOKUP(J84,残高表!$Y$5:$Z$20,2))","v":""},null,null,null,{"$f":"IF(N84=\"\",\"\",VLOOKUP(N84,残高表!$Y$5:$Z$20,2))","v":""},null,null,null,{"$f":"IF(R84=\"\",\"\",VLOOKUP(R84,残高表!$Y$5:$Z$20,2))","v":""}]
[null,null,80,null,null,null,{"$f":"IF(F85=\"\",\"\",VLOOKUP(F85,残高表!$Y$5:$Z$20,2))","v":""},null,null,null,{"$f":"IF(J85=\"\",\"\",VLOOKUP(J85,残高表!$Y$5:$Z$20,2))","v":""},null,null,null,{"$f":"IF(N85=\"\",\"\",VLOOKUP(N85,残高表!$Y$5:$Z$20,2))","v":""},null,null,null,{"$f":"IF(R85=\"\",\"\",VLOOKUP(R85,残高表!$Y$5:$Z$20,2))","v":""}]
[null,null,81,null,null,null,{"$f":"IF(F86=\"\",\"\",VLOOKUP(F86,残高表!$Y$5:$Z$20,2))","v":""},null,null,null,{"$f":"IF(J86=\"\",\"\",VLOOKUP(J86,残高表!$Y$5:$Z$20,2))","v":""},null,null,null,{"$f":"IF(N86=\"\",\"\",VLOOKUP(N86,残高表!$Y$5:$Z$20,2))","v":""},null,null,null,{"$f":"IF(R86=\"\",\"\",VLOOKUP(R86,残高表!$Y$5:$Z$20,2))","v":""}]
[null,null,82,null,null,null,{"$f":"IF(F87=\"\",\"\",VLOOKUP(F87,残高表!$Y$5:$Z$20,2))","v":""},null,null,null,{"$f":"IF(J87=\"\",\"\",VLOOKUP(J87,残高表!$Y$5:$Z$20,2))","v":""},null,null,null,{"$f":"IF(N87=\"\",\"\",VLOOKUP(N87,残高表!$Y$5:$Z$20,2))","v":""},null,null,null,{"$f":"IF(R87=\"\",\"\",VLOOKUP(R87,残高表!$Y$5:$Z$20,2))","v":""}]
[null,null,83,null,null,null,{"$f":"IF(F88=\"\",\"\",VLOOKUP(F88,残高表!$Y$5:$Z$20,2))","v":""},null,null,null,{"$f":"IF(J88=\"\",\"\",VLOOKUP(J88,残高表!$Y$5:$Z$20,2))","v":""},null,null,null,{"$f":"IF(N88=\"\",\"\",VLOOKUP(N88,残高表!$Y$5:$Z$20,2))","v":""},null,null,null,{"$f":"IF(R88=\"\",\"\",VLOOKUP(R88,残高表!$Y$5:$Z$20,2))","v":""}]
[null,null,84,null,null,null,{"$f":"IF(F89=\"\",\"\",VLOOKUP(F89,残高表!$Y$5:$Z$20,2))","v":""},null,null,null,{"$f":"IF(J89=\"\",\"\",VLOOKUP(J89,残高表!$Y$5:$Z$20,2))","v":""},null,null,null,{"$f":"IF(N89=\"\",\"\",VLOOKUP(N89,残高表!$Y$5:$Z$20,2))","v":""},null,null,null,{"$f":"IF(R89=\"\",\"\",VLOOKUP(R89,残高表!$Y$5:$Z$20,2))","v":""}]
[null,null,85,null,null,null,{"$f":"IF(F90=\"\",\"\",VLOOKUP(F90,残高表!$Y$5:$Z$20,2))","v":""},null,null,null,{"$f":"IF(J90=\"\",\"\",VLOOKUP(J90,残高表!$Y$5:$Z$20,2))","v":""},null,null,null,{"$f":"IF(N90=\"\",\"\",VLOOKUP(N90,残高表!$Y$5:$Z$20,2))","v":""},null,null,null,{"$f":"IF(R90=\"\",\"\",VLOOKUP(R90,残高表!$Y$5:$Z$20,2))","v":""}]
[null,null,86,null,null,null,{"$f":"IF(F91=\"\",\"\",VLOOKUP(F91,残高表!$Y$5:$Z$20,2))","v":""},null,null,null,{"$f":"IF(J91=\"\",\"\",VLOOKUP(J91,残高表!$Y$5:$Z$20,2))","v":""},null,null,null,{"$f":"IF(N91=\"\",\"\",VLOOKUP(N91,残高表!$Y$5:$Z$20,2))","v":""},null,null,null,{"$f":"IF(R91=\"\",\"\",VLOOKUP(R91,残高表!$Y$5:$Z$20,2))","v":""}]
[null,null,87,null,null,null,{"$f":"IF(F92=\"\",\"\",VLOOKUP(F92,残高表!$Y$5:$Z$20,2))","v":""},null,null,null,{"$f":"IF(J92=\"\",\"\",VLOOKUP(J92,残高表!$Y$5:$Z$20,2))","v":""},null,null,null,{"$f":"IF(N92=\"\",\"\",VLOOKUP(N92,残高表!$Y$5:$Z$20,2))","v":""},null,null,null,{"$f":"IF(R92=\"\",\"\",VLOOKUP(R92,残高表!$Y$5:$Z$20,2))","v":""}]
[null,null,88,null,null,null,{"$f":"IF(F93=\"\",\"\",VLOOKUP(F93,残高表!$Y$5:$Z$20,2))","v":""},null,null,null,{"$f":"IF(J93=\"\",\"\",VLOOKUP(J93,残高表!$Y$5:$Z$20,2))","v":""},null,null,null,{"$f":"IF(N93=\"\",\"\",VLOOKUP(N93,残高表!$Y$5:$Z$20,2))","v":""},null,null,null,{"$f":"IF(R93=\"\",\"\",VLOOKUP(R93,残高表!$Y$5:$Z$20,2))","v":""}]
[null,null,89,null,null,null,{"$f":"IF(F94=\"\",\"\",VLOOKUP(F94,残高表!$Y$5:$Z$20,2))","v":""},null,null,null,{"$f":"IF(J94=\"\",\"\",VLOOKUP(J94,残高表!$Y$5:$Z$20,2))","v":""},null,null,null,{"$f":"IF(N94=\"\",\"\",VLOOKUP(N94,残高表!$Y$5:$Z$20,2))","v":""},null,null,null,{"$f":"IF(R94=\"\",\"\",VLOOKUP(R94,残高表!$Y$5:$Z$20,2))","v":""}]
[null,null,90,null,null,null,{"$f":"IF(F95=\"\",\"\",VLOOKUP(F95,残高表!$Y$5:$Z$20,2))","v":""},null,null,null,{"$f":"IF(J95=\"\",\"\",VLOOKUP(J95,残高表!$Y$5:$Z$20,2))","v":""},null,null,null,{"$f":"IF(N95=\"\",\"\",VLOOKUP(N95,残高表!$Y$5:$Z$20,2))","v":""},null,null,null,{"$f":"IF(R95=\"\",\"\",VLOOKUP(R95,残高表!$Y$5:$Z$20,2))","v":""}]
[null,null,91,null,null,null,{"$f":"IF(F96=\"\",\"\",VLOOKUP(F96,残高表!$Y$5:$Z$20,2))","v":""},null,null,null,{"$f":"IF(J96=\"\",\"\",VLOOKUP(J96,残高表!$Y$5:$Z$20,2))","v":""},null,null,null,{"$f":"IF(N96=\"\",\"\",VLOOKUP(N96,残高表!$Y$5:$Z$20,2))","v":""},null,null,null,{"$f":"IF(R96=\"\",\"\",VLOOKUP(R96,残高表!$Y$5:$Z$20,2))","v":""}]
[null,null,92,null,null,null,{"$f":"IF(F97=\"\",\"\",VLOOKUP(F97,残高表!$Y$5:$Z$20,2))","v":""},null,null,null,{"$f":"IF(J97=\"\",\"\",VLOOKUP(J97,残高表!$Y$5:$Z$20,2))","v":""},null,null,null,{"$f":"IF(N97=\"\",\"\",VLOOKUP(N97,残高表!$Y$5:$Z$20,2))","v":""},null,null,null,{"$f":"IF(R97=\"\",\"\",VLOOKUP(R97,残高表!$Y$5:$Z$20,2))","v":""}]
[null,null,93,null,null,null,{"$f":"IF(F98=\"\",\"\",VLOOKUP(F98,残高表!$Y$5:$Z$20,2))","v":""},null,null,null,{"$f":"IF(J98=\"\",\"\",VLOOKUP(J98,残高表!$Y$5:$Z$20,2))","v":""},null,null,null,{"$f":"IF(N98=\"\",\"\",VLOOKUP(N98,残高表!$Y$5:$Z$20,2))","v":""},null,null,null,{"$f":"IF(R98=\"\",\"\",VLOOKUP(R98,残高表!$Y$5:$Z$20,2))","v":""}]
[null,null,94,null,null,null,{"$f":"IF(F99=\"\",\"\",VLOOKUP(F99,残高表!$Y$5:$Z$20,2))","v":""},null,null,null,{"$f":"IF(J99=\"\",\"\",VLOOKUP(J99,残高表!$Y$5:$Z$20,2))","v":""},null,null,null,{"$f":"IF(N99=\"\",\"\",VLOOKUP(N99,残高表!$Y$5:$Z$20,2))","v":""},null,null,null,{"$f":"IF(R99=\"\",\"\",VLOOKUP(R99,残高表!$Y$5:$Z$20,2))","v":""}]
[null,null,95,null,null,null,{"$f":"IF(F100=\"\",\"\",VLOOKUP(F100,残高表!$Y$5:$Z$20,2))","v":""},null,null,null,{"$f":"IF(J100=\"\",\"\",VLOOKUP(J100,残高表!$Y$5:$Z$20,2))","v":""},null,null,null,{"$f":"IF(N100=\"\",\"\",VLOOKUP(N100,残高表!$Y$5:$Z$20,2))","v":""},null,null,null,{"$f":"IF(R100=\"\",\"\",VLOOKUP(R100,残高表!$Y$5:$Z$20,2))","v":""}]
[null,null,96,null,null,null,{"$f":"IF(F101=\"\",\"\",VLOOKUP(F101,残高表!$Y$5:$Z$20,2))","v":""},null,null,null,{"$f":"IF(J101=\"\",\"\",VLOOKUP(J101,残高表!$Y$5:$Z$20,2))","v":""},null,null,null,{"$f":"IF(N101=\"\",\"\",VLOOKUP(N101,残高表!$Y$5:$Z$20,2))","v":""},null,null,null,{"$f":"IF(R101=\"\",\"\",VLOOKUP(R101,残高表!$Y$5:$Z$20,2))","v":""}]
[null,null,97,null,null,null,{"$f":"IF(F102=\"\",\"\",VLOOKUP(F102,残高表!$Y$5:$Z$20,2))","v":""},null,null,null,{"$f":"IF(J102=\"\",\"\",VLOOKUP(J102,残高表!$Y$5:$Z$20,2))","v":""},null,null,null,{"$f":"IF(N102=\"\",\"\",VLOOKUP(N102,残高表!$Y$5:$Z$20,2))","v":""},null,null,null,{"$f":"IF(R102=\"\",\"\",VLOOKUP(R102,残高表!$Y$5:$Z$20,2))","v":""}]
[null,null,98,null,null,null,{"$f":"IF(F103=\"\",\"\",VLOOKUP(F103,残高表!$Y$5:$Z$20,2))","v":""},null,null,null,{"$f":"IF(J103=\"\",\"\",VLOOKUP(J103,残高表!$Y$5:$Z$20,2))","v":""},null,null,null,{"$f":"IF(N103=\"\",\"\",VLOOKUP(N103,残高表!$Y$5:$Z$20,2))","v":""},null,null,null,{"$f":"IF(R103=\"\",\"\",VLOOKUP(R103,残高表!$Y$5:$Z$20,2))","v":""}]
[null,null,99,null,null,null,{"$f":"IF(F104=\"\",\"\",VLOOKUP(F104,残高表!$Y$5:$Z$20,2))","v":""},null,null,null,{"$f":"IF(J104=\"\",\"\",VLOOKUP(J104,残高表!$Y$5:$Z$20,2))","v":""},null,null,null,{"$f":"IF(N104=\"\",\"\",VLOOKUP(N104,残高表!$Y$5:$Z$20,2))","v":""},null,null,null,{"$f":"IF(R104=\"\",\"\",VLOOKUP(R104,残高表!$Y$5:$Z$20,2))","v":""}]
[null,null,100,null,null,null,{"$f":"IF(F105=\"\",\"\",VLOOKUP(F105,残高表!$Y$5:$Z$20,2))","v":""},null,null,null,{"$f":"IF(J105=\"\",\"\",VLOOKUP(J105,残高表!$Y$5:$Z$20,2))","v":""},null,null,null,{"$f":"IF(N105=\"\",\"\",VLOOKUP(N105,残高表!$Y$5:$Z$20,2))","v":""},null,null,null,{"$f":"IF(R105=\"\",\"\",VLOOKUP(R105,残高表!$Y$5:$Z$20,2))","v":""}]
[null,null,101,null,null,null,{"$f":"IF(F106=\"\",\"\",VLOOKUP(F106,残高表!$Y$5:$Z$20,2))","v":""},null,null,null,{"$f":"IF(J106=\"\",\"\",VLOOKUP(J106,残高表!$Y$5:$Z$20,2))","v":""},null,null,null,{"$f":"IF(N106=\"\",\"\",VLOOKUP(N106,残高表!$Y$5:$Z$20,2))","v":""},null,null,null,{"$f":"IF(R106=\"\",\"\",VLOOKUP(R106,残高表!$Y$5:$Z$20,2))","v":""}]
[null,null,102,null,null,null,{"$f":"IF(F107=\"\",\"\",VLOOKUP(F107,残高表!$Y$5:$Z$20,2))","v":""},null,null,null,{"$f":"IF(J107=\"\",\"\",VLOOKUP(J107,残高表!$Y$5:$Z$20,2))","v":""},null,null,null,{"$f":"IF(N107=\"\",\"\",VLOOKUP(N107,残高表!$Y$5:$Z$20,2))","v":""},null,null,null,{"$f":"IF(R107=\"\",\"\",VLOOKUP(R107,残高表!$Y$5:$Z$20,2))","v":""}]
[null,null,103,null,null,null,{"$f":"IF(F108=\"\",\"\",VLOOKUP(F108,残高表!$Y$5:$Z$20,2))","v":""},null,null,null,{"$f":"IF(J108=\"\",\"\",VLOOKUP(J108,残高表!$Y$5:$Z$20,2))","v":""},null,null,null,{"$f":"IF(N108=\"\",\"\",VLOOKUP(N108,残高表!$Y$5:$Z$20,2))","v":""},null,null,null,{"$f":"IF(R108=\"\",\"\",VLOOKUP(R108,残高表!$Y$5:$Z$20,2))","v":""}]
[null,null,104,null,null,null,{"$f":"IF(F109=\"\",\"\",VLOOKUP(F109,残高表!$Y$5:$Z$20,2))","v":""},null,null,null,{"$f":"IF(J109=\"\",\"\",VLOOKUP(J109,残高表!$Y$5:$Z$20,2))","v":""},null,null,null,{"$f":"IF(N109=\"\",\"\",VLOOKUP(N109,残高表!$Y$5:$Z$20,2))","v":""},null,null,null,{"$f":"IF(R109=\"\",\"\",VLOOKUP(R109,残高表!$Y$5:$Z$20,2))","v":""}]
[null,null,105,null,null,null,{"$f":"IF(F110=\"\",\"\",VLOOKUP(F110,残高表!$Y$5:$Z$20,2))","v":""},null,null,null,{"$f":"IF(J110=\"\",\"\",VLOOKUP(J110,残高表!$Y$5:$Z$20,2))","v":""},null,null,null,{"$f":"IF(N110=\"\",\"\",VLOOKUP(N110,残高表!$Y$5:$Z$20,2))","v":""},null,null,null,{"$f":"IF(R110=\"\",\"\",VLOOKUP(R110,残高表!$Y$5:$Z$20,2))","v":""}]
[null,null,106,null,null,null,{"$f":"IF(F111=\"\",\"\",VLOOKUP(F111,残高表!$Y$5:$Z$20,2))","v":""},null,null,null,{"$f":"IF(J111=\"\",\"\",VLOOKUP(J111,残高表!$Y$5:$Z$20,2))","v":""},null,null,null,{"$f":"IF(N111=\"\",\"\",VLOOKUP(N111,残高表!$Y$5:$Z$20,2))","v":""},null,null,null,{"$f":"IF(R111=\"\",\"\",VLOOKUP(R111,残高表!$Y$5:$Z$20,2))","v":""}]
[null,null,107,null,null,null,{"$f":"IF(F112=\"\",\"\",VLOOKUP(F112,残高表!$Y$5:$Z$20,2))","v":""},null,null,null,{"$f":"IF(J112=\"\",\"\",VLOOKUP(J112,残高表!$Y$5:$Z$20,2))","v":""},null,null,null,{"$f":"IF(N112=\"\",\"\",VLOOKUP(N112,残高表!$Y$5:$Z$20,2))","v":""},null,null,null,{"$f":"IF(R112=\"\",\"\",VLOOKUP(R112,残高表!$Y$5:$Z$20,2))","v":""}]
[null,null,108,null,null,null,{"$f":"IF(F113=\"\",\"\",VLOOKUP(F113,残高表!$Y$5:$Z$20,2))","v":""},null,null,null,{"$f":"IF(J113=\"\",\"\",VLOOKUP(J113,残高表!$Y$5:$Z$20,2))","v":""},null,null,null,{"$f":"IF(N113=\"\",\"\",VLOOKUP(N113,残高表!$Y$5:$Z$20,2))","v":""},null,null,null,{"$f":"IF(R113=\"\",\"\",VLOOKUP(R113,残高表!$Y$5:$Z$20,2))","v":""}]
[null,null,109,null,null,null,{"$f":"IF(F114=\"\",\"\",VLOOKUP(F114,残高表!$Y$5:$Z$20,2))","v":""},null,null,null,{"$f":"IF(J114=\"\",\"\",VLOOKUP(J114,残高表!$Y$5:$Z$20,2))","v":""},null,null,null,{"$f":"IF(N114=\"\",\"\",VLOOKUP(N114,残高表!$Y$5:$Z$20,2))","v":""},null,null,null,{"$f":"IF(R114=\"\",\"\",VLOOKUP(R114,残高表!$Y$5:$Z$20,2))","v":""}]
[null,null,110,null,null,null,{"$f":"IF(F115=\"\",\"\",VLOOKUP(F115,残高表!$Y$5:$Z$20,2))","v":""},null,null,null,{"$f":"IF(J115=\"\",\"\",VLOOKUP(J115,残高表!$Y$5:$Z$20,2))","v":""},null,null,null,{"$f":"IF(N115=\"\",\"\",VLOOKUP(N115,残高表!$Y$5:$Z$20,2))","v":""},null,null,null,{"$f":"IF(R115=\"\",\"\",VLOOKUP(R115,残高表!$Y$5:$Z$20,2))","v":""}]
[null,null,111,null,null,null,{"$f":"IF(F116=\"\",\"\",VLOOKUP(F116,残高表!$Y$5:$Z$20,2))","v":""},null,null,null,{"$f":"IF(J116=\"\",\"\",VLOOKUP(J116,残高表!$Y$5:$Z$20,2))","v":""},null,null,null,{"$f":"IF(N116=\"\",\"\",VLOOKUP(N116,残高表!$Y$5:$Z$20,2))","v":""},null,null,null,{"$f":"IF(R116=\"\",\"\",VLOOKUP(R116,残高表!$Y$5:$Z$20,2))","v":""}]
[null,null,112,null,null,null,{"$f":"IF(F117=\"\",\"\",VLOOKUP(F117,残高表!$Y$5:$Z$20,2))","v":""},null,null,null,{"$f":"IF(J117=\"\",\"\",VLOOKUP(J117,残高表!$Y$5:$Z$20,2))","v":""},null,null,null,{"$f":"IF(N117=\"\",\"\",VLOOKUP(N117,残高表!$Y$5:$Z$20,2))","v":""},null,null,null,{"$f":"IF(R117=\"\",\"\",VLOOKUP(R117,残高表!$Y$5:$Z$20,2))","v":""}]
[null,null,113,null,null,null,{"$f":"IF(F118=\"\",\"\",VLOOKUP(F118,残高表!$Y$5:$Z$20,2))","v":""},null,null,null,{"$f":"IF(J118=\"\",\"\",VLOOKUP(J118,残高表!$Y$5:$Z$20,2))","v":""},null,null,null,{"$f":"IF(N118=\"\",\"\",VLOOKUP(N118,残高表!$Y$5:$Z$20,2))","v":""},null,null,null,{"$f":"IF(R118=\"\",\"\",VLOOKUP(R118,残高表!$Y$5:$Z$20,2))","v":""}]
[null,null,114,null,null,null,{"$f":"IF(F119=\"\",\"\",VLOOKUP(F119,残高表!$Y$5:$Z$20,2))","v":""},null,null,null,{"$f":"IF(J119=\"\",\"\",VLOOKUP(J119,残高表!$Y$5:$Z$20,2))","v":""},null,null,null,{"$f":"IF(N119=\"\",\"\",VLOOKUP(N119,残高表!$Y$5:$Z$20,2))","v":""},null,null,null,{"$f":"IF(R119=\"\",\"\",VLOOKUP(R119,残高表!$Y$5:$Z$20,2))","v":""}]
[null,null,115,null,null,null,{"$f":"IF(F120=\"\",\"\",VLOOKUP(F120,残高表!$Y$5:$Z$20,2))","v":""},null,null,null,{"$f":"IF(J120=\"\",\"\",VLOOKUP(J120,残高表!$Y$5:$Z$20,2))","v":""},null,null,null,{"$f":"IF(N120=\"\",\"\",VLOOKUP(N120,残高表!$Y$5:$Z$20,2))","v":""},null,null,null,{"$f":"IF(R120=\"\",\"\",VLOOKUP(R120,残高表!$Y$5:$Z$20,2))","v":""}]
[null,null,116,null,null,null,{"$f":"IF(F121=\"\",\"\",VLOOKUP(F121,残高表!$Y$5:$Z$20,2))","v":""},null,null,null,{"$f":"IF(J121=\"\",\"\",VLOOKUP(J121,残高表!$Y$5:$Z$20,2))","v":""},null,null,null,{"$f":"IF(N121=\"\",\"\",VLOOKUP(N121,残高表!$Y$5:$Z$20,2))","v":""},null,null,null,{"$f":"IF(R121=\"\",\"\",VLOOKUP(R121,残高表!$Y$5:$Z$20,2))","v":""}]
[null,null,117,null,null,null,{"$f":"IF(F122=\"\",\"\",VLOOKUP(F122,残高表!$Y$5:$Z$20,2))","v":""},null,null,null,{"$f":"IF(J122=\"\",\"\",VLOOKUP(J122,残高表!$Y$5:$Z$20,2))","v":""},null,null,null,{"$f":"IF(N122=\"\",\"\",VLOOKUP(N122,残高表!$Y$5:$Z$20,2))","v":""},null,null,null,{"$f":"IF(R122=\"\",\"\",VLOOKUP(R122,残高表!$Y$5:$Z$20,2))","v":""}]
[null,null,118,null,null,null,{"$f":"IF(F123=\"\",\"\",VLOOKUP(F123,残高表!$Y$5:$Z$20,2))","v":""},null,null,null,{"$f":"IF(J123=\"\",\"\",VLOOKUP(J123,残高表!$Y$5:$Z$20,2))","v":""},null,null,null,{"$f":"IF(N123=\"\",\"\",VLOOKUP(N123,残高表!$Y$5:$Z$20,2))","v":""},null,null,null,{"$f":"IF(R123=\"\",\"\",VLOOKUP(R123,残高表!$Y$5:$Z$20,2))","v":""}]
[null,null,119,null,null,null,{"$f":"IF(F124=\"\",\"\",VLOOKUP(F124,残高表!$Y$5:$Z$20,2))","v":""},null,null,null,{"$f":"IF(J124=\"\",\"\",VLOOKUP(J124,残高表!$Y$5:$Z$20,2))","v":""},null,null,null,{"$f":"IF(N124=\"\",\"\",VLOOKUP(N124,残高表!$Y$5:$Z$20,2))","v":""},null,null,null,{"$f":"IF(R124=\"\",\"\",VLOOKUP(R124,残高表!$Y$5:$Z$20,2))","v":""}]
[null,null,120,null,null,null,{"$f":"IF(F125=\"\",\"\",VLOOKUP(F125,残高表!$Y$5:$Z$20,2))","v":""},null,null,null,{"$f":"IF(J125=\"\",\"\",VLOOKUP(J125,残高表!$Y$5:$Z$20,2))","v":""},null,null,null,{"$f":"IF(N125=\"\",\"\",VLOOKUP(N125,残高表!$Y$5:$Z$20,2))","v":""},null,null,null,{"$f":"IF(R125=\"\",\"\",VLOOKUP(R125,残高表!$Y$5:$Z$20,2))","v":""}]
[null,null,121,null,null,null,{"$f":"IF(F126=\"\",\"\",VLOOKUP(F126,残高表!$Y$5:$Z$20,2))","v":""},null,null,null,{"$f":"IF(J126=\"\",\"\",VLOOKUP(J126,残高表!$Y$5:$Z$20,2))","v":""},null,null,null,{"$f":"IF(N126=\"\",\"\",VLOOKUP(N126,残高表!$Y$5:$Z$20,2))","v":""},null,null,null,{"$f":"IF(R126=\"\",\"\",VLOOKUP(R126,残高表!$Y$5:$Z$20,2))","v":""}]
[null,null,122,null,null,null,{"$f":"IF(F127=\"\",\"\",VLOOKUP(F127,残高表!$Y$5:$Z$20,2))","v":""},null,null,null,{"$f":"IF(J127=\"\",\"\",VLOOKUP(J127,残高表!$Y$5:$Z$20,2))","v":""},null,null,null,{"$f":"IF(N127=\"\",\"\",VLOOKUP(N127,残高表!$Y$5:$Z$20,2))","v":""},null,null,null,{"$f":"IF(R127=\"\",\"\",VLOOKUP(R127,残高表!$Y$5:$Z$20,2))","v":""}]
[null,null,123,null,null,null,{"$f":"IF(F128=\"\",\"\",VLOOKUP(F128,残高表!$Y$5:$Z$20,2))","v":""},null,null,null,{"$f":"IF(J128=\"\",\"\",VLOOKUP(J128,残高表!$Y$5:$Z$20,2))","v":""},null,null,null,{"$f":"IF(N128=\"\",\"\",VLOOKUP(N128,残高表!$Y$5:$Z$20,2))","v":""},null,null,null,{"$f":"IF(R128=\"\",\"\",VLOOKUP(R128,残高表!$Y$5:$Z$20,2))","v":""}]
[null,null,124,null,null,null,{"$f":"IF(F129=\"\",\"\",VLOOKUP(F129,残高表!$Y$5:$Z$20,2))","v":""},null,null,null,{"$f":"IF(J129=\"\",\"\",VLOOKUP(J129,残高表!$Y$5:$Z$20,2))","v":""},null,null,null,{"$f":"IF(N129=\"\",\"\",VLOOKUP(N129,残高表!$Y$5:$Z$20,2))","v":""},null,null,null,{"$f":"IF(R129=\"\",\"\",VLOOKUP(R129,残高表!$Y$5:$Z$20,2))","v":""}]
[null,null,125,null,null,null,{"$f":"IF(F130=\"\",\"\",VLOOKUP(F130,残高表!$Y$5:$Z$20,2))","v":""},null,null,null,{"$f":"IF(J130=\"\",\"\",VLOOKUP(J130,残高表!$Y$5:$Z$20,2))","v":""},null,null,null,{"$f":"IF(N130=\"\",\"\",VLOOKUP(N130,残高表!$Y$5:$Z$20,2))","v":""},null,null,null,{"$f":"IF(R130=\"\",\"\",VLOOKUP(R130,残高表!$Y$5:$Z$20,2))","v":""}]
[null,null,126,null,null,null,{"$f":"IF(F131=\"\",\"\",VLOOKUP(F131,残高表!$Y$5:$Z$20,2))","v":""},null,null,null,{"$f":"IF(J131=\"\",\"\",VLOOKUP(J131,残高表!$Y$5:$Z$20,2))","v":""},null,null,null,{"$f":"IF(N131=\"\",\"\",VLOOKUP(N131,残高表!$Y$5:$Z$20,2))","v":""},null,null,null,{"$f":"IF(R131=\"\",\"\",VLOOKUP(R131,残高表!$Y$5:$Z$20,2))","v":""}]
[null,null,127,null,null,null,{"$f":"IF(F132=\"\",\"\",VLOOKUP(F132,残高表!$Y$5:$Z$20,2))","v":""},null,null,null,{"$f":"IF(J132=\"\",\"\",VLOOKUP(J132,残高表!$Y$5:$Z$20,2))","v":""},null,null,null,{"$f":"IF(N132=\"\",\"\",VLOOKUP(N132,残高表!$Y$5:$Z$20,2))","v":""},null,null,null,{"$f":"IF(R132=\"\",\"\",VLOOKUP(R132,残高表!$Y$5:$Z$20,2))","v":""}]
[null,null,128,null,null,null,{"$f":"IF(F133=\"\",\"\",VLOOKUP(F133,残高表!$Y$5:$Z$20,2))","v":""},null,null,null,{"$f":"IF(J133=\"\",\"\",VLOOKUP(J133,残高表!$Y$5:$Z$20,2))","v":""},null,null,null,{"$f":"IF(N133=\"\",\"\",VLOOKUP(N133,残高表!$Y$5:$Z$20,2))","v":""},null,null,null,{"$f":"IF(R133=\"\",\"\",VLOOKUP(R133,残高表!$Y$5:$Z$20,2))","v":""}]
[null,null,129,null,null,null,{"$f":"IF(F134=\"\",\"\",VLOOKUP(F134,残高表!$Y$5:$Z$20,2))","v":""},null,null,null,{"$f":"IF(J134=\"\",\"\",VLOOKUP(J134,残高表!$Y$5:$Z$20,2))","v":""},null,null,null,{"$f":"IF(N134=\"\",\"\",VLOOKUP(N134,残高表!$Y$5:$Z$20,2))","v":""},null,null,null,{"$f":"IF(R134=\"\",\"\",VLOOKUP(R134,残高表!$Y$5:$Z$20,2))","v":""}]
[null,null,130,null,null,null,{"$f":"IF(F135=\"\",\"\",VLOOKUP(F135,残高表!$Y$5:$Z$20,2))","v":""},null,null,null,{"$f":"IF(J135=\"\",\"\",VLOOKUP(J135,残高表!$Y$5:$Z$20,2))","v":""},null,null,null,{"$f":"IF(N135=\"\",\"\",VLOOKUP(N135,残高表!$Y$5:$Z$20,2))","v":""},null,null,null,{"$f":"IF(R135=\"\",\"\",VLOOKUP(R135,残高表!$Y$5:$Z$20,2))","v":""}]
[null,null,131,null,null,null,{"$f":"IF(F136=\"\",\"\",VLOOKUP(F136,残高表!$Y$5:$Z$20,2))","v":""},null,null,null,{"$f":"IF(J136=\"\",\"\",VLOOKUP(J136,残高表!$Y$5:$Z$20,2))","v":""},null,null,null,{"$f":"IF(N136=\"\",\"\",VLOOKUP(N136,残高表!$Y$5:$Z$20,2))","v":""},null,null,null,{"$f":"IF(R136=\"\",\"\",VLOOKUP(R136,残高表!$Y$5:$Z$20,2))","v":""}]
[null,null,132,null,null,null,{"$f":"IF(F137=\"\",\"\",VLOOKUP(F137,残高表!$Y$5:$Z$20,2))","v":""},null,null,null,{"$f":"IF(J137=\"\",\"\",VLOOKUP(J137,残高表!$Y$5:$Z$20,2))","v":""},null,null,null,{"$f":"IF(N137=\"\",\"\",VLOOKUP(N137,残高表!$Y$5:$Z$20,2))","v":""},null,null,null,{"$f":"IF(R137=\"\",\"\",VLOOKUP(R137,残高表!$Y$5:$Z$20,2))","v":""}]
[null,null,133,null,null,null,{"$f":"IF(F138=\"\",\"\",VLOOKUP(F138,残高表!$Y$5:$Z$20,2))","v":""},null,null,null,{"$f":"IF(J138=\"\",\"\",VLOOKUP(J138,残高表!$Y$5:$Z$20,2))","v":""},null,null,null,{"$f":"IF(N138=\"\",\"\",VLOOKUP(N138,残高表!$Y$5:$Z$20,2))","v":""},null,null,null,{"$f":"IF(R138=\"\",\"\",VLOOKUP(R138,残高表!$Y$5:$Z$20,2))","v":""}]
[null,null,134,null,null,null,{"$f":"IF(F139=\"\",\"\",VLOOKUP(F139,残高表!$Y$5:$Z$20,2))","v":""},null,null,null,{"$f":"IF(J139=\"\",\"\",VLOOKUP(J139,残高表!$Y$5:$Z$20,2))","v":""},null,null,null,{"$f":"IF(N139=\"\",\"\",VLOOKUP(N139,残高表!$Y$5:$Z$20,2))","v":""},null,null,null,{"$f":"IF(R139=\"\",\"\",VLOOKUP(R139,残高表!$Y$5:$Z$20,2))","v":""}]
[null,null,135,null,null,null,{"$f":"IF(F140=\"\",\"\",VLOOKUP(F140,残高表!$Y$5:$Z$20,2))","v":""},null,null,null,{"$f":"IF(J140=\"\",\"\",VLOOKUP(J140,残高表!$Y$5:$Z$20,2))","v":""},null,null,null,{"$f":"IF(N140=\"\",\"\",VLOOKUP(N140,残高表!$Y$5:$Z$20,2))","v":""},null,null,null,{"$f":"IF(R140=\"\",\"\",VLOOKUP(R140,残高表!$Y$5:$Z$20,2))","v":""}]
[null,null,136,null,null,null,{"$f":"IF(F141=\"\",\"\",VLOOKUP(F141,残高表!$Y$5:$Z$20,2))","v":""},null,null,null,{"$f":"IF(J141=\"\",\"\",VLOOKUP(J141,残高表!$Y$5:$Z$20,2))","v":""},null,null,null,{"$f":"IF(N141=\"\",\"\",VLOOKUP(N141,残高表!$Y$5:$Z$20,2))","v":""},null,null,null,{"$f":"IF(R141=\"\",\"\",VLOOKUP(R141,残高表!$Y$5:$Z$20,2))","v":""}]
[null,null,137,null,null,null,{"$f":"IF(F142=\"\",\"\",VLOOKUP(F142,残高表!$Y$5:$Z$20,2))","v":""},null,null,null,{"$f":"IF(J142=\"\",\"\",VLOOKUP(J142,残高表!$Y$5:$Z$20,2))","v":""},null,null,null,{"$f":"IF(N142=\"\",\"\",VLOOKUP(N142,残高表!$Y$5:$Z$20,2))","v":""},null,null,null,{"$f":"IF(R142=\"\",\"\",VLOOKUP(R142,残高表!$Y$5:$Z$20,2))","v":""}]
[null,null,138,null,null,null,{"$f":"IF(F143=\"\",\"\",VLOOKUP(F143,残高表!$Y$5:$Z$20,2))","v":""},null,null,null,{"$f":"IF(J143=\"\",\"\",VLOOKUP(J143,残高表!$Y$5:$Z$20,2))","v":""},null,null,null,{"$f":"IF(N143=\"\",\"\",VLOOKUP(N143,残高表!$Y$5:$Z$20,2))","v":""},null,null,null,{"$f":"IF(R143=\"\",\"\",VLOOKUP(R143,残高表!$Y$5:$Z$20,2))","v":""}]
[null,null,139,null,null,null,{"$f":"IF(F144=\"\",\"\",VLOOKUP(F144,残高表!$Y$5:$Z$20,2))","v":""},null,null,null,{"$f":"IF(J144=\"\",\"\",VLOOKUP(J144,残高表!$Y$5:$Z$20,2))","v":""},null,null,null,{"$f":"IF(N144=\"\",\"\",VLOOKUP(N144,残高表!$Y$5:$Z$20,2))","v":""},null,null,null,{"$f":"IF(R144=\"\",\"\",VLOOKUP(R144,残高表!$Y$5:$Z$20,2))","v":""}]
[null,null,140,null,null,null,{"$f":"IF(F145=\"\",\"\",VLOOKUP(F145,残高表!$Y$5:$Z$20,2))","v":""},null,null,null,{"$f":"IF(J145=\"\",\"\",VLOOKUP(J145,残高表!$Y$5:$Z$20,2))","v":""},null,null,null,{"$f":"IF(N145=\"\",\"\",VLOOKUP(N145,残高表!$Y$5:$Z$20,2))","v":""},null,null,null,{"$f":"IF(R145=\"\",\"\",VLOOKUP(R145,残高表!$Y$5:$Z$20,2))","v":""}]
[null,null,141,null,null,null,{"$f":"IF(F146=\"\",\"\",VLOOKUP(F146,残高表!$Y$5:$Z$20,2))","v":""},null,null,null,{"$f":"IF(J146=\"\",\"\",VLOOKUP(J146,残高表!$Y$5:$Z$20,2))","v":""},null,null,null,{"$f":"IF(N146=\"\",\"\",VLOOKUP(N146,残高表!$Y$5:$Z$20,2))","v":""},null,null,null,{"$f":"IF(R146=\"\",\"\",VLOOKUP(R146,残高表!$Y$5:$Z$20,2))","v":""}]
[null,null,142,null,null,null,{"$f":"IF(F147=\"\",\"\",VLOOKUP(F147,残高表!$Y$5:$Z$20,2))","v":""},null,null,null,{"$f":"IF(J147=\"\",\"\",VLOOKUP(J147,残高表!$Y$5:$Z$20,2))","v":""},null,null,null,{"$f":"IF(N147=\"\",\"\",VLOOKUP(N147,残高表!$Y$5:$Z$20,2))","v":""},null,null,null,{"$f":"IF(R147=\"\",\"\",VLOOKUP(R147,残高表!$Y$5:$Z$20,2))","v":""}]
[null,null,143,null,null,null,{"$f":"IF(F148=\"\",\"\",VLOOKUP(F148,残高表!$Y$5:$Z$20,2))","v":""},null,null,null,{"$f":"IF(J148=\"\",\"\",VLOOKUP(J148,残高表!$Y$5:$Z$20,2))","v":""},null,null,null,{"$f":"IF(N148=\"\",\"\",VLOOKUP(N148,残高表!$Y$5:$Z$20,2))","v":""},null,null,null,{"$f":"IF(R148=\"\",\"\",VLOOKUP(R148,残高表!$Y$5:$Z$20,2))","v":""}]
[null,null,144,null,null,null,{"$f":"IF(F149=\"\",\"\",VLOOKUP(F149,残高表!$Y$5:$Z$20,2))","v":""},null,null,null,{"$f":"IF(J149=\"\",\"\",VLOOKUP(J149,残高表!$Y$5:$Z$20,2))","v":""},null,null,null,{"$f":"IF(N149=\"\",\"\",VLOOKUP(N149,残高表!$Y$5:$Z$20,2))","v":""},null,null,null,{"$f":"IF(R149=\"\",\"\",VLOOKUP(R149,残高表!$Y$5:$Z$20,2))","v":""}]
[null,null,145,null,null,null,{"$f":"IF(F150=\"\",\"\",VLOOKUP(F150,残高表!$Y$5:$Z$20,2))","v":""},null,null,null,{"$f":"IF(J150=\"\",\"\",VLOOKUP(J150,残高表!$Y$5:$Z$20,2))","v":""},null,null,null,{"$f":"IF(N150=\"\",\"\",VLOOKUP(N150,残高表!$Y$5:$Z$20,2))","v":""},null,null,null,{"$f":"IF(R150=\"\",\"\",VLOOKUP(R150,残高表!$Y$5:$Z$20,2))","v":""}]
[null,null,146,null,null,null,{"$f":"IF(F151=\"\",\"\",VLOOKUP(F151,残高表!$Y$5:$Z$20,2))","v":""},null,null,null,{"$f":"IF(J151=\"\",\"\",VLOOKUP(J151,残高表!$Y$5:$Z$20,2))","v":""},null,null,null,{"$f":"IF(N151=\"\",\"\",VLOOKUP(N151,残高表!$Y$5:$Z$20,2))","v":""},null,null,null,{"$f":"IF(R151=\"\",\"\",VLOOKUP(R151,残高表!$Y$5:$Z$20,2))","v":""}]
[null,null,147,null,null,null,{"$f":"IF(F152=\"\",\"\",VLOOKUP(F152,残高表!$Y$5:$Z$20,2))","v":""},null,null,null,{"$f":"IF(J152=\"\",\"\",VLOOKUP(J152,残高表!$Y$5:$Z$20,2))","v":""},null,null,null,{"$f":"IF(N152=\"\",\"\",VLOOKUP(N152,残高表!$Y$5:$Z$20,2))","v":""},null,null,null,{"$f":"IF(R152=\"\",\"\",VLOOKUP(R152,残高表!$Y$5:$Z$20,2))","v":""}]
[null,null,148,null,null,null,{"$f":"IF(F153=\"\",\"\",VLOOKUP(F153,残高表!$Y$5:$Z$20,2))","v":""},null,null,null,{"$f":"IF(J153=\"\",\"\",VLOOKUP(J153,残高表!$Y$5:$Z$20,2))","v":""},null,null,null,{"$f":"IF(N153=\"\",\"\",VLOOKUP(N153,残高表!$Y$5:$Z$20,2))","v":""},null,null,null,{"$f":"IF(R153=\"\",\"\",VLOOKUP(R153,残高表!$Y$5:$Z$20,2))","v":""}]
[null,null,149,null,null,null,{"$f":"IF(F154=\"\",\"\",VLOOKUP(F154,残高表!$Y$5:$Z$20,2))","v":""},null,null,null,{"$f":"IF(J154=\"\",\"\",VLOOKUP(J154,残高表!$Y$5:$Z$20,2))","v":""},null,null,null,{"$f":"IF(N154=\"\",\"\",VLOOKUP(N154,残高表!$Y$5:$Z$20,2))","v":""},null,null,null,{"$f":"IF(R154=\"\",\"\",VLOOKUP(R154,残高表!$Y$5:$Z$20,2))","v":""}]
[null,null,150,null,null,null,{"$f":"IF(F155=\"\",\"\",VLOOKUP(F155,残高表!$Y$5:$Z$20,2))","v":""},null,null,null,{"$f":"IF(J155=\"\",\"\",VLOOKUP(J155,残高表!$Y$5:$Z$20,2))","v":""},null,null,null,{"$f":"IF(N155=\"\",\"\",VLOOKUP(N155,残高表!$Y$5:$Z$20,2))","v":""},null,null,null,{"$f":"IF(R155=\"\",\"\",VLOOKUP(R155,残高表!$Y$5:$Z$20,2))","v":""}]
[null,null,151,null,null,null,{"$f":"IF(F156=\"\",\"\",VLOOKUP(F156,残高表!$Y$5:$Z$20,2))","v":""},null,null,null,{"$f":"IF(J156=\"\",\"\",VLOOKUP(J156,残高表!$Y$5:$Z$20,2))","v":""},null,null,null,{"$f":"IF(N156=\"\",\"\",VLOOKUP(N156,残高表!$Y$5:$Z$20,2))","v":""},null,null,null,{"$f":"IF(R156=\"\",\"\",VLOOKUP(R156,残高表!$Y$5:$Z$20,2))","v":""}]
[null,null,152,null,null,null,{"$f":"IF(F157=\"\",\"\",VLOOKUP(F157,残高表!$Y$5:$Z$20,2))","v":""},null,null,null,{"$f":"IF(J157=\"\",\"\",VLOOKUP(J157,残高表!$Y$5:$Z$20,2))","v":""},null,null,null,{"$f":"IF(N157=\"\",\"\",VLOOKUP(N157,残高表!$Y$5:$Z$20,2))","v":""},null,null,null,{"$f":"IF(R157=\"\",\"\",VLOOKUP(R157,残高表!$Y$5:$Z$20,2))","v":""}]
[null,null,153,null,null,null,{"$f":"IF(F158=\"\",\"\",VLOOKUP(F158,残高表!$Y$5:$Z$20,2))","v":""},null,null,null,{"$f":"IF(J158=\"\",\"\",VLOOKUP(J158,残高表!$Y$5:$Z$20,2))","v":""},null,null,null,{"$f":"IF(N158=\"\",\"\",VLOOKUP(N158,残高表!$Y$5:$Z$20,2))","v":""},null,null,null,{"$f":"IF(R158=\"\",\"\",VLOOKUP(R158,残高表!$Y$5:$Z$20,2))","v":""}]
[null,null,154,null,null,null,{"$f":"IF(F159=\"\",\"\",VLOOKUP(F159,残高表!$Y$5:$Z$20,2))","v":""},null,null,null,{"$f":"IF(J159=\"\",\"\",VLOOKUP(J159,残高表!$Y$5:$Z$20,2))","v":""},null,null,null,{"$f":"IF(N159=\"\",\"\",VLOOKUP(N159,残高表!$Y$5:$Z$20,2))","v":""},null,null,null,{"$f":"IF(R159=\"\",\"\",VLOOKUP(R159,残高表!$Y$5:$Z$20,2))","v":""}]
[null,null,155,null,null,null,{"$f":"IF(F160=\"\",\"\",VLOOKUP(F160,残高表!$Y$5:$Z$20,2))","v":""},null,null,null,{"$f":"IF(J160=\"\",\"\",VLOOKUP(J160,残高表!$Y$5:$Z$20,2))","v":""},null,null,null,{"$f":"IF(N160=\"\",\"\",VLOOKUP(N160,残高表!$Y$5:$Z$20,2))","v":""},null,null,null,{"$f":"IF(R160=\"\",\"\",VLOOKUP(R160,残高表!$Y$5:$Z$20,2))","v":""}]
[null,null,156,null,null,null,{"$f":"IF(F161=\"\",\"\",VLOOKUP(F161,残高表!$Y$5:$Z$20,2))","v":""},null,null,null,{"$f":"IF(J161=\"\",\"\",VLOOKUP(J161,残高表!$Y$5:$Z$20,2))","v":""},null,null,null,{"$f":"IF(N161=\"\",\"\",VLOOKUP(N161,残高表!$Y$5:$Z$20,2))","v":""},null,null,null,{"$f":"IF(R161=\"\",\"\",VLOOKUP(R161,残高表!$Y$5:$Z$20,2))","v":""}]
[null,null,157,null,null,null,{"$f":"IF(F162=\"\",\"\",VLOOKUP(F162,残高表!$Y$5:$Z$20,2))","v":""},null,null,null,{"$f":"IF(J162=\"\",\"\",VLOOKUP(J162,残高表!$Y$5:$Z$20,2))","v":""},null,null,null,{"$f":"IF(N162=\"\",\"\",VLOOKUP(N162,残高表!$Y$5:$Z$20,2))","v":""},null,null,null,{"$f":"IF(R162=\"\",\"\",VLOOKUP(R162,残高表!$Y$5:$Z$20,2))","v":""}]
[null,null,158,null,null,null,{"$f":"IF(F163=\"\",\"\",VLOOKUP(F163,残高表!$Y$5:$Z$20,2))","v":""},null,null,null,{"$f":"IF(J163=\"\",\"\",VLOOKUP(J163,残高表!$Y$5:$Z$20,2))","v":""},null,null,null,{"$f":"IF(N163=\"\",\"\",VLOOKUP(N163,残高表!$Y$5:$Z$20,2))","v":""},null,null,null,{"$f":"IF(R163=\"\",\"\",VLOOKUP(R163,残高表!$Y$5:$Z$20,2))","v":""}]
[null,null,159,null,null,null,{"$f":"IF(F164=\"\",\"\",VLOOKUP(F164,残高表!$Y$5:$Z$20,2))","v":""},null,null,null,{"$f":"IF(J164=\"\",\"\",VLOOKUP(J164,残高表!$Y$5:$Z$20,2))","v":""},null,null,null,{"$f":"IF(N164=\"\",\"\",VLOOKUP(N164,残高表!$Y$5:$Z$20,2))","v":""},null,null,null,{"$f":"IF(R164=\"\",\"\",VLOOKUP(R164,残高表!$Y$5:$Z$20,2))","v":""}]
[null,null,160,null,null,null,{"$f":"IF(F165=\"\",\"\",VLOOKUP(F165,残高表!$Y$5:$Z$20,2))","v":""},null,null,null,{"$f":"IF(J165=\"\",\"\",VLOOKUP(J165,残高表!$Y$5:$Z$20,2))","v":""},null,null,null,{"$f":"IF(N165=\"\",\"\",VLOOKUP(N165,残高表!$Y$5:$Z$20,2))","v":""},null,null,null,{"$f":"IF(R165=\"\",\"\",VLOOKUP(R165,残高表!$Y$5:$Z$20,2))","v":""}]
[null,null,161,null,null,null,{"$f":"IF(F166=\"\",\"\",VLOOKUP(F166,残高表!$Y$5:$Z$20,2))","v":""},null,null,null,{"$f":"IF(J166=\"\",\"\",VLOOKUP(J166,残高表!$Y$5:$Z$20,2))","v":""},null,null,null,{"$f":"IF(N166=\"\",\"\",VLOOKUP(N166,残高表!$Y$5:$Z$20,2))","v":""},null,null,null,{"$f":"IF(R166=\"\",\"\",VLOOKUP(R166,残高表!$Y$5:$Z$20,2))","v":""}]
[null,null,162,null,null,null,{"$f":"IF(F167=\"\",\"\",VLOOKUP(F167,残高表!$Y$5:$Z$20,2))","v":""},null,null,null,{"$f":"IF(J167=\"\",\"\",VLOOKUP(J167,残高表!$Y$5:$Z$20,2))","v":""},null,null,null,{"$f":"IF(N167=\"\",\"\",VLOOKUP(N167,残高表!$Y$5:$Z$20,2))","v":""},null,null,null,{"$f":"IF(R167=\"\",\"\",VLOOKUP(R167,残高表!$Y$5:$Z$20,2))","v":""}]
[null,null,163,null,null,null,{"$f":"IF(F168=\"\",\"\",VLOOKUP(F168,残高表!$Y$5:$Z$20,2))","v":""},null,null,null,{"$f":"IF(J168=\"\",\"\",VLOOKUP(J168,残高表!$Y$5:$Z$20,2))","v":""},null,null,null,{"$f":"IF(N168=\"\",\"\",VLOOKUP(N168,残高表!$Y$5:$Z$20,2))","v":""},null,null,null,{"$f":"IF(R168=\"\",\"\",VLOOKUP(R168,残高表!$Y$5:$Z$20,2))","v":""}]
[null,null,164,null,null,null,{"$f":"IF(F169=\"\",\"\",VLOOKUP(F169,残高表!$Y$5:$Z$20,2))","v":""},null,null,null,{"$f":"IF(J169=\"\",\"\",VLOOKUP(J169,残高表!$Y$5:$Z$20,2))","v":""},null,null,null,{"$f":"IF(N169=\"\",\"\",VLOOKUP(N169,残高表!$Y$5:$Z$20,2))","v":""},null,null,null,{"$f":"IF(R169=\"\",\"\",VLOOKUP(R169,残高表!$Y$5:$Z$20,2))","v":""}]
[null,null,165,null,null,null,{"$f":"IF(F170=\"\",\"\",VLOOKUP(F170,残高表!$Y$5:$Z$20,2))","v":""},null,null,null,{"$f":"IF(J170=\"\",\"\",VLOOKUP(J170,残高表!$Y$5:$Z$20,2))","v":""},null,null,null,{"$f":"IF(N170=\"\",\"\",VLOOKUP(N170,残高表!$Y$5:$Z$20,2))","v":""},null,null,null,{"$f":"IF(R170=\"\",\"\",VLOOKUP(R170,残高表!$Y$5:$Z$20,2))","v":""}]
[null,null,166,null,null,null,{"$f":"IF(F171=\"\",\"\",VLOOKUP(F171,残高表!$Y$5:$Z$20,2))","v":""},null,null,null,{"$f":"IF(J171=\"\",\"\",VLOOKUP(J171,残高表!$Y$5:$Z$20,2))","v":""},null,null,null,{"$f":"IF(N171=\"\",\"\",VLOOKUP(N171,残高表!$Y$5:$Z$20,2))","v":""},null,null,null,{"$f":"IF(R171=\"\",\"\",VLOOKUP(R171,残高表!$Y$5:$Z$20,2))","v":""}]
[null,null,167,null,null,null,{"$f":"IF(F172=\"\",\"\",VLOOKUP(F172,残高表!$Y$5:$Z$20,2))","v":""},null,null,null,{"$f":"IF(J172=\"\",\"\",VLOOKUP(J172,残高表!$Y$5:$Z$20,2))","v":""},null,null,null,{"$f":"IF(N172=\"\",\"\",VLOOKUP(N172,残高表!$Y$5:$Z$20,2))","v":""},null,null,null,{"$f":"IF(R172=\"\",\"\",VLOOKUP(R172,残高表!$Y$5:$Z$20,2))","v":""}]
[null,null,168,null,null,null,{"$f":"IF(F173=\"\",\"\",VLOOKUP(F173,残高表!$Y$5:$Z$20,2))","v":""},null,null,null,{"$f":"IF(J173=\"\",\"\",VLOOKUP(J173,残高表!$Y$5:$Z$20,2))","v":""},null,null,null,{"$f":"IF(N173=\"\",\"\",VLOOKUP(N173,残高表!$Y$5:$Z$20,2))","v":""},null,null,null,{"$f":"IF(R173=\"\",\"\",VLOOKUP(R173,残高表!$Y$5:$Z$20,2))","v":""}]
[null,null,169,null,null,null,{"$f":"IF(F174=\"\",\"\",VLOOKUP(F174,残高表!$Y$5:$Z$20,2))","v":""},null,null,null,{"$f":"IF(J174=\"\",\"\",VLOOKUP(J174,残高表!$Y$5:$Z$20,2))","v":""},null,null,null,{"$f":"IF(N174=\"\",\"\",VLOOKUP(N174,残高表!$Y$5:$Z$20,2))","v":""},null,null,null,{"$f":"IF(R174=\"\",\"\",VLOOKUP(R174,残高表!$Y$5:$Z$20,2))","v":""}]
[null,null,170,null,null,null,{"$f":"IF(F175=\"\",\"\",VLOOKUP(F175,残高表!$Y$5:$Z$20,2))","v":""},null,null,null,{"$f":"IF(J175=\"\",\"\",VLOOKUP(J175,残高表!$Y$5:$Z$20,2))","v":""},null,null,null,{"$f":"IF(N175=\"\",\"\",VLOOKUP(N175,残高表!$Y$5:$Z$20,2))","v":""},null,null,null,{"$f":"IF(R175=\"\",\"\",VLOOKUP(R175,残高表!$Y$5:$Z$20,2))","v":""}]
[null,null,171,null,null,null,{"$f":"IF(F176=\"\",\"\",VLOOKUP(F176,残高表!$Y$5:$Z$20,2))","v":""},null,null,null,{"$f":"IF(J176=\"\",\"\",VLOOKUP(J176,残高表!$Y$5:$Z$20,2))","v":""},null,null,null,{"$f":"IF(N176=\"\",\"\",VLOOKUP(N176,残高表!$Y$5:$Z$20,2))","v":""},null,null,null,{"$f":"IF(R176=\"\",\"\",VLOOKUP(R176,残高表!$Y$5:$Z$20,2))","v":""}]
[null,null,172,null,null,null,{"$f":"IF(F177=\"\",\"\",VLOOKUP(F177,残高表!$Y$5:$Z$20,2))","v":""},null,null,null,{"$f":"IF(J177=\"\",\"\",VLOOKUP(J177,残高表!$Y$5:$Z$20,2))","v":""},null,null,null,{"$f":"IF(N177=\"\",\"\",VLOOKUP(N177,残高表!$Y$5:$Z$20,2))","v":""},null,null,null,{"$f":"IF(R177=\"\",\"\",VLOOKUP(R177,残高表!$Y$5:$Z$20,2))","v":""}]
[null,null,173,null,null,null,{"$f":"IF(F178=\"\",\"\",VLOOKUP(F178,残高表!$Y$5:$Z$20,2))","v":""},null,null,null,{"$f":"IF(J178=\"\",\"\",VLOOKUP(J178,残高表!$Y$5:$Z$20,2))","v":""},null,null,null,{"$f":"IF(N178=\"\",\"\",VLOOKUP(N178,残高表!$Y$5:$Z$20,2))","v":""},null,null,null,{"$f":"IF(R178=\"\",\"\",VLOOKUP(R178,残高表!$Y$5:$Z$20,2))","v":""}]
[null,null,174,null,null,null,{"$f":"IF(F179=\"\",\"\",VLOOKUP(F179,残高表!$Y$5:$Z$20,2))","v":""},null,null,null,{"$f":"IF(J179=\"\",\"\",VLOOKUP(J179,残高表!$Y$5:$Z$20,2))","v":""},null,null,null,{"$f":"IF(N179=\"\",\"\",VLOOKUP(N179,残高表!$Y$5:$Z$20,2))","v":""},null,null,null,{"$f":"IF(R179=\"\",\"\",VLOOKUP(R179,残高表!$Y$5:$Z$20,2))","v":""}]
[null,null,175,null,null,null,{"$f":"IF(F180=\"\",\"\",VLOOKUP(F180,残高表!$Y$5:$Z$20,2))","v":""},null,null,null,{"$f":"IF(J180=\"\",\"\",VLOOKUP(J180,残高表!$Y$5:$Z$20,2))","v":""},null,null,null,{"$f":"IF(N180=\"\",\"\",VLOOKUP(N180,残高表!$Y$5:$Z$20,2))","v":""},null,null,null,{"$f":"IF(R180=\"\",\"\",VLOOKUP(R180,残高表!$Y$5:$Z$20,2))","v":""}]
[null,null,176,null,null,null,{"$f":"IF(F181=\"\",\"\",VLOOKUP(F181,残高表!$Y$5:$Z$20,2))","v":""},null,null,null,{"$f":"IF(J181=\"\",\"\",VLOOKUP(J181,残高表!$Y$5:$Z$20,2))","v":""},null,null,null,{"$f":"IF(N181=\"\",\"\",VLOOKUP(N181,残高表!$Y$5:$Z$20,2))","v":""},null,null,null,{"$f":"IF(R181=\"\",\"\",VLOOKUP(R181,残高表!$Y$5:$Z$20,2))","v":""}]
[null,null,177,null,null,null,{"$f":"IF(F182=\"\",\"\",VLOOKUP(F182,残高表!$Y$5:$Z$20,2))","v":""},null,null,null,{"$f":"IF(J182=\"\",\"\",VLOOKUP(J182,残高表!$Y$5:$Z$20,2))","v":""},null,null,null,{"$f":"IF(N182=\"\",\"\",VLOOKUP(N182,残高表!$Y$5:$Z$20,2))","v":""},null,null,null,{"$f":"IF(R182=\"\",\"\",VLOOKUP(R182,残高表!$Y$5:$Z$20,2))","v":""}]
[null,null,178,null,null,null,{"$f":"IF(F183=\"\",\"\",VLOOKUP(F183,残高表!$Y$5:$Z$20,2))","v":""},null,null,null,{"$f":"IF(J183=\"\",\"\",VLOOKUP(J183,残高表!$Y$5:$Z$20,2))","v":""},null,null,null,{"$f":"IF(N183=\"\",\"\",VLOOKUP(N183,残高表!$Y$5:$Z$20,2))","v":""},null,null,null,{"$f":"IF(R183=\"\",\"\",VLOOKUP(R183,残高表!$Y$5:$Z$20,2))","v":""}]
[null,null,179,null,null,null,{"$f":"IF(F184=\"\",\"\",VLOOKUP(F184,残高表!$Y$5:$Z$20,2))","v":""},null,null,null,{"$f":"IF(J184=\"\",\"\",VLOOKUP(J184,残高表!$Y$5:$Z$20,2))","v":""},null,null,null,{"$f":"IF(N184=\"\",\"\",VLOOKUP(N184,残高表!$Y$5:$Z$20,2))","v":""},null,null,null,{"$f":"IF(R184=\"\",\"\",VLOOKUP(R184,残高表!$Y$5:$Z$20,2))","v":""}]
[null,null,180,null,null,null,{"$f":"IF(F185=\"\",\"\",VLOOKUP(F185,残高表!$Y$5:$Z$20,2))","v":""},null,null,null,{"$f":"IF(J185=\"\",\"\",VLOOKUP(J185,残高表!$Y$5:$Z$20,2))","v":""},null,null,null,{"$f":"IF(N185=\"\",\"\",VLOOKUP(N185,残高表!$Y$5:$Z$20,2))","v":""},null,null,null,{"$f":"IF(R185=\"\",\"\",VLOOKUP(R185,残高表!$Y$5:$Z$20,2))","v":""}]
[null,null,181,null,null,null,{"$f":"IF(F186=\"\",\"\",VLOOKUP(F186,残高表!$Y$5:$Z$20,2))","v":""},null,null,null,{"$f":"IF(J186=\"\",\"\",VLOOKUP(J186,残高表!$Y$5:$Z$20,2))","v":""},null,null,null,{"$f":"IF(N186=\"\",\"\",VLOOKUP(N186,残高表!$Y$5:$Z$20,2))","v":""},null,null,null,{"$f":"IF(R186=\"\",\"\",VLOOKUP(R186,残高表!$Y$5:$Z$20,2))","v":""}]
[null,null,182,null,null,null,{"$f":"IF(F187=\"\",\"\",VLOOKUP(F187,残高表!$Y$5:$Z$20,2))","v":""},null,null,null,{"$f":"IF(J187=\"\",\"\",VLOOKUP(J187,残高表!$Y$5:$Z$20,2))","v":""},null,null,null,{"$f":"IF(N187=\"\",\"\",VLOOKUP(N187,残高表!$Y$5:$Z$20,2))","v":""},null,null,null,{"$f":"IF(R187=\"\",\"\",VLOOKUP(R187,残高表!$Y$5:$Z$20,2))","v":""}]
[null,null,183,null,null,null,{"$f":"IF(F188=\"\",\"\",VLOOKUP(F188,残高表!$Y$5:$Z$20,2))","v":""},null,null,null,{"$f":"IF(J188=\"\",\"\",VLOOKUP(J188,残高表!$Y$5:$Z$20,2))","v":""},null,null,null,{"$f":"IF(N188=\"\",\"\",VLOOKUP(N188,残高表!$Y$5:$Z$20,2))","v":""},null,null,null,{"$f":"IF(R188=\"\",\"\",VLOOKUP(R188,残高表!$Y$5:$Z$20,2))","v":""}]
[null,null,184,null,null,null,{"$f":"IF(F189=\"\",\"\",VLOOKUP(F189,残高表!$Y$5:$Z$20,2))","v":""},null,null,null,{"$f":"IF(J189=\"\",\"\",VLOOKUP(J189,残高表!$Y$5:$Z$20,2))","v":""},null,null,null,{"$f":"IF(N189=\"\",\"\",VLOOKUP(N189,残高表!$Y$5:$Z$20,2))","v":""},null,null,null,{"$f":"IF(R189=\"\",\"\",VLOOKUP(R189,残高表!$Y$5:$Z$20,2))","v":""}]
[null,null,185,null,null,null,{"$f":"IF(F190=\"\",\"\",VLOOKUP(F190,残高表!$Y$5:$Z$20,2))","v":""},null,null,null,{"$f":"IF(J190=\"\",\"\",VLOOKUP(J190,残高表!$Y$5:$Z$20,2))","v":""},null,null,null,{"$f":"IF(N190=\"\",\"\",VLOOKUP(N190,残高表!$Y$5:$Z$20,2))","v":""},null,null,null,{"$f":"IF(R190=\"\",\"\",VLOOKUP(R190,残高表!$Y$5:$Z$20,2))","v":""}]
[null,null,186,null,null,null,{"$f":"IF(F191=\"\",\"\",VLOOKUP(F191,残高表!$Y$5:$Z$20,2))","v":""},null,null,null,{"$f":"IF(J191=\"\",\"\",VLOOKUP(J191,残高表!$Y$5:$Z$20,2))","v":""},null,null,null,{"$f":"IF(N191=\"\",\"\",VLOOKUP(N191,残高表!$Y$5:$Z$20,2))","v":""},null,null,null,{"$f":"IF(R191=\"\",\"\",VLOOKUP(R191,残高表!$Y$5:$Z$20,2))","v":""}]
[null,null,187,null,null,null,{"$f":"IF(F192=\"\",\"\",VLOOKUP(F192,残高表!$Y$5:$Z$20,2))","v":""},null,null,null,{"$f":"IF(J192=\"\",\"\",VLOOKUP(J192,残高表!$Y$5:$Z$20,2))","v":""},null,null,null,{"$f":"IF(N192=\"\",\"\",VLOOKUP(N192,残高表!$Y$5:$Z$20,2))","v":""},null,null,null,{"$f":"IF(R192=\"\",\"\",VLOOKUP(R192,残高表!$Y$5:$Z$20,2))","v":""}]
[null,null,188,null,null,null,{"$f":"IF(F193=\"\",\"\",VLOOKUP(F193,残高表!$Y$5:$Z$20,2))","v":""},null,null,null,{"$f":"IF(J193=\"\",\"\",VLOOKUP(J193,残高表!$Y$5:$Z$20,2))","v":""},null,null,null,{"$f":"IF(N193=\"\",\"\",VLOOKUP(N193,残高表!$Y$5:$Z$20,2))","v":""},null,null,null,{"$f":"IF(R193=\"\",\"\",VLOOKUP(R193,残高表!$Y$5:$Z$20,2))","v":""}]
[null,null,189,null,null,null,{"$f":"IF(F194=\"\",\"\",VLOOKUP(F194,残高表!$Y$5:$Z$20,2))","v":""},null,null,null,{"$f":"IF(J194=\"\",\"\",VLOOKUP(J194,残高表!$Y$5:$Z$20,2))","v":""},null,null,null,{"$f":"IF(N194=\"\",\"\",VLOOKUP(N194,残高表!$Y$5:$Z$20,2))","v":""},null,null,null,{"$f":"IF(R194=\"\",\"\",VLOOKUP(R194,残高表!$Y$5:$Z$20,2))","v":""}]
[null,null,190,null,null,null,{"$f":"IF(F195=\"\",\"\",VLOOKUP(F195,残高表!$Y$5:$Z$20,2))","v":""},null,null,null,{"$f":"IF(J195=\"\",\"\",VLOOKUP(J195,残高表!$Y$5:$Z$20,2))","v":""},null,null,null,{"$f":"IF(N195=\"\",\"\",VLOOKUP(N195,残高表!$Y$5:$Z$20,2))","v":""},null,null,null,{"$f":"IF(R195=\"\",\"\",VLOOKUP(R195,残高表!$Y$5:$Z$20,2))","v":""}]
[null,null,191,null,null,null,{"$f":"IF(F196=\"\",\"\",VLOOKUP(F196,残高表!$Y$5:$Z$20,2))","v":""},null,null,null,{"$f":"IF(J196=\"\",\"\",VLOOKUP(J196,残高表!$Y$5:$Z$20,2))","v":""},null,null,null,{"$f":"IF(N196=\"\",\"\",VLOOKUP(N196,残高表!$Y$5:$Z$20,2))","v":""},null,null,null,{"$f":"IF(R196=\"\",\"\",VLOOKUP(R196,残高表!$Y$5:$Z$20,2))","v":""}]
[null,null,192,null,null,null,{"$f":"IF(F197=\"\",\"\",VLOOKUP(F197,残高表!$Y$5:$Z$20,2))","v":""},null,null,null,{"$f":"IF(J197=\"\",\"\",VLOOKUP(J197,残高表!$Y$5:$Z$20,2))","v":""},null,null,null,{"$f":"IF(N197=\"\",\"\",VLOOKUP(N197,残高表!$Y$5:$Z$20,2))","v":""},null,null,null,{"$f":"IF(R197=\"\",\"\",VLOOKUP(R197,残高表!$Y$5:$Z$20,2))","v":""}]
[null,null,193,null,null,null,{"$f":"IF(F198=\"\",\"\",VLOOKUP(F198,残高表!$Y$5:$Z$20,2))","v":""},null,null,null,{"$f":"IF(J198=\"\",\"\",VLOOKUP(J198,残高表!$Y$5:$Z$20,2))","v":""},null,null,null,{"$f":"IF(N198=\"\",\"\",VLOOKUP(N198,残高表!$Y$5:$Z$20,2))","v":""},null,null,null,{"$f":"IF(R198=\"\",\"\",VLOOKUP(R198,残高表!$Y$5:$Z$20,2))","v":""}]
[null,null,194,null,null,null,{"$f":"IF(F199=\"\",\"\",VLOOKUP(F199,残高表!$Y$5:$Z$20,2))","v":""},null,null,null,{"$f":"IF(J199=\"\",\"\",VLOOKUP(J199,残高表!$Y$5:$Z$20,2))","v":""},null,null,null,{"$f":"IF(N199=\"\",\"\",VLOOKUP(N199,残高表!$Y$5:$Z$20,2))","v":""},null,null,null,{"$f":"IF(R199=\"\",\"\",VLOOKUP(R199,残高表!$Y$5:$Z$20,2))","v":""}]
[null,null,195,null,null,null,{"$f":"IF(F200=\"\",\"\",VLOOKUP(F200,残高表!$Y$5:$Z$20,2))","v":""},null,null,null,{"$f":"IF(J200=\"\",\"\",VLOOKUP(J200,残高表!$Y$5:$Z$20,2))","v":""},null,null,null,{"$f":"IF(N200=\"\",\"\",VLOOKUP(N200,残高表!$Y$5:$Z$20,2))","v":""},null,null,null,{"$f":"IF(R200=\"\",\"\",VLOOKUP(R200,残高表!$Y$5:$Z$20,2))","v":""}]
[null,null,196,null,null,null,{"$f":"IF(F201=\"\",\"\",VLOOKUP(F201,残高表!$Y$5:$Z$20,2))","v":""},null,null,null,{"$f":"IF(J201=\"\",\"\",VLOOKUP(J201,残高表!$Y$5:$Z$20,2))","v":""},null,null,null,{"$f":"IF(N201=\"\",\"\",VLOOKUP(N201,残高表!$Y$5:$Z$20,2))","v":""},null,null,null,{"$f":"IF(R201=\"\",\"\",VLOOKUP(R201,残高表!$Y$5:$Z$20,2))","v":""}]
[null,null,197,null,null,null,{"$f":"IF(F202=\"\",\"\",VLOOKUP(F202,残高表!$Y$5:$Z$20,2))","v":""},null,null,null,{"$f":"IF(J202=\"\",\"\",VLOOKUP(J202,残高表!$Y$5:$Z$20,2))","v":""},null,null,null,{"$f":"IF(N202=\"\",\"\",VLOOKUP(N202,残高表!$Y$5:$Z$20,2))","v":""},null,null,null,{"$f":"IF(R202=\"\",\"\",VLOOKUP(R202,残高表!$Y$5:$Z$20,2))","v":""}]
[null,null,198,null,null,null,{"$f":"IF(F203=\"\",\"\",VLOOKUP(F203,残高表!$Y$5:$Z$20,2))","v":""},null,null,null,{"$f":"IF(J203=\"\",\"\",VLOOKUP(J203,残高表!$Y$5:$Z$20,2))","v":""},null,null,null,{"$f":"IF(N203=\"\",\"\",VLOOKUP(N203,残高表!$Y$5:$Z$20,2))","v":""},null,null,null,{"$f":"IF(R203=\"\",\"\",VLOOKUP(R203,残高表!$Y$5:$Z$20,2))","v":""}]
[null,null,199,null,null,null,{"$f":"IF(F204=\"\",\"\",VLOOKUP(F204,残高表!$Y$5:$Z$20,2))","v":""},null,null,null,{"$f":"IF(J204=\"\",\"\",VLOOKUP(J204,残高表!$Y$5:$Z$20,2))","v":""},null,null,null,{"$f":"IF(N204=\"\",\"\",VLOOKUP(N204,残高表!$Y$5:$Z$20,2))","v":""},null,null,null,{"$f":"IF(R204=\"\",\"\",VLOOKUP(R204,残高表!$Y$5:$Z$20,2))","v":""}]
[null,null,200,null,null,null,{"$f":"IF(F205=\"\",\"\",VLOOKUP(F205,残高表!$Y$5:$Z$20,2))","v":""},null,null,null,{"$f":"IF(J205=\"\",\"\",VLOOKUP(J205,残高表!$Y$5:$Z$20,2))","v":""},null,null,null,{"$f":"IF(N205=\"\",\"\",VLOOKUP(N205,残高表!$Y$5:$Z$20,2))","v":""},null,null,null,{"$f":"IF(R205=\"\",\"\",VLOOKUP(R205,残高表!$Y$5:$Z$20,2))","v":""}]

{"sheet":"選択表","index":2,"n_rows":204,"n_cols":16,"rows_kept":204,"cut":false,"hidden":false,"merged":[]}
[]
[null,"一人消去",null,{"$f":"10-COUNTBLANK(B5:B14)","v":0},null,"番号選択シート",null,null,"名簿更新",null,"※コード右クリックで入力表自動コード転記します。"]
[]
[null,"選択者",null,"表示","コード","お名前","フリガナ","コード","お名前","フリガナ","コード","お名前","フリガナ","コード","お名前","フリガナ"]
[null,{"$f":"入力表!D6","v":""},null,null,1,null,null,21,null,null,41,null,null,61]
[null,{"$f":"入力表!D7","v":""},null,null,2,null,null,22,null,null,42,null,null,62]
[null,{"$f":"入力表!D8","v":""},null,null,3,null,null,23,null,null,43,null,null,63]
[null,{"$f":"入力表!D9","v":""},null,null,4,null,null,24,null,null,44,null,null,64]
[null,{"$f":"入力表!D10","v":""},null,null,5,null,null,25,null,null,45,null,null,65]
[null,{"$f":"入力表!D11","v":""},null,null,6,null,null,26,null,null,46,null,null,66]
[null,{"$f":"入力表!D12","v":""},null,null,7,null,null,27,null,null,47,null,null,67]
[null,{"$f":"入力表!D13","v":""},null,null,8,null,null,28,null,null,48,null,null,68]
[null,{"$f":"入力表!D14","v":""},null,null,9,null,null,29,null,null,49,null,null,69]
[null,{"$f":"入力表!D15","v":""},null,null,10,null,null,30,null,null,50,null,null,70]
[null,null,null,null,11,null,null,31,null,null,51,null,null,71]
[null,null,null,null,12,null,null,32,null,null,52,null,null,72]
[null,null,null,null,13,null,null,33,null,null,53,null,null,73]
[null,null,null,null,14,null,null,34,null,null,54,null,null,74]
[null,null,null,null,15,null,null,35,null,null,55,null,null,75]
[null,null,null,null,16,null,null,36,null,null,56,null,null,76]
[null,null,null,null,17,null,null,37,null,null,57,null,null,77]
[null,null,null,null,18,null,null,38,null,null,58,null,null,78]
[null,null,null,null,19,null,null,39,null,null,59,null,null,79]
[null,null,null,null,20,null,null,40,null,null,60,null,null,80]
[null,null,null,null,21]
[null,null,null,null,22]
[null,null,null,null,23]
[null,null,null,null,24]
[null,null,null,null,25]
[null,null,null,null,26]
[null,null,null,null,27]
[null,null,null,null,28]
[null,null,null,null,29]
[null,null,null,null,30]
[null,null,null,null,31]
[null,null,null,null,32]
[null,null,null,null,33]
[null,null,null,null,34]
[null,null,null,null,35]
[null,null,null,null,36]
[null,null,null,null,37]
[null,null,null,null,38]
[null,null,null,null,39]
[null,null,null,null,40]
[null,null,null,null,41]
[null,null,null,null,42]
[null,null,null,null,43]
[null,null,null,null,44]
[null,null,null,null,45]
[null,null,null,null,46]
[null,null,null,null,47]
[null,null,null,null,48]
[null,null,null,null,49]
[null,null,null,null,50]
[null,null,null,null,51]
[null,null,null,null,52]
[null,null,null,null,53]
[null,null,null,null,54]
[null,null,null,null,55]
[null,null,null,null,56]
[null,null,null,null,57]
[null,null,null,null,58]
[null,null,null,null,59]
[null,null,null,null,60]
[null,null,null,null,61]
[null,null,null,null,62]
[null,null,null,null,63]
[null,null,null,null,64]
[null,null,null,null,65]
[null,null,null,null,66]
[null,null,null,null,67]
[null,null,null,null,68]
[null,null,null,null,69]
[null,null,null,null,70]
[null,null,null,null,71]
[null,null,null,null,72]
[null,null,null,null,73]
[null,null,null,null,74]
[null,null,null,null,75]
[null,null,null,null,76]
[null,null,null,null,77]
[null,null,null,null,78]
[null,null,null,null,79]
[null,null,null,null,80]
[null,null,null,null,81]
[null,null,null,null,82]
[null,null,null,null,83]
[null,null,null,null,84]
[null,null,null,null,85]
[null,null,null,null,86]
[null,null,null,null,87]
[null,null,null,null,88]
[null,null,null,null,89]
[null,null,null,null,90]
[null,null,null,null,91]
[null,null,null,null,92]
[null,null,null,null,93]
[null,null,null,null,94]
[null,null,null,null,95]
[null,null,null,null,96]
[null,null,null,null,97]
[null,null,null,null,98]
[null,null,null,null,99]
[null,null,null,null,100]
[null,null,null,null,101]
[null,null,null,null,102]
[null,null,null,null,103]
[null,null,null,null,104]
[null,null,null,null,105]
[null,null,null,null,106]
[null,null,null,null,107]
[null,null,null,null,108]
[null,null,null,null,109]
[null,null,null,null,110]
[null,null,null,null,111]
[null,null,null,null,112]
[null,null,null,null,113]
[null,null,null,null,114]
[null,null,null,null,115]
[null,null,null,null,116]
[null,null,null,null,117]
[null,null,null,null,118]
[null,null,null,null,119]
[null,null,null,null,120]
[null,null,null,null,121]
[null,null,null,null,122]
[null,null,null,null,123]
[null,null,null,null,124]
[null,null,null,null,125]
[null,null,null,null,126]
[null,null,null,null,127]
[null,null,null,null,128]
[null,null,null,null,129]
[null,null,null,null,130]
[null,null,null,null,131]
[null,null,null,null,132]
[null,null,null,null,133]
[null,null,null,null,134]
[null,null,null,null,135]
[null,null,null,null,136]
[null,null,null,null,137]
[null,null,null,null,138]
[null,null,null,null,139]
[null,null,null,null,140]
[null,null,null,null,141]
[null,null,null,null,142]
[null,null,null,null,143]
[null,null,null,null,144]
[null,null,null,null,145]
[null,null,null,null,146]
[null,null,null,null,147]
[null,null,null,null,148]
[null,null,null,null,149]
[null,null,null,null,150]
[null,null,null,null,151]
[null,null,null,null,152]
[null,null,null,null,153]
[null,null,null,null,154]
[null,null,null,null,155]
[null,null,null,null,156]
[null,null,null,null,157]
[null,null,null,null,158]
[null,null,null,null,159]
[null,null,null,null,160]
[null,null,null,null,161]
[null,null,null,null,162]
[null,null,null,null,163]
[null,null,null,null,164]
[null,null,null,null,165]
[null,null,null,null,166]
[null,null,null,null,167]
[null,null,null,null,168]
[null,null,null,null,169]
[null,null,null,null,170]
[null,null,null,null,171]
[null,null,null,null,172]
[null,null,null,null,173]
[null,null,null,null,174]
[null,null,null,null,175]
[null,null,null,null,176]
[null,null,null,null,177]
[null,null,null,null,178]
[null,null,null,null,179]
[null,null,null,null,180]
[null,null,null,null,181]
[null,null,null,null,182]
[null,null,null,null,183]
[null,null,null,null,184]
[null,null,null,null,185]
[null,null,null,null,186]
[null,null,null,null,187]
[null,null,null,null,188]
[null,null,null,null,189]
[null,null,null,null,190]
[null,null,null,null,191]
[null,null,null,null,192]
[null,null,null,null,193]
[null,null,null,null,194]
[null,null,null,null,195]
[null,null,null,null,196]
[null,null,null,null,197]
[null,null,null,null,198]
[null,null,null,null,199]
[null,null,null,null,200]

{"sheet":"入力表","index":3,"n_rows":20,"n_cols":39,"rows_kept":20,"cut":false,"hidden":false,"merged":[]}
[]
[null,null,null,"転記",null,"入力シート",null,"処理\n基準日","2012-07-01",null,null,null,null,null,"明細マスタ",null,null,null,null,null,null,null,null,null,null,null,null,null,"現在日付",null,null,null,"記録数",null,"日付の入った記録","判定"]
[null,null,null,null,null,null,null,null,null,null,null,null,null,null,null,null,null,null,null,null,null,null,null,null,null,null,null,null,{"$f":"IF(I2=\"\",ROUNDDOWN(NOW(),0),I2)","v":41091},null,null,null,{"$f":"COUNTIF(AE6:AE15,\">1000\")","v":0},null,{"$f":"SUM(AM6:AM15)","v":0},{"$f":"IF(AG3=AI3,0,1)","v":0}]
[]
[null,null,"コード","お名前","フリガナ","変更","金融機関","口座番号","処理日","入金額","出金額","変更","明細",null,"コード","明細マスタ",null,null,null,null,null,null,null,null,null,null,null,null,"日付検索","名前検索","個人コード","フリガナ","金融コード","日付コード","入金額","出金額","明細",null,"判定"]
[null,null,null,{"$f":"IF(C6=\"\",\"\",VLOOKUP(C6,残高表!$C$5:$U$205,2))","v":""},{"$f":"IF(C6=\"\",\"\",VLOOKUP(C6,残高表!$C$5:$U$205,3))","v":""},null,{"$f":"IF(C6=\"\",\"\",VLOOKUP(C6,残高表!$C$5:$U$205,CHOOSE(F6+1,5,9,13,17)))","v":""},{"$f":"IF(C6=\"\",\"\",VLOOKUP(C6,残高表!$C$5:$U$205,CHOOSE(F6+1,5,9,13,17)+1))","v":""},null,null,null,null,{"$f":"IF(L6=\"\",\"\",VLOOKUP(L6,$O$5:$P$20,2))","v":""},null,1,"家族から入金",null,null,null,null,null,null,null,null,null,null,null,null,{"$f":"(AH6&AE6)*1000+(ROW()-5)","v":190001001000001},{"$f":"(AH6+AE6*100000000)*1000+ROW()-5","v":100019000100001},{"$f":"C6+1000","v":1000},{"$f":"E6","v":""},{"$f":"G6","v":""},{"$f":"YEAR(I6)*10000+MONTH(I6)*100+DAY(I6)","v":19000100},{"$f":"J6","v":0},{"$f":"K6","v":0},{"$f":"M6","v":""},null,{"$f":"IF(C6*I6>0,1,0)","v":0}]
[null,null,null,{"$f":"IF(C7=\"\",\"\",VLOOKUP(C7,残高表!$C$5:$U$205,2))","v":""},{"$f":"IF(C7=\"\",\"\",VLOOKUP(C7,残高表!$C$5:$U$205,3))","v":""},null,{"$f":"IF(C7=\"\",\"\",VLOOKUP(C7,残高表!$C$5:$U$205,CHOOSE(F7+1,5,9,13,17)))","v":""},{"$f":"IF(C7=\"\",\"\",VLOOKUP(C7,残高表!$C$5:$U$205,CHOOSE(F7+1,5,9,13,17)+1))","v":""},null,null,null,null,"",null,2,"利用料として引き落とし",null,null,null,null,null,null,null,null,null,null,null,null,190001001000002,{"$f":"(AH7+AE7*100000000)*1000+ROW()-5","v":100019000100002},1000,"",{"$f":"G7","v":""},19000100,0,0,"",null,{"$f":"IF(C7*I7>0,1,0)","v":0}]
[null,null,null,{"$f":"IF(C8=\"\",\"\",VLOOKUP(C8,残高表!$C$5:$U$205,2))","v":""},{"$f":"IF(C8=\"\",\"\",VLOOKUP(C8,残高表!$C$5:$U$205,3))","v":""},null,{"$f":"IF(C8=\"\",\"\",VLOOKUP(C8,残高表!$C$5:$U$205,CHOOSE(F8+1,5,9,13,17)))","v":""},{"$f":"IF(C8=\"\",\"\",VLOOKUP(C8,残高表!$C$5:$U$205,CHOOSE(F8+1,5,9,13,17)+1))","v":""},null,null,null,null,"",null,3,"繰越金",null,null,null,null,null,null,null,null,null,null,null,null,190001001000003,100019000100003,1000,"","",19000100,0,0,"",null,0]
[null,null,null,{"$f":"IF(C9=\"\",\"\",VLOOKUP(C9,残高表!$C$5:$U$205,2))","v":""},{"$f":"IF(C9=\"\",\"\",VLOOKUP(C9,残高表!$C$5:$U$205,3))","v":""},null,{"$f":"IF(C9=\"\",\"\",VLOOKUP(C9,残高表!$C$5:$U$205,CHOOSE(F9+1,5,9,13,17)))","v":""},{"$f":"IF(C9=\"\",\"\",VLOOKUP(C9,残高表!$C$5:$U$205,CHOOSE(F9+1,5,9,13,17)+1))","v":""},null,null,null,null,"",null,4,"口座間移動",null,null,null,null,null,null,null,null,null,null,null,null,190001001000004,100019000100004,1000,"","",19000100,0,0,"",null,0]
[null,null,null,{"$f":"IF(C10=\"\",\"\",VLOOKUP(C10,残高表!$C$5:$U$205,2))","v":""},{"$f":"IF(C10=\"\",\"\",VLOOKUP(C10,残高表!$C$5:$U$205,3))","v":""},null,{"$f":"IF(C10=\"\",\"\",VLOOKUP(C10,残高表!$C$5:$U$205,CHOOSE(F10+1,5,9,13,17)))","v":""},{"$f":"IF(C10=\"\",\"\",VLOOKUP(C10,残高表!$C$5:$U$205,CHOOSE(F10+1,5,9,13,17)+1))","v":""},null,null,null,null,"",null,5,null,null,null,null,null,null,null,null,null,null,null,null,null,190001001000005,100019000100005,1000,"","",19000100,{"$f":"J10","v":0},0,"",null,0]
[null,null,null,{"$f":"IF(C11=\"\",\"\",VLOOKUP(C11,残高表!$C$5:$U$205,2))","v":""},{"$f":"IF(C11=\"\",\"\",VLOOKUP(C11,残高表!$C$5:$U$205,3))","v":""},null,{"$f":"IF(C11=\"\",\"\",VLOOKUP(C11,残高表!$C$5:$U$205,CHOOSE(F11+1,5,9,13,17)))","v":""},{"$f":"IF(C11=\"\",\"\",VLOOKUP(C11,残高表!$C$5:$U$205,CHOOSE(F11+1,5,9,13,17)+1))","v":""},null,null,null,null,"",null,6,null,null,null,null,null,null,null,null,null,null,null,null,null,190001001000006,100019000100006,1000,"","",19000100,{"$f":"J11","v":0},0,"",null,0]
[null,null,null,{"$f":"IF(C12=\"\",\"\",VLOOKUP(C12,残高表!$C$5:$U$205,2))","v":""},{"$f":"IF(C12=\"\",\"\",VLOOKUP(C12,残高表!$C$5:$U$205,3))","v":""},null,{"$f":"IF(C12=\"\",\"\",VLOOKUP(C12,残高表!$C$5:$U$205,CHOOSE(F12+1,5,9,13,17)))","v":""},{"$f":"IF(C12=\"\",\"\",VLOOKUP(C12,残高表!$C$5:$U$205,CHOOSE(F12+1,5,9,13,17)+1))","v":""},null,null,null,null,"",null,7,null,null,null,null,null,null,null,null,null,null,null,null,null,190001001000007,100019000100007,1000,"","",19000100,0,0,"",null,0]
[null,null,null,{"$f":"IF(C13=\"\",\"\",VLOOKUP(C13,残高表!$C$5:$U$205,2))","v":""},{"$f":"IF(C13=\"\",\"\",VLOOKUP(C13,残高表!$C$5:$U$205,3))","v":""},null,{"$f":"IF(C13=\"\",\"\",VLOOKUP(C13,残高表!$C$5:$U$205,CHOOSE(F13+1,5,9,13,17)))","v":""},{"$f":"IF(C13=\"\",\"\",VLOOKUP(C13,残高表!$C$5:$U$205,CHOOSE(F13+1,5,9,13,17)+1))","v":""},null,null,null,null,"",null,8,null,null,null,null,null,null,null,null,null,null,null,null,null,190001001000008,100019000100008,1000,"","",19000100,0,0,"",null,0]
[null,null,null,{"$f":"IF(C14=\"\",\"\",VLOOKUP(C14,残高表!$C$5:$U$205,2))","v":""},{"$f":"IF(C14=\"\",\"\",VLOOKUP(C14,残高表!$C$5:$U$205,3))","v":""},null,{"$f":"IF(C14=\"\",\"\",VLOOKUP(C14,残高表!$C$5:$U$205,CHOOSE(F14+1,5,9,13,17)))","v":""},{"$f":"IF(C14=\"\",\"\",VLOOKUP(C14,残高表!$C$5:$U$205,CHOOSE(F14+1,5,9,13,17)+1))","v":""},null,null,null,null,"",null,9,null,null,null,null,null,null,null,null,null,null,null,null,null,190001001000009,100019000100009,1000,"","",19000100,0,0,"",null,0]
[null,null,null,{"$f":"IF(C15=\"\",\"\",VLOOKUP(C15,残高表!$C$5:$U$205,2))","v":""},{"$f":"IF(C15=\"\",\"\",VLOOKUP(C15,残高表!$C$5:$U$205,3))","v":""},null,{"$f":"IF(C15=\"\",\"\",VLOOKUP(C15,残高表!$C$5:$U$205,CHOOSE(F15+1,5,9,13,17)))","v":""},{"$f":"IF(C15=\"\",\"\",VLOOKUP(C15,残高表!$C$5:$U$205,CHOOSE(F15+1,5,9,13,17)+1))","v":""},null,null,null,null,"",null,10,null,null,null,null,null,null,null,null,null,null,null,null,null,190001001000010,100019000100010,1000,"","",19000100,0,0,"",null,0]
[null,null,null,null,null,null,null,null,null,null,null,null,null,null,11]
[null,null,null,null,null,null,null,null,null,null,null,null,null,null,12]
[null,null,null,null,null,null,null,null,null,null,null,null,null,null,13]
[null,null,null,null,null,null,null,null,null,null,null,null,null,null,14]
[null,null,null,null,null,null,null,null,null,null,null,null,null,null,15]

{"sheet":"記録表","index":4,"n_rows":5,"n_cols":11,"rows_kept":5,"cut":false,"hidden":false,"merged":[]}
[]
[null,null,null,null,null,null,"記録保存シート",null,null,"保護",{"$f":"IF(J2=\"保護\",\"\",\"危険！取り扱い注意！\")","v":""}]
[null,null,null,null,"日付順","名前順",null,null,"※個人コードＷクリックで記録の１行末梢ができます。"]
[]
[null,null,"検","索","個人コード","フリガナ","金融機関","日付","入金額","出金額","明細"]

{"sheet":"条件表","index":5,"n_rows":25,"n_cols":32,"rows_kept":25,"cut":false,"hidden":false,"merged":[[6,6,6,7],[11,2,12,2],[10,1,10,2],[6,2,7,2],[6,3,7,3]]}
[]
[null,null,null,null,null,null,null,null,null,null,null,null,null,null,null,null,null,null,null,null,null,null,null,null,null,null,"月別抽出"]
[null,null,"条件選択シート",null,null,null,null,null,null,"名簿更新",null,null,null,"利用者コード選択画面",null,null,null,null,null,null,null,null,null,null,null,null,{"$f":"(B10*10000+C10*100)*10000000+1+AF4*1000","v":1002001},{"$f":"AC4-COUNTIF(記録表!$C$6:$C$65536,\">\"&AA3)+1","v":1},"レコード総数","該当記録数"]
[null,null,null,null,null,null,null,null,null,null,null,null,null,"※コード番号右クリックで転写します。",null,null,null,null,null,null,null,null,null,null,null,null,{"$f":"(B10*10000+C10*100+32)*10000000+999+AF4*1000","v":321002999},{"$f":"AC4-COUNTIF(記録表!$C$6:$C$65536,\">\"&AA4)","v":0},{"$f":"COUNT(記録表!$E$6:$E$65536)","v":0},{"$f":"AB4-AB3+1","v":0},null,{"$f":"C6+1000","v":1002}]
[null,null,"番号",null,null,null,null,null,null,null,null,null,"ｺｰﾄﾞ","お名前","ｺｰﾄﾞ","お名前","ｺｰﾄﾞ","お名前","ｺｰﾄﾞ","お名前"]
[null,null,2,"→",null,"該当する利用者個人の入出金記録を抽出します。",null,null,null,"個人記録",null,null,{"$f":"選択表!E5","v":1},{"$f":"選択表!F5","v":0},{"$f":"選択表!H5","v":21},{"$f":"選択表!I5","v":0},{"$f":"選択表!K5","v":41},{"$f":"選択表!L5","v":0},{"$f":"選択表!N5","v":61},{"$f":"選択表!O5","v":0},null,null,null,null,null,null,"個人記録数"]
[null,null,"↑","↘",null,"対象者",{"$f":"IF(C6=\"\",\"\",VLOOKUP(C6,残高表!C5:W205,2))","v":0},null,"様",null,null,null,{"$f":"選択表!E6","v":2},{"$f":"選択表!F6","v":0},{"$f":"選択表!H6","v":22},{"$f":"選択表!I6","v":0},{"$f":"選択表!K6","v":42},{"$f":"選択表!L6","v":0},{"$f":"選択表!N6","v":62},{"$f":"選択表!O6","v":0},null,null,null,null,null,null,{"$f":"AF4-1","v":1001},{"$f":"AC8-COUNTIF(記録表!$E$6:$E$65536,\">\"&AA7)+1","v":1},"レコード総数","該当記録数"]
[null,null,null,null,null,null,null,null,null,null,null,null,{"$f":"選択表!E7","v":3},{"$f":"選択表!F7","v":0},{"$f":"選択表!H7","v":23},{"$f":"選択表!I7","v":0},{"$f":"選択表!K7","v":43},{"$f":"選択表!L7","v":0},{"$f":"選択表!N7","v":63},{"$f":"選択表!O7","v":0},null,null,null,null,null,null,{"$f":"AF4","v":1002},{"$f":"AC8-COUNTIF(記録表!$E$6:$E$65536,\">\"&AA8)","v":0},{"$f":"COUNT(記録表!$E$6:$E$65536)","v":0},{"$f":"COUNTIF(記録表!E6:E65536,条件表!AF4)","v":0}]
[null,"年","月",null,null,"該当する年月の利用者個人の入出金記録を抽出します。",null,null,null,"月別個人",null,null,{"$f":"選択表!E8","v":4},{"$f":"選択表!F8","v":0},{"$f":"選択表!H8","v":24},{"$f":"選択表!I8","v":0},{"$f":"選択表!K8","v":44},{"$f":"選択表!L8","v":0},{"$f":"選択表!N8","v":64},{"$f":"選択表!O8","v":0}]
[null,null,null,null,"←","右クリックで日付入力、変更も可能です。",null,null,null,null,null,null,{"$f":"選択表!E9","v":5},{"$f":"選択表!F9","v":0},{"$f":"選択表!H9","v":25},{"$f":"選択表!I9","v":0},{"$f":"選択表!K9","v":45},{"$f":"選択表!L9","v":0},{"$f":"選択表!N9","v":65},{"$f":"選択表!O9","v":0},null,null,null,null,null,null,"個別抽出"]
[null,"↓",null,null,null,null,null,null,null,null,null,null,{"$f":"選択表!E10","v":6},{"$f":"選択表!F10","v":0},{"$f":"選択表!H10","v":26},{"$f":"選択表!I10","v":0},{"$f":"選択表!K10","v":46},{"$f":"選択表!L10","v":0},{"$f":"選択表!N10","v":66},{"$f":"選択表!O10","v":0},null,null,null,null,null,null,{"$f":"(AF4*100000000+(B10*100+C10)*100)*1000+1","v":100200000000001},{"$f":"COUNTIF(記録表!$D$6:$D$65536,\"<\"&AA11)+1","v":1},"レコード総数","該当記録数"]
[null,"はじまり","→","おわり",null,"該当する年月の全利用者の入出金記録を抽出します。",null,null,null,"全記録",null,null,{"$f":"選択表!E11","v":7},{"$f":"選択表!F11","v":0},{"$f":"選択表!H11","v":27},{"$f":"選択表!I11","v":0},{"$f":"選択表!K11","v":47},{"$f":"選択表!L11","v":0},{"$f":"選択表!N11","v":67},{"$f":"選択表!O11","v":0},null,null,null,null,null,null,{"$f":"AA11+31998","v":100200000031999},{"$f":"AC12-COUNTIF(記録表!$D$6:$D$65536,\">\"&AA12)","v":0},{"$f":"COUNT(記録表!$E$6:$E$65536)","v":0},{"$f":"AB12-AB11+1","v":0}]
[null,1,null,200,null,null,null,null,null,null,null,null,{"$f":"選択表!E12","v":8},{"$f":"選択表!F12","v":0},{"$f":"選択表!H12","v":28},{"$f":"選択表!I12","v":0},{"$f":"選択表!K12","v":48},{"$f":"選択表!L12","v":0},{"$f":"選択表!N12","v":68},{"$f":"選択表!O12","v":0}]
[null,null,null,null,null,null,null,null,null,null,null,null,{"$f":"選択表!E13","v":9},{"$f":"選択表!F13","v":0},{"$f":"選択表!H13","v":29},{"$f":"選択表!I13","v":0},{"$f":"選択表!K13","v":49},{"$f":"選択表!L13","v":0},{"$f":"選択表!N13","v":69},{"$f":"選択表!O13","v":0},null,null,null,null,null,null,"繰越抽出"]
[null,null,null,null,null,null,null,null,null,"記録抹消",null,null,{"$f":"選択表!E14","v":10},{"$f":"選択表!F14","v":0},{"$f":"選択表!H14","v":30},{"$f":"選択表!I14","v":0},{"$f":"選択表!K14","v":50},{"$f":"選択表!L14","v":0},{"$f":"選択表!N14","v":70},{"$f":"選択表!O14","v":0},null,null,null,null,null,null,{"$f":"AF4*100000000000","v":100200000000000},{"$f":"SUMIF(記録表!D6:D65536,\"<\"&AA15,記録表!I6:I65536)-SUMIF(記録表!D6:D65536,\"<\"&AA15,記録表!J6:J65536)","v":0},"結果"]
[null,null,null,null,null,null,null,null,null,null,null,null,{"$f":"選択表!E15","v":11},{"$f":"選択表!F15","v":0},{"$f":"選択表!H15","v":31},{"$f":"選択表!I15","v":0},{"$f":"選択表!K15","v":51},{"$f":"選択表!L15","v":0},{"$f":"選択表!N15","v":71},{"$f":"選択表!O15","v":0},null,null,null,null,null,null,{"$f":"AA11-2","v":100199999999999},{"$f":"SUMIF(記録表!D6:D65536,\"<\"&AA16,記録表!I6:I65536)-SUMIF(記録表!D6:D65536,\"<\"&AA16,記録表!J6:J65536)","v":0},{"$f":"AB16-AB15","v":0}]
[null,null,null,null,null,null,null,null,null,null,null,null,{"$f":"選択表!E16","v":12},{"$f":"選択表!F16","v":0},{"$f":"選択表!H16","v":32},{"$f":"選択表!I16","v":0},{"$f":"選択表!K16","v":52},{"$f":"選択表!L16","v":0},{"$f":"選択表!N16","v":72},{"$f":"選択表!O16","v":0}]
[null,null,null,null,null,null,null,null,null,null,null,null,{"$f":"選択表!E17","v":13},{"$f":"選択表!F17","v":0},{"$f":"選択表!H17","v":33},{"$f":"選択表!I17","v":0},{"$f":"選択表!K17","v":53},{"$f":"選択表!L17","v":0},{"$f":"選択表!N17","v":73},{"$f":"選択表!O17","v":0},null,null,null,null,null,null,"日付","月"]
[null,null,null,null,null,null,null,null,null,null,null,null,{"$f":"選択表!E18","v":14},{"$f":"選択表!F18","v":0},{"$f":"選択表!H18","v":34},{"$f":"選択表!I18","v":0},{"$f":"選択表!K18","v":54},{"$f":"選択表!L18","v":0},{"$f":"選択表!N18","v":74},{"$f":"選択表!O18","v":0},null,null,null,null,null,null,{"$f":"YEAR(NOW())","v":2012},{"$f":"MONTH(NOW())","v":6}]
[null,null,null,null,null,null,null,null,null,null,null,null,{"$f":"選択表!E19","v":15},{"$f":"選択表!F19","v":0},{"$f":"選択表!H19","v":35},{"$f":"選択表!I19","v":0},{"$f":"選択表!K19","v":55},{"$f":"選択表!L19","v":0},{"$f":"選択表!N19","v":75},{"$f":"選択表!O19","v":0}]
[null,null,null,null,null,null,null,null,null,null,null,null,{"$f":"選択表!E20","v":16},{"$f":"選択表!F20","v":0},{"$f":"選択表!H20","v":36},{"$f":"選択表!I20","v":0},{"$f":"選択表!K20","v":56},{"$f":"選択表!L20","v":0},{"$f":"選択表!N20","v":76},{"$f":"選択表!O20","v":0}]
[null,null,null,null,null,null,null,null,null,null,null,null,{"$f":"選択表!E21","v":17},{"$f":"選択表!F21","v":0},{"$f":"選択表!H21","v":37},{"$f":"選択表!I21","v":0},{"$f":"選択表!K21","v":57},{"$f":"選択表!L21","v":0},{"$f":"選択表!N21","v":77},{"$f":"選択表!O21","v":0}]
[null,null,null,null,null,null,null,null,null,null,null,null,{"$f":"選択表!E22","v":18},{"$f":"選択表!F22","v":0},{"$f":"選択表!H22","v":38},{"$f":"選択表!I22","v":0},{"$f":"選択表!K22","v":58},{"$f":"選択表!L22","v":0},{"$f":"選択表!N22","v":78},{"$f":"選択表!O22","v":0}]
[null,null,null,null,null,null,null,null,null,null,null,null,{"$f":"選択表!E23","v":19},{"$f":"選択表!F23","v":0},{"$f":"選択表!H23","v":39},{"$f":"選択表!I23","v":0},{"$f":"選択表!K23","v":59},{"$f":"選択表!L23","v":0},{"$f":"選択表!N23","v":79},{"$f":"選択表!O23","v":0}]
[null,null,null,null,null,null,null,null,null,null,null,null,{"$f":"選択表!E24","v":20},{"$f":"選択表!F24","v":0},{"$f":"選択表!H24","v":40},{"$f":"選択表!I24","v":0},{"$f":"選択表!K24","v":60},{"$f":"選択表!L24","v":0},{"$f":"選択表!N24","v":80},{"$f":"選択表!O24","v":0}]

{"sheet":"抽出表","index":6,"n_rows":5,"n_cols":35,"rows_kept":5,"cut":false,"hidden":false,"merged":[]}
[]
[null,null,null,null,null,null,"記録抽出シート",null,null,null,null,null,null,null,null,null,null,null,null,null,null,null,null,null,null,null,{"$f":"MAX($AA$6:$AA$2006)+1","v":1},{"$f":"MAX($AB$6:$AB$2006)+1","v":1},"－","前月繰越残高",{"$f":"条件表!$AC$16","v":0},{"$f":"IF(条件表!B10=\"\",MAX(AF6:AF2000),条件表!$B$10&条件表!$B$9&条件表!$C$10&条件表!$C$9)","v":0},{"$f":"SUM($AG$6:$AG$2006)","v":0},{"$f":"SUM($AH$6:$AH$2006)","v":0},{"$f":"$AG$2-$AH$2","v":0}]
[null,null,null,null,"消去",null,null,null,null,null,null,null,null,null,null,null,null,null,null,null,null,null,null,null,null,null,{"$f":"$AA$2+1","v":2},{"$f":"$AB$2+1","v":2},"－","月末繰越残高",{"$f":"AE2+AI2","v":0},"残高",{"$f":"SUMIF(記録表!$E$6:$E$65536,$AC$6,記録表!$I$6:$I$65536)-SUMIF(記録表!$E$6:$E$65536,$AC$6,記録表!$J$6:$J$65536)","v":0},"現在差額",{"$f":"-(AE3-AG3)","v":0}]
[]
[null,null,"日付検索","フリガナ検索","個人コード","フリガナ","金融機関","日付","入金額","出金額","明細／月間小計",null,null,null,null,null,null,null,null,null,null,null,null,null,null,null,"日付検索","フリガナ検索","個人コード","フリガナ","金融機関","日付","入金額","出金額","明細"]