{"text_format":"1","workbook":"xlsx","n_sheets":4,"sheets":["モデルシート","入力シート","記録シート１","記録シート２"],"not_rendered":{"charts":0,"images":0,"macros":1,"external_links":0,"defined_names":3,"comments":0,"pivot_tables":0},"unopened":[],"bounds":{"document_bytes":16777216,"sheet_cells":100000,"rows_first":2000,"rows_last":500,"rows_between":2000,"halvings":0,"cell_chars":16384,"cell_head_chars":4096},"cells_cut":0,"cells_raw":0,"read":"whole","date_system":"1900"}

{"sheet":"モデルシート","index":0,"n_rows":50,"n_cols":44,"rows_kept":50,"cut":false,"hidden":false,"merged":[[1,4,1,6],[2,4,2,6],[4,3,5,15],[6,15,6,16],[8,9,9,11],[8,12,9,12],[10,9,10,10],[10,11,10,12],[1,13,1,14],[1,8,2,12],[6,17,6,20],[7,3,7,4],[7,5,7,7],[33,14,34,15],[33,16,34,20],[30,14,31,15],[30,16,31,20],[17,9,17,10],[17,12,17,20],[18,12,18,20],[19,12,19,20],[14,5,14,6],[15,3,15,4],[15,5,15,7],[15,8,15,9],[15,10,15,13],[8,3,10,7],[8,8,10,8],[36,14,37,15],[36,16,37,20],[39,14,40,15],[39,16,40,20],[41,14,42,14],[41,15,42,20],[27,14,28,15],[27,16,28,20],[11,10,11,12],[12,10,14,20],[15,14,15,20],[20,12,20,20],[21,8,21,10],[21,12,21,20],[24,14,25,15],[24,16,25,20],[49,3,49,5],[42,5,42,12],[45,6,45,8],[45,9,46,20],[46,6,46,8],[47,6,47,20],[48,3,48,5],[48,6,48,20],[47,3,47,5],[44,3,44,5],[44,6,44,8],[45,3,45,5],[46,3,46,5],[7,26,7,27],[7,28,7,30],[8,26,10,30],[8,31,10,31],[8,32,9,34],[4,26,5,38],[6,38,6,39],[6,40,6,43],[3,26,3,27],[3,36,3,37],[3,39,3,40],[14,28,14,29],[15,26,15,27],[15,28,15,30],[15,31,15,32],[15,33,15,36],[8,35,9,35],[10,32,10,33],[10,34,10,35],[11,33,11,35],[12,33,14,43],[20,35,20,43],[21,31,21,33],[21,35,21,43],[24,37,25,38],[24,39,25,43],[15,37,15,43],[17,32,17,33],[17,35,17,43],[18,35,18,43],[19,35,19,43],[36,37,37,38],[36,39,37,43],[39,37,40,38],[39,39,40,43],[41,37,42,37],[41,38,42,43],[27,37,28,38],[27,39,28,43],[30,37,31,38],[30,39,31,43],[33,37,34,38],[33,39,34,43],[47,26,47,28],[47,29,47,43],[48,26,48,28],[48,29,48,43],[49,26,49,28],[42,28,42,35],[44,26,44,28],[44,29,44,31],[45,26,45,28],[45,29,45,31],[45,32,46,43],[46,26,46,28],[46,29,46,31]]}
[]
[null,null,null,null,"変更可能な部分",null,null,null,"デザイン変更はこの画面から。\nまた、デフォルト（初期設定）として入力に反映します。",null,null,null,null,"印刷"]
[null,null,null,null,"クリック変更"]
[]
[null,null,null,"特別養護老人ホーム辰巳萬緑苑・経口移行・維持計画書",null,null,null,null,null,null,null,null,null,null,null,null,null,null,null,null,null,null,null,null,null,null,{"$f":"D5","v":"特別養護老人ホーム辰巳萬緑苑・経口移行・維持計画書"},{"$f":"E5","v":0},{"$f":"F5","v":0},{"$f":"G5","v":0},{"$f":"H5","v":0},{"$f":"I5","v":0},{"$f":"J5","v":0},{"$f":"K5","v":0},{"$f":"L5","v":0},{"$f":"M5","v":0},{"$f":"N5","v":0},{"$f":"O5","v":0},{"$f":"P5","v":0}]
[null,null,null,null,null,null,null,null,null,null,null,null,null,null,null,null,null,null,null,null,null,null,null,null,null,null,0,0,0,0,0,0,0,0,0,0,0,0,0]
[null,null,null,"１．基本情報",null,null,null,null,null,null,null,null,null,null,null,"記録日",null,null,null,null,null,null,null,null,null,null,"１．基本情報",null,null,null,null,null,null,null,null,null,null,null,"記録日"]
[null,null,null,"フリガナ\nお名前",null,null,null,null,"性別","生年月日",null,null,"年齢","経口摂取の状態",null,null,null,"■","初回","□","継続",null,null,null,null,null,"フリガナ\nお名前",null,null,null,null,"性別","生年月日",null,null,"年齢","経口摂取の状態",null,null,null,{"$f":"R8","v":"■"},"初回",{"$f":"T8","v":"□"},"継続"]
[null,null,null,null,null,null,null,null,null,{"$f":"IF($D$4=\"\",\"\",VLOOKUP($D$4,記録シート１!$D$6:$CG$2007,AJ57))","v":""},{"$f":"IF($D$4=\"\",\"\",VLOOKUP($D$4,記録シート１!$D$6:$CG$2007,AK57))","v":""},{"$f":"IF($D$4=\"\",\"\",VLOOKUP($D$4,記録シート１!$D$6:$CG$2007,AL57))","v":""},{"$f":"IF(OR(J9=\"\",J9=0),\"\",DATEDIF(J9,TODAY(),\"y\"))","v":""},"□","自歯の使用あり",null,null,"算定加算",null,null,null,null,null,null,null,null,null,null,null,null,null,null,{"$f":"IF($D$4=\"\",\"\",VLOOKUP($D$4,記録シート１!$D$6:$CG$2007,BG57))","v":""},{"$f":"IF($D$4=\"\",\"\",VLOOKUP($D$4,記録シート１!$D$6:$CG$2007,BH57))","v":""},{"$f":"IF($D$4=\"\",\"\",VLOOKUP($D$4,記録シート１!$D$6:$CG$2007,BI57))","v":""},{"$f":"IF(OR(AG9=\"\",AG9=0),\"\",DATEDIF(AG9,TODAY(),\"y\"))","v":""},"□","自歯の使用あり",null,null,"算定加算"]
[null,null,null,null,null,null,null,null,null,{"$f":"IF($D$4=\"\",\"\",VLOOKUP($D$4,記録シート１!$D$6:$CG$2007,AJ58))","v":""},{"$f":"IF($D$4=\"\",\"\",VLOOKUP($D$4,記録シート１!$D$6:$CG$2007,AK58))","v":""},{"$f":"IF($D$4=\"\",\"\",VLOOKUP($D$4,記録シート１!$D$6:$CG$2007,AL58))","v":""},null,"□","義歯の使用あり",null,null,"□","経口移行加算",null,null,null,null,null,null,null,null,null,null,null,null,null,{"$f":"IF($D$4=\"\",\"\",VLOOKUP($D$4,記録シート１!$D$6:$CG$2007,BG58))","v":""},{"$f":"IF($D$4=\"\",\"\",VLOOKUP($D$4,記録シート１!$D$6:$CG$2007,BH58))","v":""},{"$f":"IF($D$4=\"\",\"\",VLOOKUP($D$4,記録シート１!$D$6:$CG$2007,BI58))","v":""},null,{"$f":"N10","v":"□"},"義歯の使用あり",null,null,{"$f":"R10","v":"□"},"経口移行加算"]
[null,null,null,null,null,null,null,null,null,"要介護度",null,{"$f":"IF($D$4=\"\",\"\",VLOOKUP($D$4,記録シート１!$D$6:$CG$2007,AL59))","v":""},{"$f":"IF($D$4=\"\",\"\",VLOOKUP($D$4,記録シート１!$D$6:$CG$2007,AM59))","v":""},"■","食事介助の必要あり",null,null,"■","経口維持加算Ⅰ",null,null,null,null,null,null,null,null,null,null,null,null,null,"要介護度",null,{"$f":"IF($D$4=\"\",\"\",VLOOKUP($D$4,記録シート１!$D$6:$CG$2007,BI59))","v":""},{"$f":"IF($D$4=\"\",\"\",VLOOKUP($D$4,記録シート１!$D$6:$CG$2007,BJ59))","v":""},"■","食事介助の必要あり",null,null,"■","経口維持加算Ⅰ"]
[null,null,null,"摂取・嚥下機能の実施",null,null,null,"把握された課題",null,null,"備考（テスト・観察前の課題）",null,null,"□","その他（以下に記述）",null,null,"□","経口維持加算Ⅱ",null,null,null,null,null,null,null,"摂取・嚥下機能の実施",null,null,null,"把握された課題",null,null,"備考（テスト・観察前の課題）",null,null,"□","その他（以下に記述）",null,null,"□","経口維持加算Ⅱ"]
[null,null,null,"□","水飲みテスト",null,null,"□","認知機能",null,null,null,null,null,null,null,null,null,null,null,null,null,null,null,null,null,{"$f":"D13","v":"□"},"水飲みテスト",null,null,{"$f":"H13","v":"□"},"認知機能",null,{"$f":"K13","v":0},{"$f":"L13","v":0},{"$f":"M13","v":0},{"$f":"N13","v":0},{"$f":"O13","v":0},{"$f":"P13","v":0},{"$f":"Q13","v":0},{"$f":"R13","v":0},{"$f":"S13","v":0},{"$f":"T13","v":0},{"$f":"U13","v":0}]
[null,null,null,"■","食事観察による確認",null,null,"□","咀嚼・口腔機能",null,null,null,null,null,null,null,null,null,null,null,null,null,null,null,null,null,"■","食事観察による確認",null,null,"□","咀嚼・口腔機能",null,0,0,0,0,0,0,0,0,0,0,0]
[null,null,null,"□","その他",null,null,"□","嚥下機能",null,null,null,null,null,null,null,null,null,null,null,null,null,null,null,null,null,"□","その他",{"$f":"F15","v":0},0,"□","嚥下機能",null,0,0,0,0,0,0,0,0,0,0,0]
[null,null,null,"確認日",null,null,null,null,"協力医療機関",null,"医療法人社団琢心会　辰巳病院",null,null,null,"ここのえ歯科医院",null,null,null,null,null,null,null,null,null,null,null,"確認日",null,null,null,null,"協力医療機関",null,"医療法人社団琢心会　辰巳病院",0,0,0,"ここのえ歯科医院",0,0,0,0,0,0]
[null,null,null,"２．食事観察と検討の実施",null,null,null,null,null,null,null,null,null,null,null,null,null,null,null,null,null,null,null,null,null,null,"２．食事観察と検討の実施"]
[null,null,null,"参加した職員等",null,null,null,"観察・検討した日",null,null,null,"食事の環境",null,null,null,null,null,null,null,null,null,null,null,null,null,null,"参加した職員等",null,null,null,"観察・検討した日",null,null,null,{"$f":"L18","v":"食事の環境"}]
[null,null,null,"□","医師・歯科医師",null,null,"■","管理栄養士",null,null,"食事の形態",null,null,null,null,null,null,null,null,null,null,null,null,null,null,{"$f":"D19","v":"□"},"医師・歯科医師",null,null,{"$f":"H19","v":"■"},"管理栄養士",null,null,{"$f":"L19","v":"食事の形態"}]
[null,null,null,"■","介護支援専門員",null,null,"■","担当介護職員",null,null,"摂取の方法",null,null,null,null,null,null,null,null,null,null,null,null,null,null,"■","介護支援専門員",null,null,"■","担当介護職員",null,null,{"$f":"L20","v":"摂取の方法"}]
[null,null,null,"■","看護職員",null,null,"□","ご家族",null,null,"療養食など",null,null,null,null,null,null,null,null,null,null,null,null,null,null,"■","看護職員",null,null,"□","ご家族",null,null,{"$f":"L21","v":"療養食など"}]
[null,null,null,"■","施設長",null,"その他","□",null,null,null,"持病・治療",null,null,null,null,null,null,null,null,null,null,null,null,null,null,"■","施設長",null,"その他",{"$f":"H22","v":"□"},{"$f":"I22","v":0},0,0,{"$f":"L22","v":"持病・治療"}]
[null,null,null,"３．経口による継続的な食事摂取のための支援の観点",null,null,null,null,null,null,null,null,null,null,"４．観察結果の検討",null,null,null,null,null,null,null,null,null,null,null,"３．経口による継続的な食事摂取のための支援の観点",null,null,null,null,null,null,null,null,null,null,"４．観察結果の検討"]
[null,null,null,null,"上半身が左右や前後に傾く傾向があり、座位の保持が困難である。",null,null,null,null,null,null,null,null,null,"食事形態の変化の必要性",null,null,null,null,null,null,null,null,"Ｏ列の入力",null,null,{"$f":"D24","v":0},{"$f":"E24","v":"上半身が左右や前後に傾く傾向があり、座位の保持が困難である。"},null,null,null,null,null,null,null,null,null,"食事形態の変化の必要性"]
[null,null,null,null,"頸部が後屈しがちである。",null,null,null,null,null,null,null,null,null,"現状継続",null,null,null,null,null,null,null,null,"現状継続",null,null,0,"頸部が後屈しがちである。",null,null,null,null,null,null,null,null,null,{"$f":"O25","v":"現状継続"},{"$f":"P25","v":0}]
[null,null,null,null,"脳血管疾患等による麻痺症状がある。",null,null,null,null,null,null,null,null,null,null,null,null,null,null,null,null,null,null,"変　更",null,null,0,"脳血管疾患等による麻痺症状がある。",null,null,null,null,null,null,null,null,null,0,0]
[null,null,null,null,"認知症により、食事に対する認知能力に問題がある。",null,null,null,null,null,null,null,null,null,"補助食の必要性",null,null,null,null,null,null,null,null,"経過観察",null,null,0,"認知症により、食事に対する認知能力に問題がある。",null,null,null,null,null,null,null,null,null,{"$f":"O27","v":"補助食の必要性"}]
[null,null,null,null,"失明・空間失認などにより、食事位置などが判らない。",null,null,null,null,null,null,null,null,null,"現状継続",null,null,null,null,null,null,null,null,"検討課題",null,null,0,"失明・空間失認などにより、食事位置などが判らない。",null,null,null,null,null,null,null,null,null,{"$f":"O28","v":"現状継続"},{"$f":"P28","v":0}]
[null,null,null,null,"食べ始められない。食事を頻繁に中断してしまう。食事に集中できない。",null,null,null,null,null,null,null,null,null,null,null,null,null,null,null,null,null,null,null,null,null,0,"食べ始められない。食事を頻繁に中断してしまう。食事に集中できない。",null,null,null,null,null,null,null,null,null,0,0]
[null,null,null,null,"食事そのものまたはその介助を拒否することがある。",null,null,null,null,null,null,null,null,null,"食事介助方法",null,null,null,null,null,null,null,null,null,null,null,0,"食事そのものまたはその介助を拒否することがある。",null,null,null,null,null,null,null,null,null,{"$f":"O30","v":"食事介助方法"}]
[null,null,null,null,"食事に時間がかかり疲労してしまう。食事中に寝てしまう。",null,null,null,null,null,null,null,null,null,"現状継続",null,null,null,null,null,null,null,null,null,null,null,0,"食事に時間がかかり疲労してしまう。食事中に寝てしまう。",null,null,null,null,null,null,null,null,null,{"$f":"O31","v":"現状継続"},{"$f":"P31","v":0}]
[null,null,null,null,"次から次へと食事を口に運び、口腔内がいっぱいになってしまう。",null,null,null,null,null,null,null,null,null,null,null,null,null,null,null,null,null,null,null,null,null,0,"次から次へと食事を口に運び、口腔内がいっぱいになってしまう。",null,null,null,null,null,null,null,null,null,0,0]
[null,null,null,null,"口腔内が乾燥している。口腔内の衛生状態が悪い。",null,null,null,null,null,null,null,null,null,"口腔ケアの方法",null,null,null,null,null,null,null,null,null,null,null,0,"口腔内が乾燥している。口腔内の衛生状態が悪い。",null,null,null,null,null,null,null,null,null,{"$f":"O33","v":"口腔ケアの方法"}]
[null,null,null,null,"咀嚼能力に問題がある。",null,null,null,null,null,null,null,null,null,"現状継続",null,null,null,null,null,null,null,null,null,null,null,0,"咀嚼能力に問題がある。",null,null,null,null,null,null,null,null,null,{"$f":"O34","v":"現状継続"},{"$f":"P34","v":0}]
[null,null,null,null,"自歯・義歯に問題がある。",null,null,null,null,null,null,null,null,null,null,null,null,null,null,null,null,null,null,null,null,null,0,"自歯・義歯に問題がある。",null,null,null,null,null,null,null,null,null,0,0]
[null,null,null,null,"口から食物や唾液がこぼれる。",null,null,null,null,null,null,null,null,null,"医療または歯科受診の必要性",null,null,null,null,null,null,null,null,null,null,null,0,"口から食物や唾液がこぼれる。",null,null,null,null,null,null,null,null,null,{"$f":"O36","v":"医療または歯科受診の必要性"}]
[null,null,null,null,"口腔内に食物残滓が目立つ。",null,null,null,null,null,null,null,null,null,"現状継続",null,null,null,null,null,null,null,null,null,null,null,0,"口腔内に食物残滓が目立つ。",null,null,null,null,null,null,null,null,null,{"$f":"O37","v":"現状継続"},{"$f":"P37","v":0}]
[null,null,null,null,"食物がなかなか呑み込めず、嚥下に時間がかかる。",null,null,null,null,null,null,null,null,null,null,null,null,null,null,null,null,null,null,null,null,null,0,"食物がなかなか呑み込めず、嚥下に時間がかかる。",null,null,null,null,null,null,null,null,null,0,0]
[null,null,null,null,"食事中や食後に濁った声や呼吸音になる。",null,null,null,null,null,null,null,null,null,"食事環境の変更の必要性",null,null,null,null,null,null,null,null,null,null,null,0,"食事中や食後に濁った声や呼吸音になる。",null,null,null,null,null,null,null,null,null,{"$f":"O39","v":"食事環境の変更の必要性"}]
[null,null,null,null,"頻繁にむせこんだり、咳き込んだりする。",null,null,null,null,null,null,null,null,null,"現状継続",null,null,null,null,null,null,null,null,null,null,null,0,"頻繁にむせこんだり、咳き込んだりする。",null,null,null,null,null,null,null,null,null,{"$f":"O40","v":"現状継続"},{"$f":"P40","v":0}]
[null,null,null,null,"食事中につかえたり、嘔吐したことが直近１ヶ月以内にある。",null,null,null,null,null,null,null,null,null,null,null,null,null,null,null,null,null,null,null,null,null,0,"食事中につかえたり、嘔吐したことが直近１ヶ月以内にある。",null,null,null,null,null,null,null,null,null,0,0]
[null,null,null,null,"食事の摂取量に問題がある。",null,null,null,null,null,null,null,null,null,"その他",null,null,null,null,null,null,null,null,null,null,null,0,"食事の摂取量に問題がある。",null,null,null,null,null,null,null,null,null,"その他"]
[null,null,null,null,"その他",null,null,null,null,null,null,null,null,null,null,null,null,null,null,null,null,null,null,null,null,null,null,"その他",null,null,null,null,null,null,null,null,null,0]
[null,null,null,"５．経口による食事摂取のための計画",null,null,null,null,null,null,null,null,null,null,null,null,null,null,null,null,null,null,null,null,null,null,"５．経口による食事摂取のための計画"]
[null,null,null,"初回作成日",null,null,null,null,null,"解決すべき課題や目標",null,null,null,null,null,null,null,null,null,null,null,null,null,null,null,null,"初回作成日",null,null,null,null,null,"解決すべき課題や目標"]
[null,null,null,"計画変更日",null,null,null,null,null,null,null,null,null,null,null,null,null,null,null,null,null,null,null,null,null,null,"計画変更日",null,null,null,null,null,{"$f":"J46","v":0},{"$f":"K46","v":0},{"$f":"L46","v":0},{"$f":"M46","v":0},{"$f":"N46","v":0},{"$f":"O46","v":0},{"$f":"P46","v":0},{"$f":"Q46","v":0},{"$f":"R46","v":0},{"$f":"S46","v":0},{"$f":"T46","v":0},{"$f":"U46","v":0}]
[null,null,null,"計画作成者",null,null,"星野徳明（介護支援専門員）",null,null,null,null,null,null,null,null,null,null,null,null,null,null,null,null,null,null,null,"計画作成者",null,null,{"$f":"G47","v":"星野徳明（介護支援専門員）"},0,0,0,0,0,0,0,0,0,0,0,0,0,0]
[null,null,null,"ご家族の意見など",null,null,null,null,null,null,null,null,null,null,null,null,null,null,null,null,null,null,null,null,null,null,"ご家族の意見など",null,null,0,0,0,{"$f":"J48","v":0},0,0,0,0,0,0,0,0,0,0,0]
[null,null,null,"備　　考",null,null,null,null,null,null,null,null,null,null,null,null,null,null,null,null,null,null,null,null,null,null,"備　　考",null,null,0,0,0,0,0,0,0,0,0,0,0,0,0,0,0]
[null,null,null,"同意年月日（初回）",null,null,null,"平成　　　年　　　月　　　日",null,null,null,"同意者のサイン",null,null,null,null,null,"印","関係",null,null,null,null,null,null,null,"同意年月日（初回）",null,null,null,"平成　　　年　　　月　　　日",null,null,null,"同意者のサイン",null,null,null,null,null,"印","関係"]

{"sheet":"入力シート","index":1,"n_rows":147,"n_cols":162,"rows_kept":147,"cut":false,"hidden":false,"merged":[[94,6,94,8],[95,9,96,20],[97,6,97,20],[54,3,55,15],[56,15,56,16],[56,17,56,20],[57,3,57,4],[57,5,57,7],[58,3,60,7],[58,8,60,8],[58,9,59,11],[58,12,59,12],[60,9,60,10],[60,11,60,12],[95,3,95,5],[95,6,95,8],[96,3,96,5],[96,6,96,8],[97,3,97,5],[67,9,67,10],[67,12,67,20],[61,10,61,12],[62,10,64,20],[64,5,64,6],[98,3,98,5],[98,6,98,20],[68,12,68,20],[99,3,99,5],[86,14,87,15],[86,16,87,20],[89,14,90,15],[89,16,90,20],[91,14,92,14],[91,15,92,20],[80,14,81,15],[80,16,81,20],[83,14,84,15],[83,16,84,20],[74,14,75,15],[74,16,75,20],[77,14,78,15],[77,16,78,20],[69,12,69,20],[70,12,70,20],[71,12,71,20],[71,8,71,10],[92,5,92,12],[94,3,94,5],[65,3,65,4],[65,5,65,7],[65,8,65,9],[65,10,65,13],[65,14,65,20],[145,29,145,31],[145,32,145,46],[136,42,137,46],[138,40,139,40],[138,41,139,46],[115,38,115,46],[116,38,116,46],[117,38,117,46],[118,34,118,36],[118,38,118,46],[121,40,122,41],[121,42,122,46],[124,40,125,41],[124,42,125,46],[108,36,108,38],[109,36,111,46],[111,31,111,32],[112,29,112,30],[112,31,112,33],[146,29,146,31],[1,55,1,56],[1,58,1,59],[1,6,1,7],[0,58,0,59],[1,13,1,14],[1,16,1,17],[139,31,139,38],[141,29,141,31],[141,32,141,34],[142,29,142,31],[142,32,142,34],[142,35,143,46],[143,29,143,31],[143,32,143,34],[144,29,144,31],[144,32,144,46],[127,40,128,41],[127,42,128,46],[130,40,131,41],[130,42,131,46],[133,40,134,41],[133,42,134,46],[136,40,137,41],[112,34,112,35],[112,36,112,39],[112,40,112,46],[114,35,114,36],[114,38,114,46],[1,3,1,4],[101,29,102,41],[103,41,103,42],[103,43,103,46],[104,29,104,30],[104,31,104,33],[105,29,107,33],[105,34,107,34],[105,35,106,37],[105,38,106,38],[107,35,107,36],[107,37,107,38],[33,16,34,20],[36,14,37,15],[36,16,37,20],[39,14,40,15],[39,16,40,20],[47,3,47,5],[46,6,46,8],[11,36,11,38],[4,29,5,41],[6,41,6,42],[4,3,5,15],[20,38,20,46],[6,43,6,46],[7,29,7,30],[7,31,7,33],[19,38,19,46],[8,3,10,7],[8,8,10,8],[15,3,15,4],[15,5,15,7],[15,8,15,9],[11,10,11,12],[12,36,14,46],[14,31,14,32],[15,29,15,30],[15,31,15,33],[15,36,15,39],[15,40,15,46],[15,14,15,20],[12,10,14,20],[18,12,18,20],[49,3,49,5],[7,3,7,4],[24,14,25,15],[24,16,25,20],[27,14,28,15],[27,16,28,20],[44,3,44,5],[45,3,45,5],[46,3,46,5],[41,15,42,20],[41,14,42,14],[44,6,44,8],[45,6,45,8],[45,9,46,20],[30,14,31,15],[30,16,31,20],[14,5,14,6],[19,12,19,20],[47,6,47,20],[20,12,20,20],[21,12,21,20],[15,10,15,13],[48,3,48,5],[48,6,48,20],[33,14,34,15],[49,29,49,31],[44,29,44,31],[44,32,44,34],[45,29,45,31],[45,32,45,34],[15,34,15,35],[17,9,17,10],[21,8,21,10],[42,5,42,12],[17,12,17,20],[45,35,46,46],[46,29,46,31],[46,32,46,34],[39,40,40,41],[39,42,40,46],[41,40,42,40],[41,41,42,46],[42,31,42,38],[4,55,5,67],[6,67,6,68],[15,55,15,56],[15,57,15,59],[15,60,15,61],[15,62,15,65],[15,66,15,72],[8,55,10,59],[8,60,10,60],[11,62,11,64],[8,61,9,63],[8,64,9,64],[10,61,10,62],[10,63,10,64],[21,60,21,62],[21,64,21,72],[6,69,6,72],[7,55,7,56],[7,57,7,59],[47,29,47,31],[47,32,47,46],[48,29,48,31],[48,32,48,46],[30,40,31,41],[30,42,31,46],[33,40,34,41],[33,42,34,46],[36,40,37,41],[36,42,37,46],[21,34,21,36],[21,38,21,46],[24,40,25,41],[24,42,25,46],[27,40,28,41],[27,42,28,46],[17,35,17,36],[17,38,17,46],[18,38,18,46],[12,62,14,72],[14,57,14,58],[24,66,25,67],[24,68,25,72],[27,66,28,67],[27,68,28,72],[17,61,17,62],[17,64,17,72],[18,64,18,72],[19,64,19,72],[20,64,20,72],[39,66,40,67],[39,68,40,72],[41,66,42,66],[41,67,42,72],[42,57,42,64],[30,66,31,67],[30,68,31,72],[33,66,34,67],[33,68,34,72],[36,66,37,67],[36,68,37,72],[47,55,47,57],[47,58,47,72],[48,55,48,57],[48,58,48,72],[49,55,49,57],[44,55,44,57],[44,58,44,60],[45,55,45,57],[45,58,45,60],[45,61,46,72],[46,55,46,57],[46,58,46,60],[3,3,3,4],[3,13,3,14],[3,16,3,17],[8,9,9,11],[8,12,9,12],[10,9,10,10],[10,11,10,12],[8,35,9,37],[8,38,9,38],[10,35,10,36],[10,37,10,38],[8,29,10,33],[8,34,10,34],[7,5,7,7],[6,15,6,16],[6,17,6,20],[52,29,53,41],[54,41,54,42],[54,43,54,46],[55,29,55,30],[55,31,55,33],[56,29,58,33],[56,34,58,34],[56,35,57,37],[56,38,57,38],[58,35,58,36],[58,37,58,38],[59,36,59,38],[60,36,62,46],[62,31,62,32],[63,29,63,30],[63,31,63,33],[63,34,63,35],[63,36,63,39],[63,40,63,46],[65,35,65,36],[65,38,65,46],[66,38,66,46],[67,38,67,46],[68,38,68,46],[69,34,69,36],[69,38,69,46],[72,40,73,41],[72,42,73,46],[75,40,76,41],[75,42,76,46],[78,40,79,41],[78,42,79,46],[81,40,82,41],[81,42,82,46],[84,40,85,41],[84,42,85,46],[87,40,88,41],[87,42,88,46],[89,40,90,40],[89,41,90,46],[96,29,96,31],[96,32,96,46],[97,29,97,31],[90,31,90,38],[92,29,92,31],[92,32,92,34],[93,29,93,31],[93,32,93,34],[93,35,94,46],[94,29,94,31],[94,32,94,34],[95,29,95,31],[95,32,95,46]]}
[null,null,null,null,null,null,null,null,null,null,null,null,null,null,null,null,null,null,null,null,null,null,null,null,null,null,null,null,null,null,null,null,null,null,null,null,null,null,null,null,null,null,null,null,null,null,null,null,null,"名前の入力",null,null,null,null,null,null,null,"初めての記録\n大きな変化\n確実に残す","微修正\n記事訂正",null,null,null,null,null,null,null,null,null,null,null,null,null,null,null,null,null,null,null,null,null,{"$f":"YEAR(CF1)*10000","v":20150000},{"$f":"MONTH(CF1)*100","v":400},{"$f":"DAY(CF1)","v":11},{"$f":"$BR$7","v":"2015-04-11"}]
[null,null,null,"新規",null,"呼出","参照入力",null,null,null,null,null,null,"単票印刷",null,null,"連続印刷",null,null,null,null,null,null,null,null,null,null,null,null,null,null,null,null,null,null,null,null,null,null,null,null,null,null,null,null,null,null,null,null,{"$f":"IF(OR(BF8=0,BF8=\"\"),0,1)*IF(OR(BD9=0,BD9=\"\"),0,1)","v":0},null,null,null,null,null,"戻る",null,"保存転写","上書転写",null,null,null,null,null,null,null,null,null,null,null,null,null,null,null,null,null,null,null,null,null,0,1,2,3,4,5,6,6,7,8,9,10,11,12,13,14,15,16,17,18,19,20,21,22,23,24,25,26,27,28,29,30,31,32,33,34,35,36,37,38,39,40,41,42,43,44,45,46,47,48,49,50,51,52,53,54,55,56,57,58,59,60,61,62,63,64,65,66,67,68,69,70,71,72,73,74,75,76,77,78,79,80]
[null,null,null,null,null,null,null,null,null,null,null,null,null,null,null,null,null,null,null,null,null,null,null,null,null,null,null,null,null,null,null,null,null,null,null,null,null,null,null,null,null,null,null,null,null,null,null,null,null,null,null,null,null,null,null,null,null,null,null,null,null,null,null,null,null,null,null,null,null,null,null,null,null,null,null,null,null,null,null,null,"番号","記録日","お名前","フリガナ","性別","生年月日","要介護度","初回","継続","自歯の使用あり","義歯の使用あり","食事介助の必要あり","その他（以下に記述）","経口移行加算","経口維持加算Ⅰ","経口維持加算Ⅱ","水飲みテスト","食事観察による確認","その他","理由","認知機能","咀嚼・口腔機能","嚥下機能","理由","確認日","協力医療機関","協力医療機関","観察・検討した日","医師・歯科医師","介護支援専門員","看護職員","施設長","管理栄養士","担当介護職員","ご家族","その他","その他","食事の環境","食事の形態","摂取の方法","療養食など","持病・治療","チェック41","チェック42","チェック43","チェック44","チェック45","チェック46","チェック47","チェック48","チェック49","チェック50","チェック51","チェック52","チェック53","チェック54","チェック55","チェック56","チェック57","チェック58","チェック59","チェック60","チェック61","食事形態の変化の必要性","内容","補助食の必要性","内容","食事介助方法","内容","口腔ケアの方法","内容","医療または歯科受診の必要性","内容","食事環境の変更の必要性","内容","その他","初回作成日","計画変更日","計画作成者","解決すべき課題や目標","ご家族の意見など","備　　考"]
[null,null,null,null,null,null,null,null,null,null,null,null,null,1,null,"～",2,null,null,null,null,null,null,null,null,null,null,{"$f":"IF(AB7=0,\"\",DATE(AB8,AB9,AB10))","v":""},null,null,null,null,null,null,null,null,null,null,null,null,null,null,null,null,null,null,null,null,null,null,null,null,null,null,null,null,null,null,null,null,null,null,null,null,null,null,null,null,null,null,null,null,null,null,null,null,null,null,null,null,{"$f":"ROW()-6","v":-2},{"$f":"$CC$1+$CD$1+$CE$1","v":20150411},{"$f":"$BD$9","v":0},{"$f":"$BF$8","v":0},{"$f":"$BI$9","v":0},{"$f":"$BJ$9","v":"00:00:00"},{"$f":"$BL$11","v":0},{"$f":"$BR$8","v":"■"},{"$f":"$BT$8","v":"□"},{"$f":"$BN$9","v":"□"},{"$f":"$BN$10","v":"□"},{"$f":"$BN$11","v":"■"},{"$f":"$BN$12","v":"□"},{"$f":"$BR$10","v":"□"},{"$f":"$BR$11","v":"■"},{"$f":"$BR$12","v":"□"},{"$f":"$AD$13","v":"□"},{"$f":"$AD$14","v":"■"},{"$f":"$AD$15","v":"□"},{"$f":"$BF$15","v":0},{"$f":"$BH$13","v":"□"},{"$f":"$BH$14","v":"□"},{"$f":"$BH$15","v":"□"},{"$f":"$BK$13","v":0},{"$f":"$BF$16","v":"00:00:00"},{"$f":"$BK$16","v":"医療法人社団琢心会　辰巳病院"},{"$f":"$BO$16","v":"ここのえ歯科医院"},{"$f":"$BJ$18","v":"00:00:00"},{"$f":"$BD$19","v":"□"},{"$f":"$BD$20","v":"■"},{"$f":"$BD$21","v":"■"},{"$f":"$BD$22","v":"■"},{"$f":"$BH$19","v":"■"},{"$f":"$BH$20","v":"■"},{"$f":"$BH$21","v":"□"},{"$f":"$BH$22","v":"□"},{"$f":"$BI$22","v":0},{"$f":"$BM$18","v":0},{"$f":"$BM$19","v":0},{"$f":"$BM$20","v":0},{"$f":"$BM$21","v":0},{"$f":"$BM$22","v":0},{"$f":"$BD$24","v":0},{"$f":"$BD$25","v":0},{"$f":"$BD$26","v":0},{"$f":"$BD$27","v":0},{"$f":"$BD$28","v":0},{"$f":"$BD$29","v":0},{"$f":"$BD$30","v":0},{"$f":"$BD$31","v":0},{"$f":"$BD$32","v":0},{"$f":"$BD$33","v":0},{"$f":"$BD$34","v":0},{"$f":"$BD$35","v":0},{"$f":"$BD$36","v":0},{"$f":"$BD$37","v":0},{"$f":"$BD$38","v":0},{"$f":"$BD$39","v":0},{"$f":"$BD$40","v":0},{"$f":"$BD$41","v":0},{"$f":"$BD$42","v":0},{"$f":"$BD$43","v":0},{"$f":"$BF$43","v":0},{"$f":"$BO$25","v":"現状継続"},{"$f":"$BQ$25","v":0},{"$f":"$BO$28","v":"現状継続"},{"$f":"$BQ$28","v":0},{"$f":"$BO$31","v":"現状継続"},{"$f":"$BQ$31","v":0},{"$f":"$BO$34","v":"現状継続"},{"$f":"$BQ$34","v":0},{"$f":"$BO$37","v":"現状継続"},{"$f":"$BQ$37","v":0},{"$f":"$BO$40","v":"現状継続"},{"$f":"$BQ$40","v":0},{"$f":"$BP$42","v":0},{"$f":"$BG$45","v":"00:00:00"},{"$f":"$BG$46","v":"00:00:00"},{"$f":"$BG$47","v":"星野徳明（介護支援専門員）"},{"$f":"$BJ$46","v":0},{"$f":"$BG$48","v":0},{"$f":"$BG$49","v":0}]
[null,null,null,{"$f":"モデルシート!$D$5","v":"特別養護老人ホーム辰巳萬緑苑・経口移行・維持計画書"},null,null,null,null,null,null,null,null,null,null,null,null,null,null,null,null,null,null,null,null,null,null,null,null,null,"特別養護老人ホーム辰巳萬緑苑・経口移行・維持計画書",null,null,null,null,null,null,null,null,null,null,null,null,null,null,null,null,null,null,null,null,null,null,null,null,null,"特別養護老人ホーム辰巳萬緑苑・経口移行・維持計画書"]
[]
[null,null,null,"１．基本情報",null,null,null,null,null,null,null,null,null,null,null,"記録日",null,{"$f":"$AB$4","v":""},null,null,null,null,null,null,null,null,null,{"$f":"IF($D$4=\"\",0,VLOOKUP($D$4,記録シート１!$D$6:$CG$2007,AR55))","v":0},null,"１．基本情報",null,null,null,null,null,null,null,null,null,null,null,"記録日",null,{"$f":"NOW()","v":"2015-04-11T21:19:41.230"},null,null,null,null,null,null,null,null,null,null,null,"１．基本情報",null,null,null,null,null,null,null,null,null,null,null,"記録日",null,"2015-04-11"]
[null,null,null,"フリガナ\nお名前",null,{"$f":"IF($D$4=\"\",\"\",VLOOKUP($D$4,記録シート１!$D$6:$CG$2007,AF56))","v":""},{"$f":"IF($D$4=\"\",\"\",VLOOKUP($D$4,記録シート１!$D$6:$CG$2007,AG56))","v":""},{"$f":"IF($D$4=\"\",\"\",VLOOKUP($D$4,記録シート１!$D$6:$CG$2007,AH56))","v":""},"性別","生年月日",null,null,"年齢","経口摂取の状態",null,null,null,{"$f":"IF($D$4=\"\",\"\",VLOOKUP($D$4,記録シート１!$D$6:$CG$2007,AR56))","v":""},"初回",{"$f":"IF($D$4=\"\",\"\",VLOOKUP($D$4,記録シート１!$D$6:$CG$2007,AT56))","v":""},"継続",null,null,null,null,null,null,{"$f":"ROUND(AB7,-4)/10000","v":0},null,"フリガナ\nお名前",null,null,null,null,"性別","生年月日",null,null,"年齢","経口摂取の状態",null,null,null,{"$f":"モデルシート!$R$8","v":"■"},"初回",{"$f":"モデルシート!$T$8","v":"□"},"継続",null,null,null,null,null,null,null,null,"フリガナ\nお名前",null,null,null,null,"性別","生年月日",null,null,"年齢","経口摂取の状態",null,null,null,"■","初回","□","継続"]
[null,null,null,{"$f":"IF($D$4=\"\",\"\",VLOOKUP($D$4,記録シート１!$D$6:$CG$2007,AD57))","v":""},{"$f":"IF($D$4=\"\",\"\",VLOOKUP($D$4,記録シート１!$D$6:$CG$2007,AE57))","v":""},{"$f":"IF($D$4=\"\",\"\",VLOOKUP($D$4,記録シート１!$D$6:$CG$2007,AF57))","v":""},{"$f":"IF($D$4=\"\",\"\",VLOOKUP($D$4,記録シート１!$D$6:$CG$2007,AG57))","v":""},{"$f":"IF($D$4=\"\",\"\",VLOOKUP($D$4,記録シート１!$D$6:$CG$2007,AH57))","v":""},{"$f":"IF($D$4=\"\",\"\",VLOOKUP($D$4,記録シート１!$D$6:$CG$2007,AI57))","v":""},{"$f":"IF($D$4=\"\",\"\",VLOOKUP($D$4,記録シート１!$D$6:$CG$2007,AJ57))","v":""},{"$f":"IF($D$4=\"\",\"\",VLOOKUP($D$4,記録シート１!$D$6:$CG$2007,AK57))","v":""},{"$f":"IF($D$4=\"\",\"\",VLOOKUP($D$4,記録シート１!$D$6:$CG$2007,AL57))","v":""},{"$f":"IF(OR(J9=\"\",J9=0),\"\",DATEDIF(J9,TODAY(),\"y\"))","v":""},{"$f":"IF($D$4=\"\",\"\",VLOOKUP($D$4,記録シート１!$D$6:$CG$2007,AN57))","v":""},{"$f":"モデルシート!$O$9","v":"自歯の使用あり"},null,null,"算定加算",null,null,null,null,null,null,null,null,null,{"$f":"ROUND(AB7-AB8*10000,-2)/100","v":0},null,null,null,null,null,null,null,null,null,null,{"$f":"IF($BJ$9=\"\",\"\",DATEDIF($BJ$9,TODAY(),\"y\"))","v":""},{"$f":"モデルシート!$N$9","v":"□"},{"$f":"モデルシート!$O$9","v":"自歯の使用あり"},null,null,"算定加算",null,null,null,null,null,null,null,null,null,null,null,null,null,null,null,null,null,null,null,null,{"$f":"IF($BJ$9=\"\",\"\",DATEDIF($BJ$9,TODAY(),\"y\"))","v":""},"□","自歯の使用あり",null,null,"算定加算"]
[null,null,null,{"$f":"IF($D$4=\"\",\"\",VLOOKUP($D$4,記録シート１!$D$6:$CG$2007,AD58))","v":""},{"$f":"IF($D$4=\"\",\"\",VLOOKUP($D$4,記録シート１!$D$6:$CG$2007,AE58))","v":""},{"$f":"IF($D$4=\"\",\"\",VLOOKUP($D$4,記録シート１!$D$6:$CG$2007,AF58))","v":""},{"$f":"IF($D$4=\"\",\"\",VLOOKUP($D$4,記録シート１!$D$6:$CG$2007,AG58))","v":""},{"$f":"IF($D$4=\"\",\"\",VLOOKUP($D$4,記録シート１!$D$6:$CG$2007,AH58))","v":""},{"$f":"IF($D$4=\"\",\"\",VLOOKUP($D$4,記録シート１!$D$6:$CG$2007,AI58))","v":""},{"$f":"IF($D$4=\"\",\"\",VLOOKUP($D$4,記録シート１!$D$6:$CG$2007,AJ58))","v":""},{"$f":"IF($D$4=\"\",\"\",VLOOKUP($D$4,記録シート１!$D$6:$CG$2007,AK58))","v":""},{"$f":"IF($D$4=\"\",\"\",VLOOKUP($D$4,記録シート１!$D$6:$CG$2007,AL58))","v":""},null,{"$f":"IF($D$4=\"\",\"\",VLOOKUP($D$4,記録シート１!$D$6:$CG$2007,AN58))","v":""},{"$f":"モデルシート!$O$10","v":"義歯の使用あり"},null,null,{"$f":"IF($D$4=\"\",\"\",VLOOKUP($D$4,記録シート１!$D$6:$CG$2007,AR58))","v":""},{"$f":"モデルシート!$S$10","v":"経口移行加算"},null,null,null,null,null,null,null,null,{"$f":"AB7-AB8*10000-AB9*100","v":0},null,null,null,null,null,null,null,null,null,null,null,{"$f":"モデルシート!$N$10","v":"□"},{"$f":"モデルシート!$O$10","v":"義歯の使用あり"},null,null,{"$f":"モデルシート!$R$10","v":"□"},{"$f":"モデルシート!$S$10","v":"経口移行加算"},null,null,null,null,null,null,null,null,null,null,null,null,null,null,null,null,null,null,null,null,"□","義歯の使用あり",null,null,"□","経口移行加算"]
[null,null,null,{"$f":"IF($D$4=\"\",\"\",VLOOKUP($D$4,記録シート１!$D$6:$CG$2007,AD59))","v":""},{"$f":"IF($D$4=\"\",\"\",VLOOKUP($D$4,記録シート１!$D$6:$CG$2007,AE59))","v":""},{"$f":"IF($D$4=\"\",\"\",VLOOKUP($D$4,記録シート１!$D$6:$CG$2007,AF59))","v":""},{"$f":"IF($D$4=\"\",\"\",VLOOKUP($D$4,記録シート１!$D$6:$CG$2007,AG59))","v":""},{"$f":"IF($D$4=\"\",\"\",VLOOKUP($D$4,記録シート１!$D$6:$CG$2007,AH59))","v":""},{"$f":"IF($D$4=\"\",\"\",VLOOKUP($D$4,記録シート１!$D$6:$CG$2007,AI59))","v":""},"要介護度",null,{"$f":"IF($D$4=\"\",\"\",VLOOKUP($D$4,記録シート１!$D$6:$CG$2007,AL59))","v":""},{"$f":"IF($D$4=\"\",\"\",VLOOKUP($D$4,記録シート１!$D$6:$CG$2007,AM59))","v":""},{"$f":"IF($D$4=\"\",\"\",VLOOKUP($D$4,記録シート１!$D$6:$CG$2007,AN59))","v":""},{"$f":"モデルシート!$O$11","v":"食事介助の必要あり"},null,null,{"$f":"IF($D$4=\"\",\"\",VLOOKUP($D$4,記録シート１!$D$6:$CG$2007,AR59))","v":""},{"$f":"モデルシート!$S$11","v":"経口維持加算Ⅰ"},null,null,null,null,null,null,null,null,null,null,null,null,null,null,null,null,"要介護度",null,null,null,{"$f":"モデルシート!$N$11","v":"■"},{"$f":"モデルシート!$O$11","v":"食事介助の必要あり"},null,null,{"$f":"モデルシート!$R$11","v":"■"},{"$f":"モデルシート!$S$11","v":"経口維持加算Ⅰ"},null,null,null,null,null,null,null,null,null,null,null,null,null,null,null,null,"要介護度",null,null,null,"■","食事介助の必要あり",null,null,"■","経口維持加算Ⅰ"]
[null,null,null,"摂取・嚥下機能の実施",null,null,null,"把握された課題",null,null,"備考（テスト・観察前の課題）",null,null,{"$f":"IF($D$4=\"\",\"\",VLOOKUP($D$4,記録シート１!$D$6:$CG$2007,AN60))","v":""},"その他（以下に記述）",null,null,{"$f":"IF($D$4=\"\",\"\",VLOOKUP($D$4,記録シート１!$D$6:$CG$2007,AR60))","v":""},{"$f":"モデルシート!$S$12","v":"経口維持加算Ⅱ"},null,null,null,null,null,null,null,null,"レコード数",null,"摂取・嚥下機能の実施",null,null,null,"把握された課題",null,null,"備考（テスト・観察前の課題）",null,null,{"$f":"モデルシート!$N$12","v":"□"},{"$f":"モデルシート!$O$12","v":"その他（以下に記述）"},null,null,{"$f":"モデルシート!$R$12","v":"□"},{"$f":"モデルシート!$S$12","v":"経口維持加算Ⅱ"},null,null,null,null,null,null,null,null,null,null,"摂取・嚥下機能の実施",null,null,null,"把握された課題",null,null,"備考（テスト・観察前の課題）",null,null,"□","その他（以下に記述）",null,null,"□","経口維持加算Ⅱ"]
[null,null,null,{"$f":"IF($D$4=\"\",\"\",VLOOKUP($D$4,記録シート１!$D$6:$CG$2007,AD61))","v":""},{"$f":"モデルシート!$E$13","v":"水飲みテスト"},null,null,{"$f":"IF($D$4=\"\",\"\",VLOOKUP($D$4,記録シート１!$D$6:$CG$2007,AH61))","v":""},{"$f":"モデルシート!$I$13","v":"認知機能"},null,{"$f":"IF($D$4=\"\",\"\",VLOOKUP($D$4,記録シート１!$D$6:$CG$2007,AK61))","v":""},{"$f":"IF($D$4=\"\",\"\",VLOOKUP($D$4,記録シート１!$D$6:$CG$2007,AL61))","v":""},{"$f":"IF($D$4=\"\",\"\",VLOOKUP($D$4,記録シート１!$D$6:$CG$2007,AM61))","v":""},{"$f":"IF($D$4=\"\",\"\",VLOOKUP($D$4,記録シート１!$D$6:$CG$2007,AN61))","v":""},{"$f":"IF($D$4=\"\",\"\",VLOOKUP($D$4,記録シート１!$D$6:$CG$2007,AO61))","v":""},{"$f":"IF($D$4=\"\",\"\",VLOOKUP($D$4,記録シート１!$D$6:$CG$2007,AP61))","v":""},{"$f":"IF($D$4=\"\",\"\",VLOOKUP($D$4,記録シート１!$D$6:$CG$2007,AQ61))","v":""},{"$f":"IF($D$4=\"\",\"\",VLOOKUP($D$4,記録シート１!$D$6:$CG$2007,AR61))","v":""},{"$f":"IF($D$4=\"\",\"\",VLOOKUP($D$4,記録シート１!$D$6:$CG$2007,AS61))","v":""},{"$f":"IF($D$4=\"\",\"\",VLOOKUP($D$4,記録シート１!$D$6:$CG$2007,AT61))","v":""},{"$f":"IF($D$4=\"\",\"\",VLOOKUP($D$4,記録シート１!$D$6:$CG$2007,AU61))","v":""},null,null,null,null,null,null,{"$f":"COUNTA(記録シート１!G7:G106)","v":0},null,{"$f":"モデルシート!$D$13","v":"□"},{"$f":"モデルシート!$E$13","v":"水飲みテスト"},null,null,{"$f":"モデルシート!$H$13","v":"□"},{"$f":"モデルシート!$I$13","v":"認知機能"},null,{"$f":"モデルシート!$K$13","v":0},{"$f":"モデルシート!L13","v":0},{"$f":"モデルシート!M13","v":0},{"$f":"モデルシート!N13","v":0},{"$f":"モデルシート!O13","v":0},{"$f":"モデルシート!P13","v":0},{"$f":"モデルシート!Q13","v":0},{"$f":"モデルシート!R13","v":0},{"$f":"モデルシート!S13","v":0},{"$f":"モデルシート!T13","v":0},{"$f":"モデルシート!U13","v":0},null,null,null,null,null,null,null,null,"□","水飲みテスト",null,null,"□","認知機能",null,0,{"$error":"#REF!"},{"$error":"#REF!"},{"$error":"#REF!"},{"$error":"#REF!"},{"$error":"#REF!"},{"$error":"#REF!"},{"$error":"#REF!"},{"$error":"#REF!"},{"$error":"#REF!"},{"$error":"#REF!"}]
[null,null,null,{"$f":"IF($D$4=\"\",\"\",VLOOKUP($D$4,記録シート１!$D$6:$CG$2007,AD62))","v":""},{"$f":"モデルシート!$E$14","v":"食事観察による確認"},null,null,{"$f":"IF($D$4=\"\",\"\",VLOOKUP($D$4,記録シート１!$D$6:$CG$2007,AH62))","v":""},{"$f":"モデルシート!$I$14","v":"咀嚼・口腔機能"},null,{"$f":"IF($D$4=\"\",\"\",VLOOKUP($D$4,記録シート１!$D$6:$CG$2007,AK62))","v":""},{"$f":"IF($D$4=\"\",\"\",VLOOKUP($D$4,記録シート１!$D$6:$CG$2007,AL62))","v":""},{"$f":"IF($D$4=\"\",\"\",VLOOKUP($D$4,記録シート１!$D$6:$CG$2007,AM62))","v":""},{"$f":"IF($D$4=\"\",\"\",VLOOKUP($D$4,記録シート１!$D$6:$CG$2007,AN62))","v":""},{"$f":"IF($D$4=\"\",\"\",VLOOKUP($D$4,記録シート１!$D$6:$CG$2007,AO62))","v":""},{"$f":"IF($D$4=\"\",\"\",VLOOKUP($D$4,記録シート１!$D$6:$CG$2007,AP62))","v":""},{"$f":"IF($D$4=\"\",\"\",VLOOKUP($D$4,記録シート１!$D$6:$CG$2007,AQ62))","v":""},{"$f":"IF($D$4=\"\",\"\",VLOOKUP($D$4,記録シート１!$D$6:$CG$2007,AR62))","v":""},{"$f":"IF($D$4=\"\",\"\",VLOOKUP($D$4,記録シート１!$D$6:$CG$2007,AS62))","v":""},{"$f":"IF($D$4=\"\",\"\",VLOOKUP($D$4,記録シート１!$D$6:$CG$2007,AT62))","v":""},{"$f":"IF($D$4=\"\",\"\",VLOOKUP($D$4,記録シート１!$D$6:$CG$2007,AU62))","v":""},null,null,null,null,null,null,null,null,{"$f":"モデルシート!$D$14","v":"■"},{"$f":"モデルシート!$E$14","v":"食事観察による確認"},null,null,{"$f":"モデルシート!$H$14","v":"□"},{"$f":"モデルシート!$I$14","v":"咀嚼・口腔機能"},null,{"$f":"モデルシート!K14","v":0},{"$f":"モデルシート!L14","v":0},{"$f":"モデルシート!M14","v":0},{"$f":"モデルシート!N14","v":0},{"$f":"モデルシート!O14","v":0},{"$f":"モデルシート!P14","v":0},{"$f":"モデルシート!Q14","v":0},{"$f":"モデルシート!R14","v":0},{"$f":"モデルシート!S14","v":0},{"$f":"モデルシート!T14","v":0},{"$f":"モデルシート!U14","v":0},null,null,null,null,null,null,null,null,"■","食事観察による確認",null,null,"□","咀嚼・口腔機能",null,{"$error":"#REF!"},{"$error":"#REF!"},{"$error":"#REF!"},{"$error":"#REF!"},{"$error":"#REF!"},{"$error":"#REF!"},{"$error":"#REF!"},{"$error":"#REF!"},{"$error":"#REF!"},{"$error":"#REF!"},{"$error":"#REF!"}]
[null,null,null,{"$f":"IF($D$4=\"\",\"\",VLOOKUP($D$4,記録シート１!$D$6:$CG$2007,AD63))","v":""},"その他",null,null,{"$f":"IF($D$4=\"\",\"\",VLOOKUP($D$4,記録シート１!$D$6:$CG$2007,AH63))","v":""},{"$f":"モデルシート!$I$15","v":"嚥下機能"},null,{"$f":"IF($D$4=\"\",\"\",VLOOKUP($D$4,記録シート１!$D$6:$CG$2007,AK63))","v":""},{"$f":"IF($D$4=\"\",\"\",VLOOKUP($D$4,記録シート１!$D$6:$CG$2007,AL63))","v":""},{"$f":"IF($D$4=\"\",\"\",VLOOKUP($D$4,記録シート１!$D$6:$CG$2007,AM63))","v":""},{"$f":"IF($D$4=\"\",\"\",VLOOKUP($D$4,記録シート１!$D$6:$CG$2007,AN63))","v":""},{"$f":"IF($D$4=\"\",\"\",VLOOKUP($D$4,記録シート１!$D$6:$CG$2007,AO63))","v":""},{"$f":"IF($D$4=\"\",\"\",VLOOKUP($D$4,記録シート１!$D$6:$CG$2007,AP63))","v":""},{"$f":"IF($D$4=\"\",\"\",VLOOKUP($D$4,記録シート１!$D$6:$CG$2007,AQ63))","v":""},{"$f":"IF($D$4=\"\",\"\",VLOOKUP($D$4,記録シート１!$D$6:$CG$2007,AR63))","v":""},{"$f":"IF($D$4=\"\",\"\",VLOOKUP($D$4,記録シート１!$D$6:$CG$2007,AS63))","v":""},{"$f":"IF($D$4=\"\",\"\",VLOOKUP($D$4,記録シート１!$D$6:$CG$2007,AT63))","v":""},{"$f":"IF($D$4=\"\",\"\",VLOOKUP($D$4,記録シート１!$D$6:$CG$2007,AU63))","v":""},null,null,null,null,null,null,null,null,{"$f":"モデルシート!$D$15","v":"□"},"その他",{"$f":"モデルシート!$F$15","v":0},{"$f":"モデルシート!G15","v":0},{"$f":"モデルシート!$H$15","v":"□"},{"$f":"モデルシート!$I$15","v":"嚥下機能"},null,{"$f":"モデルシート!K15","v":0},{"$f":"モデルシート!L15","v":0},{"$f":"モデルシート!M15","v":0},{"$f":"モデルシート!N15","v":0},{"$f":"モデルシート!O15","v":0},{"$f":"モデルシート!P15","v":0},{"$f":"モデルシート!Q15","v":0},{"$f":"モデルシート!R15","v":0},{"$f":"モデルシート!S15","v":0},{"$f":"モデルシート!T15","v":0},{"$f":"モデルシート!U15","v":0},null,null,null,null,null,null,null,null,"□","その他",0,{"$error":"#REF!"},"□","嚥下機能",null,{"$error":"#REF!"},{"$error":"#REF!"},{"$error":"#REF!"},{"$error":"#REF!"},{"$error":"#REF!"},{"$error":"#REF!"},{"$error":"#REF!"},{"$error":"#REF!"},{"$error":"#REF!"},{"$error":"#REF!"},{"$error":"#REF!"}]
[null,null,null,"確認日",null,{"$f":"IF($D$4=\"\",\"\",VLOOKUP($D$4,記録シート１!$D$6:$CG$2007,AF64))","v":""},{"$f":"IF($D$4=\"\",\"\",VLOOKUP($D$4,記録シート１!$D$6:$CG$2007,AG64))","v":""},{"$f":"IF($D$4=\"\",\"\",VLOOKUP($D$4,記録シート１!$D$6:$CG$2007,AH64))","v":""},"協力医療機関",null,{"$f":"IF($D$4=\"\",\"\",VLOOKUP($D$4,記録シート１!$D$6:$CG$2007,AK64))","v":""},{"$f":"IF($D$4=\"\",\"\",VLOOKUP($D$4,記録シート１!$D$6:$CG$2007,AL64))","v":""},{"$f":"IF($D$4=\"\",\"\",VLOOKUP($D$4,記録シート１!$D$6:$CG$2007,AM64))","v":""},{"$f":"IF($D$4=\"\",\"\",VLOOKUP($D$4,記録シート１!$D$6:$CG$2007,AN64))","v":""},{"$f":"IF($D$4=\"\",\"\",VLOOKUP($D$4,記録シート１!$D$6:$CG$2007,AO64))","v":""},{"$f":"IF($D$4=\"\",\"\",VLOOKUP($D$4,記録シート１!$D$6:$CG$2007,AP64))","v":""},{"$f":"IF($D$4=\"\",\"\",VLOOKUP($D$4,記録シート１!$D$6:$CG$2007,AQ64))","v":""},{"$f":"IF($D$4=\"\",\"\",VLOOKUP($D$4,記録シート１!$D$6:$CG$2007,AR64))","v":""},{"$f":"IF($D$4=\"\",\"\",VLOOKUP($D$4,記録シート１!$D$6:$CG$2007,AS64))","v":""},{"$f":"IF($D$4=\"\",\"\",VLOOKUP($D$4,記録シート１!$D$6:$CG$2007,AT64))","v":""},{"$f":"IF($D$4=\"\",\"\",VLOOKUP($D$4,記録シート１!$D$6:$CG$2007,AU64))","v":""},null,null,null,null,null,null,null,null,"確認日",null,null,null,null,"協力医療機関",null,{"$f":"モデルシート!$K$16","v":"医療法人社団琢心会　辰巳病院"},{"$f":"モデルシート!L16","v":0},{"$f":"モデルシート!M16","v":0},{"$f":"モデルシート!N16","v":0},{"$f":"モデルシート!$O$16","v":"ここのえ歯科医院"},{"$f":"モデルシート!P16","v":0},{"$f":"モデルシート!Q16","v":0},{"$f":"モデルシート!R16","v":0},{"$f":"モデルシート!S16","v":0},{"$f":"モデルシート!T16","v":0},{"$f":"モデルシート!U16","v":0},null,null,null,null,null,null,null,null,"確認日",null,"00:00:00",{"$error":"#REF!"},{"$error":"#REF!"},"協力医療機関",null,"医療法人社団琢心会　辰巳病院",{"$error":"#REF!"},{"$error":"#REF!"},{"$error":"#REF!"},"ここのえ歯科医院"]
[null,null,null,"２．食事観察と検討の実施",null,null,null,null,null,null,null,null,null,null,null,null,null,null,null,null,null,null,null,null,null,null,null,null,null,"２．食事観察と検討の実施",null,null,null,null,null,null,null,null,null,null,null,null,null,null,null,null,null,null,null,null,null,null,null,null,null,"２．食事観察と検討の実施"]
[null,null,null,"参加した職員等",null,null,null,"観察・検討した日",null,{"$f":"IF($D$4=\"\",\"\",VLOOKUP($D$4,記録シート１!$D$6:$CG$2007,AJ66))","v":""},{"$f":"IF($D$4=\"\",\"\",VLOOKUP($D$4,記録シート１!$D$6:$L$2007,7))","v":""},{"$f":"モデルシート!$L$18","v":"食事の環境"},{"$f":"IF($D$4=\"\",\"\",VLOOKUP($D$4,記録シート１!$D$6:$CG$2007,AM66))","v":""},{"$f":"IF($D$4=\"\",\"\",VLOOKUP($D$4,記録シート１!$D$6:$CG$2007,AN66))","v":""},{"$f":"IF($D$4=\"\",\"\",VLOOKUP($D$4,記録シート１!$D$6:$CG$2007,AO66))","v":""},{"$f":"IF($D$4=\"\",\"\",VLOOKUP($D$4,記録シート１!$D$6:$CG$2007,AP66))","v":""},{"$f":"IF($D$4=\"\",\"\",VLOOKUP($D$4,記録シート１!$D$6:$CG$2007,AQ66))","v":""},{"$f":"IF($D$4=\"\",\"\",VLOOKUP($D$4,記録シート１!$D$6:$CG$2007,AR66))","v":""},{"$f":"IF($D$4=\"\",\"\",VLOOKUP($D$4,記録シート１!$D$6:$CG$2007,AS66))","v":""},{"$f":"IF($D$4=\"\",\"\",VLOOKUP($D$4,記録シート１!$D$6:$CG$2007,AT66))","v":""},{"$f":"IF($D$4=\"\",\"\",VLOOKUP($D$4,記録シート１!$D$6:$CG$2007,AU66))","v":""},null,null,null,null,null,null,null,null,"参加した職員等",null,null,null,"観察・検討した日",null,null,null,{"$f":"モデルシート!$L$18","v":"食事の環境"},null,null,null,null,null,null,null,null,null,null,null,null,null,null,null,null,null,"参加した職員等",null,null,null,"観察・検討した日",null,"00:00:00",{"$error":"#REF!"},"食事の環境",0,{"$error":"#REF!"},{"$error":"#REF!"},{"$error":"#REF!"},{"$error":"#REF!"},{"$error":"#REF!"},{"$error":"#REF!"},{"$error":"#REF!"},{"$error":"#REF!"}]
[null,null,null,{"$f":"IF($D$4=\"\",\"\",VLOOKUP($D$4,記録シート１!$D$6:$CG$2007,AD67))","v":""},{"$f":"モデルシート!$E$19","v":"医師・歯科医師"},null,null,{"$f":"IF($D$4=\"\",\"\",VLOOKUP($D$4,記録シート１!$D$6:$CG$2007,AH67))","v":""},{"$f":"モデルシート!$I$19","v":"管理栄養士"},null,null,{"$f":"モデルシート!$L$19","v":"食事の形態"},{"$f":"IF($D$4=\"\",\"\",VLOOKUP($D$4,記録シート１!$D$6:$CG$2007,AM67))","v":""},{"$f":"IF($D$4=\"\",\"\",VLOOKUP($D$4,記録シート１!$D$6:$CG$2007,AN67))","v":""},{"$f":"IF($D$4=\"\",\"\",VLOOKUP($D$4,記録シート１!$D$6:$CG$2007,AO67))","v":""},{"$f":"IF($D$4=\"\",\"\",VLOOKUP($D$4,記録シート１!$D$6:$CG$2007,AP67))","v":""},{"$f":"IF($D$4=\"\",\"\",VLOOKUP($D$4,記録シート１!$D$6:$CG$2007,AQ67))","v":""},{"$f":"IF($D$4=\"\",\"\",VLOOKUP($D$4,記録シート１!$D$6:$CG$2007,AR67))","v":""},{"$f":"IF($D$4=\"\",\"\",VLOOKUP($D$4,記録シート１!$D$6:$CG$2007,AS67))","v":""},{"$f":"IF($D$4=\"\",\"\",VLOOKUP($D$4,記録シート１!$D$6:$CG$2007,AT67))","v":""},{"$f":"IF($D$4=\"\",\"\",VLOOKUP($D$4,記録シート１!$D$6:$CG$2007,AU67))","v":""},null,null,null,null,null,null,null,null,{"$f":"モデルシート!$D$19","v":"□"},{"$f":"モデルシート!$E$19","v":"医師・歯科医師"},null,null,{"$f":"モデルシート!$H$19","v":"■"},{"$f":"モデルシート!$I$19","v":"管理栄養士"},null,null,{"$f":"モデルシート!$L$19","v":"食事の形態"},null,null,null,null,null,null,null,null,null,null,null,null,null,null,null,null,null,"□","医師・歯科医師",null,null,"■","管理栄養士",null,null,"食事の形態",0,{"$error":"#REF!"},{"$error":"#REF!"},{"$error":"#REF!"},{"$error":"#REF!"},{"$error":"#REF!"},{"$error":"#REF!"},{"$error":"#REF!"},{"$error":"#REF!"}]
[null,null,null,{"$f":"IF($D$4=\"\",\"\",VLOOKUP($D$4,記録シート１!$D$6:$CG$2007,AD68))","v":""},{"$f":"モデルシート!$E$20","v":"介護支援専門員"},null,null,{"$f":"IF($D$4=\"\",\"\",VLOOKUP($D$4,記録シート１!$D$6:$CG$2007,AH68))","v":""},{"$f":"モデルシート!$I$20","v":"担当介護職員"},null,null,{"$f":"モデルシート!$L$20","v":"摂取の方法"},{"$f":"IF($D$4=\"\",\"\",VLOOKUP($D$4,記録シート１!$D$6:$CG$2007,AM68))","v":""},{"$f":"IF($D$4=\"\",\"\",VLOOKUP($D$4,記録シート１!$D$6:$CG$2007,AN68))","v":""},{"$f":"IF($D$4=\"\",\"\",VLOOKUP($D$4,記録シート１!$D$6:$CG$2007,AO68))","v":""},{"$f":"IF($D$4=\"\",\"\",VLOOKUP($D$4,記録シート１!$D$6:$CG$2007,AP68))","v":""},{"$f":"IF($D$4=\"\",\"\",VLOOKUP($D$4,記録シート１!$D$6:$CG$2007,AQ68))","v":""},{"$f":"IF($D$4=\"\",\"\",VLOOKUP($D$4,記録シート１!$D$6:$CG$2007,AR68))","v":""},{"$f":"IF($D$4=\"\",\"\",VLOOKUP($D$4,記録シート１!$D$6:$CG$2007,AS68))","v":""},{"$f":"IF($D$4=\"\",\"\",VLOOKUP($D$4,記録シート１!$D$6:$CG$2007,AT68))","v":""},{"$f":"IF($D$4=\"\",\"\",VLOOKUP($D$4,記録シート１!$D$6:$CG$2007,AU68))","v":""},null,null,null,null,null,null,null,null,{"$f":"モデルシート!$D$20","v":"■"},{"$f":"モデルシート!$E$20","v":"介護支援専門員"},null,null,{"$f":"モデルシート!$H$20","v":"■"},{"$f":"モデルシート!$I$20","v":"担当介護職員"},null,null,{"$f":"モデルシート!$L$20","v":"摂取の方法"},null,null,null,null,null,null,null,null,null,null,null,null,null,null,null,null,null,"■","介護支援専門員",null,null,"■","担当介護職員",null,null,"摂取の方法",0,{"$error":"#REF!"},{"$error":"#REF!"},{"$error":"#REF!"},{"$error":"#REF!"},{"$error":"#REF!"},{"$error":"#REF!"},{"$error":"#REF!"},{"$error":"#REF!"}]
[null,null,null,{"$f":"IF($D$4=\"\",\"\",VLOOKUP($D$4,記録シート１!$D$6:$CG$2007,AD69))","v":""},{"$f":"モデルシート!$E$21","v":"看護職員"},null,null,{"$f":"IF($D$4=\"\",\"\",VLOOKUP($D$4,記録シート１!$D$6:$CG$2007,AH69))","v":""},{"$f":"モデルシート!$I$21","v":"ご家族"},null,null,{"$f":"モデルシート!$L$21","v":"療養食など"},{"$f":"IF($D$4=\"\",\"\",VLOOKUP($D$4,記録シート１!$D$6:$CG$2007,AM69))","v":""},{"$f":"IF($D$4=\"\",\"\",VLOOKUP($D$4,記録シート１!$D$6:$CG$2007,AN69))","v":""},{"$f":"IF($D$4=\"\",\"\",VLOOKUP($D$4,記録シート１!$D$6:$CG$2007,AO69))","v":""},{"$f":"IF($D$4=\"\",\"\",VLOOKUP($D$4,記録シート１!$D$6:$CG$2007,AP69))","v":""},{"$f":"IF($D$4=\"\",\"\",VLOOKUP($D$4,記録シート１!$D$6:$CG$2007,AQ69))","v":""},{"$f":"IF($D$4=\"\",\"\",VLOOKUP($D$4,記録シート１!$D$6:$CG$2007,AR69))","v":""},{"$f":"IF($D$4=\"\",\"\",VLOOKUP($D$4,記録シート１!$D$6:$CG$2007,AS69))","v":""},{"$f":"IF($D$4=\"\",\"\",VLOOKUP($D$4,記録シート１!$D$6:$CG$2007,AT69))","v":""},{"$f":"IF($D$4=\"\",\"\",VLOOKUP($D$4,記録シート１!$D$6:$CG$2007,AU69))","v":""},null,null,null,null,null,null,null,null,{"$f":"モデルシート!$D$21","v":"■"},{"$f":"モデルシート!$E$21","v":"看護職員"},null,null,{"$f":"モデルシート!$H$21","v":"□"},{"$f":"モデルシート!$I$21","v":"ご家族"},null,null,{"$f":"モデルシート!$L$21","v":"療養食など"},null,null,null,null,null,null,null,null,null,null,null,null,null,null,null,null,null,"■","看護職員",null,null,"□","ご家族",null,null,"療養食など",0,{"$error":"#REF!"},{"$error":"#REF!"},{"$error":"#REF!"},{"$error":"#REF!"},{"$error":"#REF!"},{"$error":"#REF!"},{"$error":"#REF!"},{"$error":"#REF!"}]
[null,null,null,{"$f":"IF($D$4=\"\",\"\",VLOOKUP($D$4,記録シート１!$D$6:$CG$2007,AD70))","v":""},{"$f":"モデルシート!E22","v":"施設長"},null,"その他",{"$f":"IF($D$4=\"\",\"\",VLOOKUP($D$4,記録シート１!$D$6:$CG$2007,AH70))","v":""},{"$f":"IF($D$4=\"\",\"\",VLOOKUP($D$4,記録シート１!$D$6:$CG$2007,AI70))","v":""},{"$f":"IF($D$4=\"\",\"\",VLOOKUP($D$4,記録シート１!$D$6:$CG$2007,AJ70))","v":""},{"$f":"IF($D$4=\"\",\"\",VLOOKUP($D$4,記録シート１!$D$6:$CG$2007,AK70))","v":""},{"$f":"モデルシート!$L$22","v":"持病・治療"},{"$f":"IF($D$4=\"\",\"\",VLOOKUP($D$4,記録シート１!$D$6:$CG$2007,AM70))","v":""},{"$f":"IF($D$4=\"\",\"\",VLOOKUP($D$4,記録シート１!$D$6:$CG$2007,AN70))","v":""},{"$f":"IF($D$4=\"\",\"\",VLOOKUP($D$4,記録シート１!$D$6:$CG$2007,AO70))","v":""},{"$f":"IF($D$4=\"\",\"\",VLOOKUP($D$4,記録シート１!$D$6:$CG$2007,AP70))","v":""},{"$f":"IF($D$4=\"\",\"\",VLOOKUP($D$4,記録シート１!$D$6:$CG$2007,AQ70))","v":""},{"$f":"IF($D$4=\"\",\"\",VLOOKUP($D$4,記録シート１!$D$6:$CG$2007,AR70))","v":""},{"$f":"IF($D$4=\"\",\"\",VLOOKUP($D$4,記録シート１!$D$6:$CG$2007,AS70))","v":""},{"$f":"IF($D$4=\"\",\"\",VLOOKUP($D$4,記録シート１!$D$6:$CG$2007,AT70))","v":""},{"$f":"IF($D$4=\"\",\"\",VLOOKUP($D$4,記録シート１!$D$6:$CG$2007,AU70))","v":""},null,null,null,null,null,null,null,null,{"$f":"モデルシート!$D$22","v":"■"},{"$f":"モデルシート!$E$22","v":"施設長"},null,"その他",{"$f":"モデルシート!$H$22","v":"□"},null,null,null,{"$f":"モデルシート!$L$22","v":"持病・治療"},null,null,null,null,null,null,null,null,null,null,null,null,null,null,null,null,null,"■","施設長",null,"その他","□",0,{"$error":"#REF!"},{"$error":"#REF!"},"持病・治療",0,{"$error":"#REF!"},{"$error":"#REF!"},{"$error":"#REF!"},{"$error":"#REF!"},{"$error":"#REF!"},{"$error":"#REF!"},{"$error":"#REF!"},{"$error":"#REF!"}]
[null,null,null,"３．経口による継続的な食事摂取のための支援の観点",null,null,null,null,null,null,null,null,null,null,"４．観察結果の検討",null,null,null,null,null,null,null,null,null,null,null,null,null,null,"３．経口による継続的な食事摂取のための支援の観点",null,null,null,null,null,null,null,null,null,null,"４．観察結果の検討",null,null,null,null,null,null,null,null,null,null,null,null,null,null,"３．経口による継続的な食事摂取のための支援の観点",null,null,null,null,null,null,null,null,null,null,"４．観察結果の検討"]
[null,null,null,{"$f":"IF($D$4=\"\",\"\",VLOOKUP($D$4,記録シート１!$D$6:$CG$2007,AD72))","v":""},{"$f":"モデルシート!$E$24","v":"上半身が左右や前後に傾く傾向があり、座位の保持が困難である。"},null,null,null,null,null,null,null,null,null,{"$f":"モデルシート!$O$24","v":"食事形態の変化の必要性"},null,null,null,null,null,null,null,null,null,null,null,null,null,null,null,{"$f":"モデルシート!$E$24","v":"上半身が左右や前後に傾く傾向があり、座位の保持が困難である。"},null,null,null,null,null,null,null,null,null,{"$f":"モデルシート!$O$24","v":"食事形態の変化の必要性"},null,null,null,null,null,null,null,null,"AO列に複写",null,null,null,null,null,0,"上半身が左右や前後に傾く傾向があり、座位の保持が困難である。",null,null,null,null,null,null,null,null,null,"食事形態の変化の必要性"]
[null,null,null,{"$f":"IF($D$4=\"\",\"\",VLOOKUP($D$4,記録シート１!$D$6:$CG$2007,AD73))","v":""},{"$f":"モデルシート!$E$25","v":"頸部が後屈しがちである。"},null,null,null,null,null,null,null,null,null,{"$f":"IF($D$4=\"\",\"\",VLOOKUP($D$4,記録シート１!$D$6:$CG$2007,AO73))","v":""},{"$f":"IF($D$4=\"\",\"\",VLOOKUP($D$4,記録シート１!$D$6:$CG$2007,AP73))","v":""},{"$f":"IF($D$4=\"\",\"\",VLOOKUP($D$4,記録シート１!$D$6:$CG$2007,AQ73))","v":""},{"$f":"IF($D$4=\"\",\"\",VLOOKUP($D$4,記録シート１!$D$6:$CG$2007,AR73))","v":""},{"$f":"IF($D$4=\"\",\"\",VLOOKUP($D$4,記録シート１!$D$6:$CG$2007,AS73))","v":""},{"$f":"IF($D$4=\"\",\"\",VLOOKUP($D$4,記録シート１!$D$6:$CG$2007,AT73))","v":""},{"$f":"IF($D$4=\"\",\"\",VLOOKUP($D$4,記録シート１!$D$6:$CG$2007,AU73))","v":""},null,null,null,null,null,null,null,null,null,{"$f":"モデルシート!$E$25","v":"頸部が後屈しがちである。"},null,null,null,null,null,null,null,null,null,{"$f":"モデルシート!$O$25","v":"現状継続"},null,null,null,null,null,null,null,null,{"$f":"モデルシート!$X$25","v":"現状継続"},null,null,null,null,null,0,"頸部が後屈しがちである。",null,null,null,null,null,null,null,null,null,"現状継続",null,0,{"$error":"#REF!"},{"$error":"#REF!"},{"$error":"#REF!"},{"$error":"#REF!"}]
[null,null,null,{"$f":"IF($D$4=\"\",\"\",VLOOKUP($D$4,記録シート１!$D$6:$CG$2007,AD74))","v":""},{"$f":"モデルシート!$E$26","v":"脳血管疾患等による麻痺症状がある。"},null,null,null,null,null,null,null,null,null,{"$f":"IF($D$4=\"\",\"\",VLOOKUP($D$4,記録シート１!$D$6:$CG$2007,AO74))","v":""},{"$f":"IF($D$4=\"\",\"\",VLOOKUP($D$4,記録シート１!$D$6:$CG$2007,AP74))","v":""},{"$f":"IF($D$4=\"\",\"\",VLOOKUP($D$4,記録シート１!$D$6:$CG$2007,AQ74))","v":""},{"$f":"IF($D$4=\"\",\"\",VLOOKUP($D$4,記録シート１!$D$6:$CG$2007,AR74))","v":""},{"$f":"IF($D$4=\"\",\"\",VLOOKUP($D$4,記録シート１!$D$6:$CG$2007,AS74))","v":""},{"$f":"IF($D$4=\"\",\"\",VLOOKUP($D$4,記録シート１!$D$6:$CG$2007,AT74))","v":""},{"$f":"IF($D$4=\"\",\"\",VLOOKUP($D$4,記録シート１!$D$6:$CG$2007,AU74))","v":""},null,null,null,null,null,null,null,null,null,{"$f":"モデルシート!$E$26","v":"脳血管疾患等による麻痺症状がある。"},null,null,null,null,null,null,null,null,null,null,null,null,null,null,null,null,null,null,{"$f":"モデルシート!$X$26","v":"変　更"},null,null,null,null,null,0,"脳血管疾患等による麻痺症状がある。",null,null,null,null,null,null,null,null,null,null,null,{"$error":"#REF!"},{"$error":"#REF!"},{"$error":"#REF!"},{"$error":"#REF!"},{"$error":"#REF!"}]
[null,null,null,{"$f":"IF($D$4=\"\",\"\",VLOOKUP($D$4,記録シート１!$D$6:$CG$2007,AD75))","v":""},{"$f":"モデルシート!$E$27","v":"認知症により、食事に対する認知能力に問題がある。"},null,null,null,null,null,null,null,null,null,{"$f":"モデルシート!$O$27","v":"補助食の必要性"},null,null,null,null,null,null,null,null,null,null,null,null,null,null,null,{"$f":"モデルシート!$E$27","v":"認知症により、食事に対する認知能力に問題がある。"},null,null,null,null,null,null,null,null,null,{"$f":"モデルシート!$O$27","v":"補助食の必要性"},null,null,null,null,null,null,null,null,{"$f":"モデルシート!$X$27","v":"経過観察"},null,null,null,null,null,0,"認知症により、食事に対する認知能力に問題がある。",null,null,null,null,null,null,null,null,null,"補助食の必要性"]
[null,null,null,{"$f":"IF($D$4=\"\",\"\",VLOOKUP($D$4,記録シート１!$D$6:$CG$2007,AD76))","v":""},{"$f":"モデルシート!$E$28","v":"失明・空間失認などにより、食事位置などが判らない。"},null,null,null,null,null,null,null,null,null,{"$f":"IF($D$4=\"\",\"\",VLOOKUP($D$4,記録シート１!$D$6:$CG$2007,AO76))","v":""},{"$f":"IF($D$4=\"\",\"\",VLOOKUP($D$4,記録シート１!$D$6:$CG$2007,AP76))","v":""},{"$f":"IF($D$4=\"\",\"\",VLOOKUP($D$4,記録シート１!$D$6:$CG$2007,AQ76))","v":""},{"$f":"IF($D$4=\"\",\"\",VLOOKUP($D$4,記録シート１!$D$6:$CG$2007,AR76))","v":""},{"$f":"IF($D$4=\"\",\"\",VLOOKUP($D$4,記録シート１!$D$6:$CG$2007,AS76))","v":""},{"$f":"IF($D$4=\"\",\"\",VLOOKUP($D$4,記録シート１!$D$6:$CG$2007,AT76))","v":""},{"$f":"IF($D$4=\"\",\"\",VLOOKUP($D$4,記録シート１!$D$6:$CG$2007,AU76))","v":""},null,null,null,null,null,null,null,null,null,{"$f":"モデルシート!$E$28","v":"失明・空間失認などにより、食事位置などが判らない。"},null,null,null,null,null,null,null,null,null,{"$f":"モデルシート!$O$28","v":"現状継続"},null,null,null,null,null,null,null,null,{"$f":"モデルシート!$X$28","v":"検討課題"},null,null,null,null,null,0,"失明・空間失認などにより、食事位置などが判らない。",null,null,null,null,null,null,null,null,null,"現状継続",null,0,{"$error":"#REF!"},{"$error":"#REF!"},{"$error":"#REF!"},{"$error":"#REF!"}]
[null,null,null,{"$f":"IF($D$4=\"\",\"\",VLOOKUP($D$4,記録シート１!$D$6:$CG$2007,AD77))","v":""},{"$f":"モデルシート!$E$29","v":"食べ始められない。食事を頻繁に中断してしまう。食事に集中できない。"},null,null,null,null,null,null,null,null,null,{"$f":"IF($D$4=\"\",\"\",VLOOKUP($D$4,記録シート１!$D$6:$CG$2007,AO77))","v":""},{"$f":"IF($D$4=\"\",\"\",VLOOKUP($D$4,記録シート１!$D$6:$CG$2007,AP77))","v":""},{"$f":"IF($D$4=\"\",\"\",VLOOKUP($D$4,記録シート１!$D$6:$CG$2007,AQ77))","v":""},{"$f":"IF($D$4=\"\",\"\",VLOOKUP($D$4,記録シート１!$D$6:$CG$2007,AR77))","v":""},{"$f":"IF($D$4=\"\",\"\",VLOOKUP($D$4,記録シート１!$D$6:$CG$2007,AS77))","v":""},{"$f":"IF($D$4=\"\",\"\",VLOOKUP($D$4,記録シート１!$D$6:$CG$2007,AT77))","v":""},{"$f":"IF($D$4=\"\",\"\",VLOOKUP($D$4,記録シート１!$D$6:$CG$2007,AU77))","v":""},null,null,null,null,null,null,null,null,null,{"$f":"モデルシート!$E$29","v":"食べ始められない。食事を頻繁に中断してしまう。食事に集中できない。"},null,null,null,null,null,null,null,null,null,null,null,null,null,null,null,null,null,null,null,null,null,null,null,null,0,"食べ始められない。食事を頻繁に中断してしまう。食事に集中できない。",null,null,null,null,null,null,null,null,null,null,null,{"$error":"#REF!"},{"$error":"#REF!"},{"$error":"#REF!"},{"$error":"#REF!"},{"$error":"#REF!"}]
[null,null,null,{"$f":"IF($D$4=\"\",\"\",VLOOKUP($D$4,記録シート１!$D$6:$CG$2007,AD78))","v":""},{"$f":"モデルシート!$E$30","v":"食事そのものまたはその介助を拒否することがある。"},null,null,null,null,null,null,null,null,null,{"$f":"モデルシート!$O$30","v":"食事介助方法"},null,null,null,null,null,null,null,null,null,null,null,null,null,null,null,{"$f":"モデルシート!$E$30","v":"食事そのものまたはその介助を拒否することがある。"},null,null,null,null,null,null,null,null,null,{"$f":"モデルシート!$O$30","v":"食事介助方法"},null,null,null,null,null,null,null,null,null,null,null,null,null,null,0,"食事そのものまたはその介助を拒否することがある。",null,null,null,null,null,null,null,null,null,"食事介助方法"]
[null,null,null,{"$f":"IF($D$4=\"\",\"\",VLOOKUP($D$4,記録シート１!$D$6:$CG$2007,AD79))","v":""},{"$f":"モデルシート!$E$31","v":"食事に時間がかかり疲労してしまう。食事中に寝てしまう。"},null,null,null,null,null,null,null,null,null,{"$f":"IF($D$4=\"\",\"\",VLOOKUP($D$4,記録シート１!$D$6:$CG$2007,AO79))","v":""},{"$f":"IF($D$4=\"\",\"\",VLOOKUP($D$4,記録シート１!$D$6:$CG$2007,AP79))","v":""},{"$f":"IF($D$4=\"\",\"\",VLOOKUP($D$4,記録シート１!$D$6:$CG$2007,AQ79))","v":""},{"$f":"IF($D$4=\"\",\"\",VLOOKUP($D$4,記録シート１!$D$6:$CG$2007,AR79))","v":""},{"$f":"IF($D$4=\"\",\"\",VLOOKUP($D$4,記録シート１!$D$6:$CG$2007,AS79))","v":""},{"$f":"IF($D$4=\"\",\"\",VLOOKUP($D$4,記録シート１!$D$6:$CG$2007,AT79))","v":""},{"$f":"IF($D$4=\"\",\"\",VLOOKUP($D$4,記録シート１!$D$6:$CG$2007,AU79))","v":""},null,null,null,null,null,null,null,null,null,{"$f":"モデルシート!$E$31","v":"食事に時間がかかり疲労してしまう。食事中に寝てしまう。"},null,null,null,null,null,null,null,null,null,{"$f":"モデルシート!$O$31","v":"現状継続"},null,null,null,null,null,null,null,null,null,null,null,null,null,null,0,"食事に時間がかかり疲労してしまう。食事中に寝てしまう。",null,null,null,null,null,null,null,null,null,"現状継続",null,0,{"$error":"#REF!"},{"$error":"#REF!"},{"$error":"#REF!"},{"$error":"#REF!"}]
[null,null,null,{"$f":"IF($D$4=\"\",\"\",VLOOKUP($D$4,記録シート１!$D$6:$CG$2007,AD80))","v":""},{"$f":"モデルシート!$E$32","v":"次から次へと食事を口に運び、口腔内がいっぱいになってしまう。"},null,null,null,null,null,null,null,null,null,{"$f":"IF($D$4=\"\",\"\",VLOOKUP($D$4,記録シート１!$D$6:$CG$2007,AO80))","v":""},{"$f":"IF($D$4=\"\",\"\",VLOOKUP($D$4,記録シート１!$D$6:$CG$2007,AP80))","v":""},{"$f":"IF($D$4=\"\",\"\",VLOOKUP($D$4,記録シート１!$D$6:$CG$2007,AQ80))","v":""},{"$f":"IF($D$4=\"\",\"\",VLOOKUP($D$4,記録シート１!$D$6:$CG$2007,AR80))","v":""},{"$f":"IF($D$4=\"\",\"\",VLOOKUP($D$4,記録シート１!$D$6:$CG$2007,AS80))","v":""},{"$f":"IF($D$4=\"\",\"\",VLOOKUP($D$4,記録シート１!$D$6:$CG$2007,AT80))","v":""},{"$f":"IF($D$4=\"\",\"\",VLOOKUP($D$4,記録シート１!$D$6:$CG$2007,AU80))","v":""},null,null,null,null,null,null,null,null,null,{"$f":"モデルシート!$E$32","v":"次から次へと食事を口に運び、口腔内がいっぱいになってしまう。"},null,null,null,null,null,null,null,null,null,null,null,null,null,null,null,null,null,null,null,null,null,null,null,null,0,"次から次へと食事を口に運び、口腔内がいっぱいになってしまう。",null,null,null,null,null,null,null,null,null,null,null,{"$error":"#REF!"},{"$error":"#REF!"},{"$error":"#REF!"},{"$error":"#REF!"},{"$error":"#REF!"}]
[null,null,null,{"$f":"IF($D$4=\"\",\"\",VLOOKUP($D$4,記録シート１!$D$6:$CG$2007,AD81))","v":""},{"$f":"モデルシート!$E$33","v":"口腔内が乾燥している。口腔内の衛生状態が悪い。"},null,null,null,null,null,null,null,null,null,{"$f":"モデルシート!$O$33","v":"口腔ケアの方法"},null,null,null,null,null,null,null,null,null,null,null,null,null,null,null,{"$f":"モデルシート!$E$33","v":"口腔内が乾燥している。口腔内の衛生状態が悪い。"},null,null,null,null,null,null,null,null,null,{"$f":"モデルシート!$O$33","v":"口腔ケアの方法"},null,null,null,null,null,null,null,null,null,null,null,null,null,null,0,"口腔内が乾燥している。口腔内の衛生状態が悪い。",null,null,null,null,null,null,null,null,null,"口腔ケアの方法"]
[null,null,null,{"$f":"IF($D$4=\"\",\"\",VLOOKUP($D$4,記録シート１!$D$6:$CG$2007,AD82))","v":""},{"$f":"モデルシート!$E$34","v":"咀嚼能力に問題がある。"},null,null,null,null,null,null,null,null,null,{"$f":"IF($D$4=\"\",\"\",VLOOKUP($D$4,記録シート１!$D$6:$CG$2007,AO82))","v":""},{"$f":"IF($D$4=\"\",\"\",VLOOKUP($D$4,記録シート１!$D$6:$CG$2007,AP82))","v":""},{"$f":"IF($D$4=\"\",\"\",VLOOKUP($D$4,記録シート１!$D$6:$CG$2007,AQ82))","v":""},{"$f":"IF($D$4=\"\",\"\",VLOOKUP($D$4,記録シート１!$D$6:$CG$2007,AR82))","v":""},{"$f":"IF($D$4=\"\",\"\",VLOOKUP($D$4,記録シート１!$D$6:$CG$2007,AS82))","v":""},{"$f":"IF($D$4=\"\",\"\",VLOOKUP($D$4,記録シート１!$D$6:$CG$2007,AT82))","v":""},{"$f":"IF($D$4=\"\",\"\",VLOOKUP($D$4,記録シート１!$D$6:$CG$2007,AU82))","v":""},null,null,null,null,null,null,null,null,null,{"$f":"モデルシート!$E$34","v":"咀嚼能力に問題がある。"},null,null,null,null,null,null,null,null,null,{"$f":"モデルシート!$O$34","v":"現状継続"},null,null,null,null,null,null,null,null,null,null,null,null,null,null,0,"咀嚼能力に問題がある。",null,null,null,null,null,null,null,null,null,"現状継続",null,0,{"$error":"#REF!"},{"$error":"#REF!"},{"$error":"#REF!"},{"$error":"#REF!"}]
[null,null,null,{"$f":"IF($D$4=\"\",\"\",VLOOKUP($D$4,記録シート１!$D$6:$CG$2007,AD83))","v":""},{"$f":"モデルシート!$E$35","v":"自歯・義歯に問題がある。"},null,null,null,null,null,null,null,null,null,{"$f":"IF($D$4=\"\",\"\",VLOOKUP($D$4,記録シート１!$D$6:$CG$2007,AO83))","v":""},{"$f":"IF($D$4=\"\",\"\",VLOOKUP($D$4,記録シート１!$D$6:$CG$2007,AP83))","v":""},{"$f":"IF($D$4=\"\",\"\",VLOOKUP($D$4,記録シート１!$D$6:$CG$2007,AQ83))","v":""},{"$f":"IF($D$4=\"\",\"\",VLOOKUP($D$4,記録シート１!$D$6:$CG$2007,AR83))","v":""},{"$f":"IF($D$4=\"\",\"\",VLOOKUP($D$4,記録シート１!$D$6:$CG$2007,AS83))","v":""},{"$f":"IF($D$4=\"\",\"\",VLOOKUP($D$4,記録シート１!$D$6:$CG$2007,AT83))","v":""},{"$f":"IF($D$4=\"\",\"\",VLOOKUP($D$4,記録シート１!$D$6:$CG$2007,AU83))","v":""},null,null,null,null,null,null,null,null,null,{"$f":"モデルシート!$E$35","v":"自歯・義歯に問題がある。"},null,null,null,null,null,null,null,null,null,null,null,null,null,null,null,null,null,null,null,null,null,null,null,null,0,"自歯・義歯に問題がある。",null,null,null,null,null,null,null,null,null,null,null,{"$error":"#REF!"},{"$error":"#REF!"},{"$error":"#REF!"},{"$error":"#REF!"},{"$error":"#REF!"}]
[null,null,null,{"$f":"IF($D$4=\"\",\"\",VLOOKUP($D$4,記録シート１!$D$6:$CG$2007,AD84))","v":""},{"$f":"モデルシート!$E$36","v":"口から食物や唾液がこぼれる。"},null,null,null,null,null,null,null,null,null,{"$f":"モデルシート!$O$36","v":"医療または歯科受診の必要性"},null,null,null,null,null,null,null,null,null,null,null,null,null,null,null,{"$f":"モデルシート!$E$36","v":"口から食物や唾液がこぼれる。"},null,null,null,null,null,null,null,null,null,{"$f":"モデルシート!$O$36","v":"医療または歯科受診の必要性"},null,null,null,null,null,null,null,null,null,null,null,null,null,null,0,"口から食物や唾液がこぼれる。",null,null,null,null,null,null,null,null,null,"医療または歯科受診の必要性"]
[null,null,null,{"$f":"IF($D$4=\"\",\"\",VLOOKUP($D$4,記録シート１!$D$6:$CG$2007,AD85))","v":""},{"$f":"モデルシート!$E$37","v":"口腔内に食物残滓が目立つ。"},null,null,null,null,null,null,null,null,null,{"$f":"IF($D$4=\"\",\"\",VLOOKUP($D$4,記録シート１!$D$6:$CG$2007,AO85))","v":""},{"$f":"IF($D$4=\"\",\"\",VLOOKUP($D$4,記録シート１!$D$6:$CG$2007,AP85))","v":""},{"$f":"IF($D$4=\"\",\"\",VLOOKUP($D$4,記録シート１!$D$6:$CG$2007,AQ85))","v":""},{"$f":"IF($D$4=\"\",\"\",VLOOKUP($D$4,記録シート１!$D$6:$CG$2007,AR85))","v":""},{"$f":"IF($D$4=\"\",\"\",VLOOKUP($D$4,記録シート１!$D$6:$CG$2007,AS85))","v":""},{"$f":"IF($D$4=\"\",\"\",VLOOKUP($D$4,記録シート１!$D$6:$CG$2007,AT85))","v":""},{"$f":"IF($D$4=\"\",\"\",VLOOKUP($D$4,記録シート１!$D$6:$CG$2007,AU85))","v":""},null,null,null,null,null,null,null,null,null,{"$f":"モデルシート!$E$37","v":"口腔内に食物残滓が目立つ。"},null,null,null,null,null,null,null,null,null,{"$f":"モデルシート!$O$37","v":"現状継続"},null,null,null,null,null,null,null,null,null,null,null,null,null,null,0,"口腔内に食物残滓が目立つ。",null,null,null,null,null,null,null,null,null,"現状継続",null,0,{"$error":"#REF!"},{"$error":"#REF!"},{"$error":"#REF!"},{"$error":"#REF!"}]
[null,null,null,{"$f":"IF($D$4=\"\",\"\",VLOOKUP($D$4,記録シート１!$D$6:$CG$2007,AD86))","v":""},{"$f":"モデルシート!$E$38","v":"食物がなかなか呑み込めず、嚥下に時間がかかる。"},null,null,null,null,null,null,null,null,null,{"$f":"IF($D$4=\"\",\"\",VLOOKUP($D$4,記録シート１!$D$6:$CG$2007,AO86))","v":""},{"$f":"IF($D$4=\"\",\"\",VLOOKUP($D$4,記録シート１!$D$6:$CG$2007,AP86))","v":""},{"$f":"IF($D$4=\"\",\"\",VLOOKUP($D$4,記録シート１!$D$6:$CG$2007,AQ86))","v":""},{"$f":"IF($D$4=\"\",\"\",VLOOKUP($D$4,記録シート１!$D$6:$CG$2007,AR86))","v":""},{"$f":"IF($D$4=\"\",\"\",VLOOKUP($D$4,記録シート１!$D$6:$CG$2007,AS86))","v":""},{"$f":"IF($D$4=\"\",\"\",VLOOKUP($D$4,記録シート１!$D$6:$CG$2007,AT86))","v":""},{"$f":"IF($D$4=\"\",\"\",VLOOKUP($D$4,記録シート１!$D$6:$CG$2007,AU86))","v":""},null,null,null,null,null,null,null,null,null,{"$f":"モデルシート!$E$38","v":"食物がなかなか呑み込めず、嚥下に時間がかかる。"},null,null,null,null,null,null,null,null,null,null,null,null,null,null,null,null,null,null,null,null,null,null,null,null,0,"食物がなかなか呑み込めず、嚥下に時間がかかる。",null,null,null,null,null,null,null,null,null,null,null,{"$error":"#REF!"},{"$error":"#REF!"},{"$error":"#REF!"},{"$error":"#REF!"},{"$error":"#REF!"}]
[null,null,null,{"$f":"IF($D$4=\"\",\"\",VLOOKUP($D$4,記録シート１!$D$6:$CG$2007,AD87))","v":""},{"$f":"モデルシート!$E$39","v":"食事中や食後に濁った声や呼吸音になる。"},null,null,null,null,null,null,null,null,null,{"$f":"モデルシート!$O$39","v":"食事環境の変更の必要性"},null,null,null,null,null,null,null,null,null,null,null,null,null,null,null,{"$f":"モデルシート!$E$39","v":"食事中や食後に濁った声や呼吸音になる。"},null,null,null,null,null,null,null,null,null,{"$f":"モデルシート!$O$39","v":"食事環境の変更の必要性"},null,null,null,null,null,null,null,null,null,null,null,null,null,null,0,"食事中や食後に濁った声や呼吸音になる。",null,null,null,null,null,null,null,null,null,"食事環境の変更の必要性"]
[null,null,null,{"$f":"IF($D$4=\"\",\"\",VLOOKUP($D$4,記録シート１!$D$6:$CG$2007,AD88))","v":""},{"$f":"モデルシート!$E$40","v":"頻繁にむせこんだり、咳き込んだりする。"},null,null,null,null,null,null,null,null,null,{"$f":"IF($D$4=\"\",\"\",VLOOKUP($D$4,記録シート１!$D$6:$CG$2007,AO88))","v":""},{"$f":"IF($D$4=\"\",\"\",VLOOKUP($D$4,記録シート１!$D$6:$CG$2007,AP88))","v":""},{"$f":"IF($D$4=\"\",\"\",VLOOKUP($D$4,記録シート１!$D$6:$CG$2007,AQ88))","v":""},{"$f":"IF($D$4=\"\",\"\",VLOOKUP($D$4,記録シート１!$D$6:$CG$2007,AR88))","v":""},{"$f":"IF($D$4=\"\",\"\",VLOOKUP($D$4,記録シート１!$D$6:$CG$2007,AS88))","v":""},{"$f":"IF($D$4=\"\",\"\",VLOOKUP($D$4,記録シート１!$D$6:$CG$2007,AT88))","v":""},{"$f":"IF($D$4=\"\",\"\",VLOOKUP($D$4,記録シート１!$D$6:$CG$2007,AU88))","v":""},null,null,null,null,null,null,null,null,null,{"$f":"モデルシート!$E$40","v":"頻繁にむせこんだり、咳き込んだりする。"},null,null,null,null,null,null,null,null,null,{"$f":"モデルシート!$O$40","v":"現状継続"},null,null,null,null,null,null,null,null,null,null,null,null,null,null,0,"頻繁にむせこんだり、咳き込んだりする。",null,null,null,null,null,null,null,null,null,"現状継続",null,0,{"$error":"#REF!"},{"$error":"#REF!"},{"$error":"#REF!"},{"$error":"#REF!"}]
[null,null,null,{"$f":"IF($D$4=\"\",\"\",VLOOKUP($D$4,記録シート１!$D$6:$CG$2007,AD89))","v":""},{"$f":"モデルシート!$E$41","v":"食事中につかえたり、嘔吐したことが直近１ヶ月以内にある。"},null,null,null,null,null,null,null,null,null,{"$f":"IF($D$4=\"\",\"\",VLOOKUP($D$4,記録シート１!$D$6:$CG$2007,AO89))","v":""},{"$f":"IF($D$4=\"\",\"\",VLOOKUP($D$4,記録シート１!$D$6:$CG$2007,AP89))","v":""},{"$f":"IF($D$4=\"\",\"\",VLOOKUP($D$4,記録シート１!$D$6:$CG$2007,AQ89))","v":""},{"$f":"IF($D$4=\"\",\"\",VLOOKUP($D$4,記録シート１!$D$6:$CG$2007,AR89))","v":""},{"$f":"IF($D$4=\"\",\"\",VLOOKUP($D$4,記録シート１!$D$6:$CG$2007,AS89))","v":""},{"$f":"IF($D$4=\"\",\"\",VLOOKUP($D$4,記録シート１!$D$6:$CG$2007,AT89))","v":""},{"$f":"IF($D$4=\"\",\"\",VLOOKUP($D$4,記録シート１!$D$6:$CG$2007,AU89))","v":""},null,null,null,null,null,null,null,null,null,{"$f":"モデルシート!$E$41","v":"食事中につかえたり、嘔吐したことが直近１ヶ月以内にある。"},null,null,null,null,null,null,null,null,null,null,null,null,null,null,null,null,null,null,null,null,null,null,null,null,0,"食事中につかえたり、嘔吐したことが直近１ヶ月以内にある。",null,null,null,null,null,null,null,null,null,null,null,{"$error":"#REF!"},{"$error":"#REF!"},{"$error":"#REF!"},{"$error":"#REF!"},{"$error":"#REF!"}]
[null,null,null,{"$f":"IF($D$4=\"\",\"\",VLOOKUP($D$4,記録シート１!$D$6:$CG$2007,AD90))","v":""},{"$f":"モデルシート!$E$42","v":"食事の摂取量に問題がある。"},null,null,null,null,null,null,null,null,null,"その他",{"$f":"IF($D$4=\"\",\"\",VLOOKUP($D$4,記録シート１!$D$6:$CG$2007,AP90))","v":""},{"$f":"IF($D$4=\"\",\"\",VLOOKUP($D$4,記録シート１!$D$6:$CG$2007,AQ90))","v":""},{"$f":"IF($D$4=\"\",\"\",VLOOKUP($D$4,記録シート１!$D$6:$CG$2007,AR90))","v":""},{"$f":"IF($D$4=\"\",\"\",VLOOKUP($D$4,記録シート１!$D$6:$CG$2007,AS90))","v":""},{"$f":"IF($D$4=\"\",\"\",VLOOKUP($D$4,記録シート１!$D$6:$CG$2007,AT90))","v":""},{"$f":"IF($D$4=\"\",\"\",VLOOKUP($D$4,記録シート１!$D$6:$CG$2007,AU90))","v":""},null,null,null,null,null,null,null,null,null,{"$f":"モデルシート!$E$42","v":"食事の摂取量に問題がある。"},null,null,null,null,null,null,null,null,null,"その他",null,null,null,null,null,null,null,null,null,null,null,null,null,null,0,"食事の摂取量に問題がある。",null,null,null,null,null,null,null,null,null,"その他",0,{"$error":"#REF!"},{"$error":"#REF!"},{"$error":"#REF!"},{"$error":"#REF!"},{"$error":"#REF!"}]
[null,null,null,{"$f":"IF($D$4=\"\",\"\",VLOOKUP($D$4,記録シート１!$D$6:$CG$2007,AD91))","v":""},"その他",{"$f":"IF($D$4=\"\",\"\",VLOOKUP($D$4,記録シート１!$D$6:$CG$2007,AF91))","v":""},{"$f":"IF($D$4=\"\",\"\",VLOOKUP($D$4,記録シート１!$D$6:$CG$2007,AG91))","v":""},{"$f":"IF($D$4=\"\",\"\",VLOOKUP($D$4,記録シート１!$D$6:$CG$2007,AH91))","v":""},{"$f":"IF($D$4=\"\",\"\",VLOOKUP($D$4,記録シート１!$D$6:$CG$2007,AI91))","v":""},{"$f":"IF($D$4=\"\",\"\",VLOOKUP($D$4,記録シート１!$D$6:$CG$2007,AJ91))","v":""},{"$f":"IF($D$4=\"\",\"\",VLOOKUP($D$4,記録シート１!$D$6:$CG$2007,AK91))","v":""},{"$f":"IF($D$4=\"\",\"\",VLOOKUP($D$4,記録シート１!$D$6:$CG$2007,AL91))","v":""},{"$f":"IF($D$4=\"\",\"\",VLOOKUP($D$4,記録シート１!$D$6:$CG$2007,AM91))","v":""},null,null,{"$f":"IF($D$4=\"\",\"\",VLOOKUP($D$4,記録シート１!$D$6:$CG$2007,AP91))","v":""},{"$f":"IF($D$4=\"\",\"\",VLOOKUP($D$4,記録シート１!$D$6:$CG$2007,AQ91))","v":""},{"$f":"IF($D$4=\"\",\"\",VLOOKUP($D$4,記録シート１!$D$6:$CG$2007,AR91))","v":""},{"$f":"IF($D$4=\"\",\"\",VLOOKUP($D$4,記録シート１!$D$6:$CG$2007,AS91))","v":""},{"$f":"IF($D$4=\"\",\"\",VLOOKUP($D$4,記録シート１!$D$6:$CG$2007,AT91))","v":""},{"$f":"IF($D$4=\"\",\"\",VLOOKUP($D$4,記録シート１!$D$6:$CG$2007,AU91))","v":""},null,null,null,null,null,null,null,null,null,"その他",null,null,null,null,null,null,null,null,null,null,null,null,null,null,null,null,null,null,null,null,null,null,null,null,0,"その他",0,{"$error":"#REF!"},{"$error":"#REF!"},{"$error":"#REF!"},{"$error":"#REF!"},{"$error":"#REF!"},{"$error":"#REF!"},{"$error":"#REF!"},null,null,{"$error":"#REF!"},{"$error":"#REF!"},{"$error":"#REF!"},{"$error":"#REF!"},{"$error":"#REF!"},{"$error":"#REF!"}]
[null,null,null,"５．経口による食事摂取のための計画",null,null,null,null,null,null,null,null,null,null,null,null,null,null,null,null,null,null,null,null,null,null,null,null,null,"５．経口による食事摂取のための計画",null,null,null,null,null,null,null,null,null,null,null,null,null,null,null,null,null,null,null,null,null,null,null,null,null,"５．経口による食事摂取のための計画"]
[null,null,null,"初回作成日",null,null,{"$f":"IF($D$4=\"\",\"\",VLOOKUP($D$4,記録シート１!$D$6:$CG$2007,AG93))","v":""},{"$f":"IF($D$4=\"\",\"\",VLOOKUP($D$4,記録シート１!$D$6:$CG$2007,AH93))","v":""},{"$f":"IF($D$4=\"\",\"\",VLOOKUP($D$4,記録シート１!$D$6:$CG$2007,AI93))","v":""},"解決すべき課題や目標",null,null,null,null,null,null,null,null,null,null,null,null,null,null,null,null,null,null,null,"初回作成日",null,null,null,null,null,"解決すべき課題や目標",null,null,null,null,null,null,null,null,null,null,null,null,null,null,null,null,null,null,null,"初回作成日",null,null,"00:00:00",{"$error":"#REF!"},{"$error":"#REF!"},"解決すべき課題や目標"]
[null,null,null,"計画変更日",null,null,{"$f":"IF($D$4=\"\",\"\",VLOOKUP($D$4,記録シート１!$D$6:$CG$2007,AG94))","v":""},{"$f":"IF($D$4=\"\",\"\",VLOOKUP($D$4,記録シート１!$D$6:$CG$2007,AH94))","v":""},{"$f":"IF($D$4=\"\",\"\",VLOOKUP($D$4,記録シート１!$D$6:$CG$2007,AI94))","v":""},{"$f":"IF($D$4=\"\",\"\",VLOOKUP($D$4,記録シート１!$D$6:$CG$2007,AJ94))","v":""},{"$f":"IF($D$4=\"\",\"\",VLOOKUP($D$4,記録シート１!$D$6:$CG$2007,AK94))","v":""},{"$f":"IF($D$4=\"\",\"\",VLOOKUP($D$4,記録シート１!$D$6:$CG$2007,AL94))","v":""},{"$f":"IF($D$4=\"\",\"\",VLOOKUP($D$4,記録シート１!$D$6:$CG$2007,AM94))","v":""},{"$f":"IF($D$4=\"\",\"\",VLOOKUP($D$4,記録シート１!$D$6:$CG$2007,AN94))","v":""},{"$f":"IF($D$4=\"\",\"\",VLOOKUP($D$4,記録シート１!$D$6:$CG$2007,AO94))","v":""},{"$f":"IF($D$4=\"\",\"\",VLOOKUP($D$4,記録シート１!$D$6:$CG$2007,AP94))","v":""},{"$f":"IF($D$4=\"\",\"\",VLOOKUP($D$4,記録シート１!$D$6:$CG$2007,AQ94))","v":""},{"$f":"IF($D$4=\"\",\"\",VLOOKUP($D$4,記録シート１!$D$6:$CG$2007,AR94))","v":""},{"$f":"IF($D$4=\"\",\"\",VLOOKUP($D$4,記録シート１!$D$6:$CG$2007,AS94))","v":""},{"$f":"IF($D$4=\"\",\"\",VLOOKUP($D$4,記録シート１!$D$6:$CG$2007,AT94))","v":""},{"$f":"IF($D$4=\"\",\"\",VLOOKUP($D$4,記録シート１!$D$6:$CG$2007,AU94))","v":""},null,null,null,null,null,null,null,null,"計画変更日",null,null,null,null,null,{"$f":"モデルシート!$J$46","v":0},{"$f":"モデルシート!K46","v":0},{"$f":"モデルシート!L46","v":0},{"$f":"モデルシート!M46","v":0},{"$f":"モデルシート!N46","v":0},{"$f":"モデルシート!O46","v":0},{"$f":"モデルシート!P46","v":0},{"$f":"モデルシート!Q46","v":0},{"$f":"モデルシート!R46","v":0},{"$f":"モデルシート!S46","v":0},{"$f":"モデルシート!T46","v":0},{"$f":"モデルシート!U46","v":0},null,null,null,null,null,null,null,null,"計画変更日",null,null,"00:00:00",{"$error":"#REF!"},{"$error":"#REF!"},0,{"$error":"#REF!"},{"$error":"#REF!"},{"$error":"#REF!"},{"$error":"#REF!"},{"$error":"#REF!"},{"$error":"#REF!"},{"$error":"#REF!"},{"$error":"#REF!"},{"$error":"#REF!"},{"$error":"#REF!"},{"$error":"#REF!"}]
[null,null,null,"計画作成者",null,null,{"$f":"IF($D$4=\"\",\"\",VLOOKUP($D$4,記録シート１!$D$6:$CG$2007,AG95))","v":""},{"$f":"IF($D$4=\"\",\"\",VLOOKUP($D$4,記録シート１!$D$6:$CG$2007,AH95))","v":""},{"$f":"IF($D$4=\"\",\"\",VLOOKUP($D$4,記録シート１!$D$6:$CG$2007,AI95))","v":""},{"$f":"IF($D$4=\"\",\"\",VLOOKUP($D$4,記録シート１!$D$6:$CG$2007,AJ95))","v":""},{"$f":"IF($D$4=\"\",\"\",VLOOKUP($D$4,記録シート１!$D$6:$CG$2007,AK95))","v":""},{"$f":"IF($D$4=\"\",\"\",VLOOKUP($D$4,記録シート１!$D$6:$CG$2007,AL95))","v":""},{"$f":"IF($D$4=\"\",\"\",VLOOKUP($D$4,記録シート１!$D$6:$CG$2007,AM95))","v":""},{"$f":"IF($D$4=\"\",\"\",VLOOKUP($D$4,記録シート１!$D$6:$CG$2007,AN95))","v":""},{"$f":"IF($D$4=\"\",\"\",VLOOKUP($D$4,記録シート１!$D$6:$CG$2007,AO95))","v":""},{"$f":"IF($D$4=\"\",\"\",VLOOKUP($D$4,記録シート１!$D$6:$CG$2007,AP95))","v":""},{"$f":"IF($D$4=\"\",\"\",VLOOKUP($D$4,記録シート１!$D$6:$CG$2007,AQ95))","v":""},{"$f":"IF($D$4=\"\",\"\",VLOOKUP($D$4,記録シート１!$D$6:$CG$2007,AR95))","v":""},{"$f":"IF($D$4=\"\",\"\",VLOOKUP($D$4,記録シート１!$D$6:$CG$2007,AS95))","v":""},{"$f":"IF($D$4=\"\",\"\",VLOOKUP($D$4,記録シート１!$D$6:$CG$2007,AT95))","v":""},{"$f":"IF($D$4=\"\",\"\",VLOOKUP($D$4,記録シート１!$D$6:$CG$2007,AU95))","v":""},null,null,null,null,null,null,null,null,"計画作成者",null,null,{"$f":"モデルシート!$G$47","v":"星野徳明（介護支援専門員）"},{"$f":"モデルシート!H47","v":0},{"$f":"モデルシート!I47","v":0},{"$f":"モデルシート!J47","v":0},{"$f":"モデルシート!K47","v":0},{"$f":"モデルシート!L47","v":0},{"$f":"モデルシート!M47","v":0},{"$f":"モデルシート!N47","v":0},{"$f":"モデルシート!O47","v":0},{"$f":"モデルシート!P47","v":0},{"$f":"モデルシート!Q47","v":0},{"$f":"モデルシート!R47","v":0},{"$f":"モデルシート!S47","v":0},{"$f":"モデルシート!T47","v":0},{"$f":"モデルシート!U47","v":0},null,null,null,null,null,null,null,null,"計画作成者",null,null,"星野徳明（介護支援専門員）",{"$error":"#REF!"},{"$error":"#REF!"},{"$error":"#REF!"},{"$error":"#REF!"},{"$error":"#REF!"},{"$error":"#REF!"},{"$error":"#REF!"},{"$error":"#REF!"},{"$error":"#REF!"},{"$error":"#REF!"},{"$error":"#REF!"},{"$error":"#REF!"},{"$error":"#REF!"},{"$error":"#REF!"}]
[null,null,null,"ご家族の意見など",null,null,{"$f":"IF($D$4=\"\",\"\",VLOOKUP($D$4,記録シート１!$D$6:$CG$2007,AG96))","v":""},{"$f":"IF($D$4=\"\",\"\",VLOOKUP($D$4,記録シート１!$D$6:$CG$2007,AH96))","v":""},{"$f":"IF($D$4=\"\",\"\",VLOOKUP($D$4,記録シート１!$D$6:$CG$2007,AI96))","v":""},{"$f":"IF($D$4=\"\",\"\",VLOOKUP($D$4,記録シート１!$D$6:$CG$2007,AJ96))","v":""},{"$f":"IF($D$4=\"\",\"\",VLOOKUP($D$4,記録シート１!$D$6:$CG$2007,AK96))","v":""},{"$f":"IF($D$4=\"\",\"\",VLOOKUP($D$4,記録シート１!$D$6:$CG$2007,AL96))","v":""},{"$f":"IF($D$4=\"\",\"\",VLOOKUP($D$4,記録シート１!$D$6:$CG$2007,AM96))","v":""},{"$f":"IF($D$4=\"\",\"\",VLOOKUP($D$4,記録シート１!$D$6:$CG$2007,AN96))","v":""},{"$f":"IF($D$4=\"\",\"\",VLOOKUP($D$4,記録シート１!$D$6:$CG$2007,AO96))","v":""},{"$f":"IF($D$4=\"\",\"\",VLOOKUP($D$4,記録シート１!$D$6:$CG$2007,AP96))","v":""},{"$f":"IF($D$4=\"\",\"\",VLOOKUP($D$4,記録シート１!$D$6:$CG$2007,AQ96))","v":""},{"$f":"IF($D$4=\"\",\"\",VLOOKUP($D$4,記録シート１!$D$6:$CG$2007,AR96))","v":""},{"$f":"IF($D$4=\"\",\"\",VLOOKUP($D$4,記録シート１!$D$6:$CG$2007,AS96))","v":""},{"$f":"IF($D$4=\"\",\"\",VLOOKUP($D$4,記録シート１!$D$6:$CG$2007,AT96))","v":""},{"$f":"IF($D$4=\"\",\"\",VLOOKUP($D$4,記録シート１!$D$6:$CG$2007,AU96))","v":""},null,null,null,null,null,null,null,null,"ご家族の意見など",null,null,{"$f":"モデルシート!$G$48","v":0},{"$f":"モデルシート!H48","v":0},{"$f":"モデルシート!I48","v":0},{"$f":"モデルシート!J48","v":0},{"$f":"モデルシート!K48","v":0},{"$f":"モデルシート!L48","v":0},{"$f":"モデルシート!M48","v":0},{"$f":"モデルシート!N48","v":0},{"$f":"モデルシート!O48","v":0},{"$f":"モデルシート!P48","v":0},{"$f":"モデルシート!Q48","v":0},{"$f":"モデルシート!R48","v":0},{"$f":"モデルシート!S48","v":0},{"$f":"モデルシート!T48","v":0},{"$f":"モデルシート!U48","v":0},null,null,null,null,null,null,null,null,"ご家族の意見など",null,null,0,{"$error":"#REF!"},{"$error":"#REF!"},{"$error":"#REF!"},{"$error":"#REF!"},{"$error":"#REF!"},{"$error":"#REF!"},{"$error":"#REF!"},{"$error":"#REF!"},{"$error":"#REF!"},{"$error":"#REF!"},{"$error":"#REF!"},{"$error":"#REF!"},{"$error":"#REF!"},{"$error":"#REF!"}]
[null,null,null,"備　　考",null,null,{"$f":"IF($D$4=\"\",\"\",VLOOKUP($D$4,記録シート１!$D$6:$CG$2007,AG97))","v":""},{"$f":"IF($D$4=\"\",\"\",VLOOKUP($D$4,記録シート１!$D$6:$CG$2007,AH97))","v":""},{"$f":"IF($D$4=\"\",\"\",VLOOKUP($D$4,記録シート１!$D$6:$CG$2007,AI97))","v":""},{"$f":"IF($D$4=\"\",\"\",VLOOKUP($D$4,記録シート１!$D$6:$CG$2007,AJ97))","v":""},{"$f":"IF($D$4=\"\",\"\",VLOOKUP($D$4,記録シート１!$D$6:$CG$2007,AK97))","v":""},{"$f":"IF($D$4=\"\",\"\",VLOOKUP($D$4,記録シート１!$D$6:$CG$2007,AL97))","v":""},{"$f":"IF($D$4=\"\",\"\",VLOOKUP($D$4,記録シート１!$D$6:$CG$2007,AM97))","v":""},{"$f":"IF($D$4=\"\",\"\",VLOOKUP($D$4,記録シート１!$D$6:$CG$2007,AN97))","v":""},{"$f":"IF($D$4=\"\",\"\",VLOOKUP($D$4,記録シート１!$D$6:$CG$2007,AO97))","v":""},{"$f":"IF($D$4=\"\",\"\",VLOOKUP($D$4,記録シート１!$D$6:$CG$2007,AP97))","v":""},{"$f":"IF($D$4=\"\",\"\",VLOOKUP($D$4,記録シート１!$D$6:$CG$2007,AQ97))","v":""},{"$f":"IF($D$4=\"\",\"\",VLOOKUP($D$4,記録シート１!$D$6:$CG$2007,AR97))","v":""},{"$f":"IF($D$4=\"\",\"\",VLOOKUP($D$4,記録シート１!$D$6:$CG$2007,AS97))","v":""},{"$f":"IF($D$4=\"\",\"\",VLOOKUP($D$4,記録シート１!$D$6:$CG$2007,AT97))","v":""},{"$f":"IF($D$4=\"\",\"\",VLOOKUP($D$4,記録シート１!$D$6:$CG$2007,AU97))","v":""},null,null,null,null,null,null,null,null,"備　　考",null,null,{"$f":"モデルシート!$G$49","v":0},{"$f":"モデルシート!H49","v":0},{"$f":"モデルシート!I49","v":0},{"$f":"モデルシート!J49","v":0},{"$f":"モデルシート!K49","v":0},{"$f":"モデルシート!L49","v":0},{"$f":"モデルシート!M49","v":0},{"$f":"モデルシート!N49","v":0},{"$f":"モデルシート!O49","v":0},{"$f":"モデルシート!P49","v":0},{"$f":"モデルシート!Q49","v":0},{"$f":"モデルシート!R49","v":0},{"$f":"モデルシート!S49","v":0},{"$f":"モデルシート!T49","v":0},{"$f":"モデルシート!U49","v":0},null,null,null,null,null,null,null,null,"備　　考",null,null,0,{"$error":"#REF!"},{"$error":"#REF!"},{"$error":"#REF!"},{"$error":"#REF!"},{"$error":"#REF!"},{"$error":"#REF!"},{"$error":"#REF!"},{"$error":"#REF!"},{"$error":"#REF!"},{"$error":"#REF!"},{"$error":"#REF!"},{"$error":"#REF!"},{"$error":"#REF!"},{"$error":"#REF!"},null,null,null,null,null,null,null,"記録日","お名前","フリガナ","性別","生年月日","要介護度","初回","継続","自歯の使用あり","義歯の使用あり","食事介助の必要あり","その他（以下に記述）","経口移行加算","経口維持加算Ⅰ","経口維持加算Ⅱ","水飲みテスト","食事観察による確認","その他",18,"認知機能","咀嚼・口腔機能","嚥下機能",22,"確認日","協力医療機関","協力医療機関","観察・検討した日","医師・歯科医師","介護支援専門員","看護職員","施設長","管理栄養士","担当介護職員","ご家族","その他","その他","食事の環境","食事の形態","摂取の方法","療養食など","持病・治療","チェック41","チェック42","チェック43","チェック44","チェック45","チェック46","チェック47","チェック48","チェック49","チェック50","チェック51","チェック52","チェック53","チェック54","チェック55","チェック56","チェック57","チェック58","チェック59","チェック60","チェック61","食事形態の変化の必要性","データ","補助食の必要性","データ","食事介助方法","データ","口腔ケアの方法","データ","医療または歯科受診の必要性","データ","食事環境の変更の必要性","データ","その他","初回作成日","計画変更日","計画作成者","解決すべき課題や目標","ご家族の意見など","備　　考"]
[null,null,null,"同意年月日（初回）",null,null,null,"平成　　　年　　　月　　　日",null,null,null,"同意者のサイン",null,null,null,null,null,"印","関係",null,null,null,null,null,null,null,null,null,null,"同意年月日（初回）",null,null,null,"平成　　　年　　　月　　　日",null,null,null,"同意者のサイン",null,null,null,null,null,"印","関係",null,null,null,null,null,null,null,null,null,null,"同意年月日（初回）",null,null,null,"平成　　　年　　　月　　　日",null,null,null,"同意者のサイン",null,null,null,null,null,"印","関係",null,null,null,null,null,null,null,null,null,20150411,"１．基本情報",1,0,"00:00:00",0,"■","□","□","□","■","□","□","■","□","□","■","□",0,"□","□","□",0,"00:00:00","医療法人社団琢心会　辰巳病院","ここのえ歯科医院","00:00:00","□","■","■","■","■","■","□","□",0,0,0,0,0,0,0,0,0,0,0,0,0,0,0,0,0,0,0,0,0,0,0,0,0,0,0,"現状継続",0,"現状継続",0,"現状継続",0,"現状継続",0,"現状継続",0,"現状継続",0,0,"00:00:00","00:00:00","星野徳明（介護支援専門員）",0,0,0]
[]
[]
[null,null,null,null,null,null,null,null,null,null,null,null,null,null,null,null,null,null,null,null,null,null,null,null,null,null,null,null,null,{"$f":"モデルシート!$D$5","v":"特別養護老人ホーム辰巳萬緑苑・経口移行・維持計画書"}]
[]
[null,null,null,{"$f":"モデルシート!$D$5","v":"特別養護老人ホーム辰巳萬緑苑・経口移行・維持計画書"},null,null,null,null,null,null,null,null,null,null,null,null,null,null,null,null,null,null,null,null,null,null,null,null,null,null,null,null,null,null,null,null,null,null,null,null,null,"記録日",null,2]
[null,null,null,null,null,null,null,null,null,null,null,null,null,null,null,null,null,null,null,null,null,null,null,null,null,null,null,null,null,null,null,{"$f":"AD57+1","v":4},null,null,null,"生年月日",null,null,"年齢",null,null,null,null,{"$f":"AL59+1","v":8},"初回",{"$f":"AR56+1","v":9},"継続"]
[null,null,null,"１．基本情報",null,null,null,null,null,null,null,null,null,null,null,"記録日",null,{"$f":"CC50","v":20150411},null,null,null,null,null,null,null,null,null,null,null,{"$f":"AR55+1","v":3},{"$f":"IF($D$4=\"\",\"\",VLOOKUP($D$4,記録シート１!$D$6:$CF$2007,7))","v":""},{"$f":"IF($D$4=\"\",\"\",VLOOKUP($D$4,記録シート１!$D$6:$CF$2007,7))","v":""},{"$f":"IF($D$4=\"\",\"\",VLOOKUP($D$4,記録シート１!$D$6:$CF$2007,7))","v":""},{"$f":"IF($D$4=\"\",\"\",VLOOKUP($D$4,記録シート１!$D$6:$CF$2007,7))","v":""},{"$f":"AF56+1","v":5},{"$f":"AI57+1","v":6},null,null,{"$f":"IF(OR(AJ57=\"\",AJ57=0),\"\",DATEDIF(AJ57,TODAY(),\"y\"))","v":115},{"$f":"AT56+1","v":10}]
[null,null,null,"フリガナ\nお名前",null,{"$f":"CE50","v":1},{"$f":"IF($D$4=\"\",\"\",VLOOKUP($D$4,記録シート１!$D$6:$CG$2007,AG106))","v":""},{"$f":"IF($D$4=\"\",\"\",VLOOKUP($D$4,記録シート１!$D$6:$CG$2007,AH106))","v":""},"性別","生年月日",null,null,"年齢","経口摂取の状態",null,null,null,{"$f":"CI50","v":"■"},"初回",{"$f":"CJ50","v":"□"},"継続",null,null,null,null,null,null,null,null,{"$f":"IF($D$4=\"\",\"\",VLOOKUP($D$4,記録シート１!$D$6:$CF$2007,7))","v":""},{"$f":"IF($D$4=\"\",\"\",VLOOKUP($D$4,記録シート１!$D$6:$CF$2007,7))","v":""},{"$f":"IF($D$4=\"\",\"\",VLOOKUP($D$4,記録シート１!$D$6:$CF$2007,7))","v":""},{"$f":"IF($D$4=\"\",\"\",VLOOKUP($D$4,記録シート１!$D$6:$CF$2007,7))","v":""},{"$f":"IF($D$4=\"\",\"\",VLOOKUP($D$4,記録シート１!$D$6:$CF$2007,7))","v":""},null,null,null,null,null,{"$f":"AN57+1","v":11},null,null,null,{"$f":"AN60+1","v":14}]
[null,null,null,{"$f":"CD50","v":"１．基本情報"},{"$f":"IF($D$4=\"\",\"\",VLOOKUP($D$4,記録シート１!$D$6:$CG$2007,AE107))","v":""},{"$f":"IF($D$4=\"\",\"\",VLOOKUP($D$4,記録シート１!$D$6:$CG$2007,AF107))","v":""},{"$f":"IF($D$4=\"\",\"\",VLOOKUP($D$4,記録シート１!$D$6:$CG$2007,AG107))","v":""},{"$f":"IF($D$4=\"\",\"\",VLOOKUP($D$4,記録シート１!$D$6:$CG$2007,AH107))","v":""},{"$f":"CF50","v":0},{"$f":"CG50","v":"00:00:00"},{"$f":"IF($D$4=\"\",\"\",VLOOKUP($D$4,記録シート１!$D$6:$CG$2007,AK107))","v":""},{"$f":"IF($D$4=\"\",\"\",VLOOKUP($D$4,記録シート１!$D$6:$CG$2007,AL107))","v":""},{"$f":"IF(OR(J59=\"\",J59=0),\"\",DATEDIF(J59,TODAY(),\"y\"))","v":""},{"$f":"CK50","v":"□"},{"$f":"モデルシート!$O$9","v":"自歯の使用あり"},null,null,"算定加算",null,null,null,null,null,null,null,null,null,null,null,{"$f":"IF($D$4=\"\",\"\",VLOOKUP($D$4,記録シート１!$D$6:$CF$2007,7))","v":""},{"$f":"IF($D$4=\"\",\"\",VLOOKUP($D$4,記録シート１!$D$6:$CF$2007,7))","v":""},{"$f":"IF($D$4=\"\",\"\",VLOOKUP($D$4,記録シート１!$D$6:$CF$2007,7))","v":""},{"$f":"IF($D$4=\"\",\"\",VLOOKUP($D$4,記録シート１!$D$6:$CF$2007,7))","v":""},{"$f":"IF($D$4=\"\",\"\",VLOOKUP($D$4,記録シート１!$D$6:$CF$2007,7))","v":""},null,"要介護度",null,{"$f":"AJ57+1","v":7},null,{"$f":"AN58+1","v":12},null,null,null,{"$f":"AR58+1","v":15}]
[null,null,null,{"$f":"IF($D$4=\"\",\"\",VLOOKUP($D$4,記録シート１!$D$6:$CG$2007,AD108))","v":""},{"$f":"IF($D$4=\"\",\"\",VLOOKUP($D$4,記録シート１!$D$6:$CG$2007,AE108))","v":""},{"$f":"IF($D$4=\"\",\"\",VLOOKUP($D$4,記録シート１!$D$6:$CG$2007,AF108))","v":""},{"$f":"IF($D$4=\"\",\"\",VLOOKUP($D$4,記録シート１!$D$6:$CG$2007,AG108))","v":""},{"$f":"IF($D$4=\"\",\"\",VLOOKUP($D$4,記録シート１!$D$6:$CG$2007,AH108))","v":""},{"$f":"IF($D$4=\"\",\"\",VLOOKUP($D$4,記録シート１!$D$6:$CG$2007,AI108))","v":""},{"$f":"IF($D$4=\"\",\"\",VLOOKUP($D$4,記録シート１!$D$6:$CG$2007,AJ108))","v":""},{"$f":"IF($D$4=\"\",\"\",VLOOKUP($D$4,記録シート１!$D$6:$CG$2007,AK108))","v":""},{"$f":"IF($D$4=\"\",\"\",VLOOKUP($D$4,記録シート１!$D$6:$CG$2007,AL108))","v":""},null,{"$f":"CL50","v":"□"},{"$f":"モデルシート!$O$10","v":"義歯の使用あり"},null,null,{"$f":"CO50","v":"□"},{"$f":"モデルシート!$S$10","v":"経口移行加算"},null,null,null,null,null,null,null,null,null,null,null,null,null,null,null,null,null,"備考（テスト・観察前の課題）",null,null,13,null,null,null,{"$f":"AR59+1","v":16}]
[null,null,null,{"$f":"IF($D$4=\"\",\"\",VLOOKUP($D$4,記録シート１!$D$6:$CG$2007,AD109))","v":""},{"$f":"IF($D$4=\"\",\"\",VLOOKUP($D$4,記録シート１!$D$6:$CG$2007,AE109))","v":""},{"$f":"IF($D$4=\"\",\"\",VLOOKUP($D$4,記録シート１!$D$6:$CG$2007,AF109))","v":""},{"$f":"IF($D$4=\"\",\"\",VLOOKUP($D$4,記録シート１!$D$6:$CG$2007,AG109))","v":""},{"$f":"IF($D$4=\"\",\"\",VLOOKUP($D$4,記録シート１!$D$6:$CG$2007,AH109))","v":""},{"$f":"IF($D$4=\"\",\"\",VLOOKUP($D$4,記録シート１!$D$6:$CG$2007,AI109))","v":""},"要介護度",null,{"$f":"CH50","v":0},{"$f":"IF($D$4=\"\",\"\",VLOOKUP($D$4,記録シート１!$D$6:$CG$2007,AM109))","v":""},{"$f":"CM50","v":"■"},{"$f":"モデルシート!$O$11","v":"食事介助の必要あり"},null,null,{"$f":"CP50","v":"■"},{"$f":"モデルシート!$S$11","v":"経口維持加算Ⅰ"},null,null,null,null,null,null,null,null,null,null,{"$f":"AR60+1","v":17},null,null,null,{"$f":"AF63+1","v":21},{"$f":"モデルシート!$I$13","v":"認知機能"},null,{"$f":"AH63+1","v":24},{"$f":"IF($D$4=\"\",\"\",VLOOKUP($D$4,記録シート１!$D$6:$CF$2007,7))","v":""},{"$f":"IF($D$4=\"\",\"\",VLOOKUP($D$4,記録シート１!$D$6:$CF$2007,7))","v":""},{"$f":"IF($D$4=\"\",\"\",VLOOKUP($D$4,記録シート１!$D$6:$CF$2007,7))","v":""},{"$f":"IF($D$4=\"\",\"\",VLOOKUP($D$4,記録シート１!$D$6:$CF$2007,7))","v":""},{"$f":"IF($D$4=\"\",\"\",VLOOKUP($D$4,記録シート１!$D$6:$CF$2007,7))","v":""},{"$f":"IF($D$4=\"\",\"\",VLOOKUP($D$4,記録シート１!$D$6:$CF$2007,7))","v":""},{"$f":"IF($D$4=\"\",\"\",VLOOKUP($D$4,記録シート１!$D$6:$CF$2007,7))","v":""},{"$f":"IF($D$4=\"\",\"\",VLOOKUP($D$4,記録シート１!$D$6:$CF$2007,7))","v":""},{"$f":"IF($D$4=\"\",\"\",VLOOKUP($D$4,記録シート１!$D$6:$CF$2007,7))","v":""},{"$f":"IF($D$4=\"\",\"\",VLOOKUP($D$4,記録シート１!$D$6:$CF$2007,7))","v":""}]
[null,null,null,"摂取・嚥下機能の実施",null,null,null,"把握された課題",null,null,"備考（テスト・観察前の課題）",null,null,{"$f":"CN50","v":"□"},"その他（以下に記述）",null,null,{"$f":"CQ50","v":"□"},{"$f":"モデルシート!$S$12","v":"経口維持加算Ⅱ"},null,null,null,null,null,null,null,null,null,null,{"$f":"AD61+1","v":18},null,null,null,{"$f":"AH61+1","v":22},{"$f":"モデルシート!$I$14","v":"咀嚼・口腔機能"},null,{"$f":"IF($D$4=\"\",\"\",VLOOKUP($D$4,記録シート１!$D$6:$CF$2007,7))","v":""},{"$f":"IF($D$4=\"\",\"\",VLOOKUP($D$4,記録シート１!$D$6:$CF$2007,7))","v":""},{"$f":"IF($D$4=\"\",\"\",VLOOKUP($D$4,記録シート１!$D$6:$CF$2007,7))","v":""},{"$f":"IF($D$4=\"\",\"\",VLOOKUP($D$4,記録シート１!$D$6:$CF$2007,7))","v":""},{"$f":"IF($D$4=\"\",\"\",VLOOKUP($D$4,記録シート１!$D$6:$CF$2007,7))","v":""},{"$f":"IF($D$4=\"\",\"\",VLOOKUP($D$4,記録シート１!$D$6:$CF$2007,7))","v":""},{"$f":"IF($D$4=\"\",\"\",VLOOKUP($D$4,記録シート１!$D$6:$CF$2007,7))","v":""},{"$f":"IF($D$4=\"\",\"\",VLOOKUP($D$4,記録シート１!$D$6:$CF$2007,7))","v":""},{"$f":"IF($D$4=\"\",\"\",VLOOKUP($D$4,記録シート１!$D$6:$CF$2007,7))","v":""},{"$f":"IF($D$4=\"\",\"\",VLOOKUP($D$4,記録シート１!$D$6:$CF$2007,7))","v":""},{"$f":"IF($D$4=\"\",\"\",VLOOKUP($D$4,記録シート１!$D$6:$CF$2007,7))","v":""}]
[null,null,null,{"$f":"CR50","v":"□"},{"$f":"モデルシート!$E$13","v":"水飲みテスト"},null,null,{"$f":"CV50","v":"□"},{"$f":"モデルシート!$I$13","v":"認知機能"},null,{"$f":"CY50","v":0},{"$f":"IF($D$4=\"\",\"\",VLOOKUP($D$4,記録シート１!$D$6:$CG$2007,AL111))","v":""},{"$f":"IF($D$4=\"\",\"\",VLOOKUP($D$4,記録シート１!$D$6:$CG$2007,AM111))","v":""},{"$f":"IF($D$4=\"\",\"\",VLOOKUP($D$4,記録シート１!$D$6:$CG$2007,AN111))","v":""},{"$f":"IF($D$4=\"\",\"\",VLOOKUP($D$4,記録シート１!$D$6:$CG$2007,AO111))","v":""},{"$f":"IF($D$4=\"\",\"\",VLOOKUP($D$4,記録シート１!$D$6:$CG$2007,AP111))","v":""},{"$f":"IF($D$4=\"\",\"\",VLOOKUP($D$4,記録シート１!$D$6:$CG$2007,AQ111))","v":""},{"$f":"IF($D$4=\"\",\"\",VLOOKUP($D$4,記録シート１!$D$6:$CG$2007,AR111))","v":""},{"$f":"IF($D$4=\"\",\"\",VLOOKUP($D$4,記録シート１!$D$6:$CG$2007,AS111))","v":""},{"$f":"IF($D$4=\"\",\"\",VLOOKUP($D$4,記録シート１!$D$6:$CG$2007,AT111))","v":""},{"$f":"IF($D$4=\"\",\"\",VLOOKUP($D$4,記録シート１!$D$6:$CG$2007,AU111))","v":""},null,null,null,null,null,null,null,null,{"$f":"AD62+1","v":19},null,{"$f":"AD63+1","v":20},null,{"$f":"AH62+1","v":23},{"$f":"モデルシート!$I$15","v":"嚥下機能"},null,{"$f":"IF($D$4=\"\",\"\",VLOOKUP($D$4,記録シート１!$D$6:$CF$2007,7))","v":""},{"$f":"IF($D$4=\"\",\"\",VLOOKUP($D$4,記録シート１!$D$6:$CF$2007,7))","v":""},{"$f":"IF($D$4=\"\",\"\",VLOOKUP($D$4,記録シート１!$D$6:$CF$2007,7))","v":""},{"$f":"IF($D$4=\"\",\"\",VLOOKUP($D$4,記録シート１!$D$6:$CF$2007,7))","v":""},{"$f":"IF($D$4=\"\",\"\",VLOOKUP($D$4,記録シート１!$D$6:$CF$2007,7))","v":""},{"$f":"IF($D$4=\"\",\"\",VLOOKUP($D$4,記録シート１!$D$6:$CF$2007,7))","v":""},{"$f":"IF($D$4=\"\",\"\",VLOOKUP($D$4,記録シート１!$D$6:$CF$2007,7))","v":""},{"$f":"IF($D$4=\"\",\"\",VLOOKUP($D$4,記録シート１!$D$6:$CF$2007,7))","v":""},{"$f":"IF($D$4=\"\",\"\",VLOOKUP($D$4,記録シート１!$D$6:$CF$2007,7))","v":""},{"$f":"IF($D$4=\"\",\"\",VLOOKUP($D$4,記録シート１!$D$6:$CF$2007,7))","v":""},{"$f":"IF($D$4=\"\",\"\",VLOOKUP($D$4,記録シート１!$D$6:$CF$2007,7))","v":""}]
[null,null,null,{"$f":"CS50","v":"■"},{"$f":"モデルシート!$E$14","v":"食事観察による確認"},null,null,{"$f":"CW50","v":"□"},{"$f":"モデルシート!$I$14","v":"咀嚼・口腔機能"},null,{"$f":"IF($D$4=\"\",\"\",VLOOKUP($D$4,記録シート１!$D$6:$CG$2007,AK112))","v":""},{"$f":"IF($D$4=\"\",\"\",VLOOKUP($D$4,記録シート１!$D$6:$CG$2007,AL112))","v":""},{"$f":"IF($D$4=\"\",\"\",VLOOKUP($D$4,記録シート１!$D$6:$CG$2007,AM112))","v":""},{"$f":"IF($D$4=\"\",\"\",VLOOKUP($D$4,記録シート１!$D$6:$CG$2007,AN112))","v":""},{"$f":"IF($D$4=\"\",\"\",VLOOKUP($D$4,記録シート１!$D$6:$CG$2007,AO112))","v":""},{"$f":"IF($D$4=\"\",\"\",VLOOKUP($D$4,記録シート１!$D$6:$CG$2007,AP112))","v":""},{"$f":"IF($D$4=\"\",\"\",VLOOKUP($D$4,記録シート１!$D$6:$CG$2007,AQ112))","v":""},{"$f":"IF($D$4=\"\",\"\",VLOOKUP($D$4,記録シート１!$D$6:$CG$2007,AR112))","v":""},{"$f":"IF($D$4=\"\",\"\",VLOOKUP($D$4,記録シート１!$D$6:$CG$2007,AS112))","v":""},{"$f":"IF($D$4=\"\",\"\",VLOOKUP($D$4,記録シート１!$D$6:$CG$2007,AT112))","v":""},{"$f":"IF($D$4=\"\",\"\",VLOOKUP($D$4,記録シート１!$D$6:$CG$2007,AU112))","v":""},null,null,null,null,null,null,null,null,"確認日",null,{"$f":"AK61+1","v":25},{"$f":"IF($D$4=\"\",\"\",VLOOKUP($D$4,記録シート１!$D$6:$CF$2007,7))","v":""},{"$f":"IF($D$4=\"\",\"\",VLOOKUP($D$4,記録シート１!$D$6:$CF$2007,7))","v":""},"協力医療機関",null,{"$f":"AF64+1","v":26},{"$f":"IF($D$4=\"\",\"\",VLOOKUP($D$4,記録シート１!$D$6:$CF$2007,7))","v":""},{"$f":"IF($D$4=\"\",\"\",VLOOKUP($D$4,記録シート１!$D$6:$CF$2007,7))","v":""},{"$f":"IF($D$4=\"\",\"\",VLOOKUP($D$4,記録シート１!$D$6:$CF$2007,7))","v":""},{"$f":"AK64+1","v":27},{"$f":"IF($D$4=\"\",\"\",VLOOKUP($D$4,記録シート１!$D$6:$CF$2007,7))","v":""},{"$f":"IF($D$4=\"\",\"\",VLOOKUP($D$4,記録シート１!$D$6:$CF$2007,7))","v":""},{"$f":"IF($D$4=\"\",\"\",VLOOKUP($D$4,記録シート１!$D$6:$CF$2007,7))","v":""},{"$f":"IF($D$4=\"\",\"\",VLOOKUP($D$4,記録シート１!$D$6:$CF$2007,7))","v":""},{"$f":"IF($D$4=\"\",\"\",VLOOKUP($D$4,記録シート１!$D$6:$CF$2007,7))","v":""},{"$f":"IF($D$4=\"\",\"\",VLOOKUP($D$4,記録シート１!$D$6:$CF$2007,7))","v":""}]
[null,null,null,{"$f":"CT50","v":"□"},"その他",{"$f":"CU50","v":0},null,{"$f":"CX50","v":"□"},{"$f":"モデルシート!$I$15","v":"嚥下機能"},null,{"$f":"IF($D$4=\"\",\"\",VLOOKUP($D$4,記録シート１!$D$6:$CG$2007,AK113))","v":""},{"$f":"IF($D$4=\"\",\"\",VLOOKUP($D$4,記録シート１!$D$6:$CG$2007,AL113))","v":""},{"$f":"IF($D$4=\"\",\"\",VLOOKUP($D$4,記録シート１!$D$6:$CG$2007,AM113))","v":""},{"$f":"IF($D$4=\"\",\"\",VLOOKUP($D$4,記録シート１!$D$6:$CG$2007,AN113))","v":""},{"$f":"IF($D$4=\"\",\"\",VLOOKUP($D$4,記録シート１!$D$6:$CG$2007,AO113))","v":""},{"$f":"IF($D$4=\"\",\"\",VLOOKUP($D$4,記録シート１!$D$6:$CG$2007,AP113))","v":""},{"$f":"IF($D$4=\"\",\"\",VLOOKUP($D$4,記録シート１!$D$6:$CG$2007,AQ113))","v":""},{"$f":"IF($D$4=\"\",\"\",VLOOKUP($D$4,記録シート１!$D$6:$CG$2007,AR113))","v":""},{"$f":"IF($D$4=\"\",\"\",VLOOKUP($D$4,記録シート１!$D$6:$CG$2007,AS113))","v":""},{"$f":"IF($D$4=\"\",\"\",VLOOKUP($D$4,記録シート１!$D$6:$CG$2007,AT113))","v":""},{"$f":"IF($D$4=\"\",\"\",VLOOKUP($D$4,記録シート１!$D$6:$CG$2007,AU113))","v":""}]
[null,null,null,"確認日",null,{"$f":"CZ50","v":"00:00:00"},{"$f":"IF($D$4=\"\",\"\",VLOOKUP($D$4,記録シート１!$D$6:$CG$2007,AG114))","v":""},{"$f":"IF($D$4=\"\",\"\",VLOOKUP($D$4,記録シート１!$D$6:$CG$2007,AH114))","v":""},"協力医療機関",null,{"$f":"DA50","v":"医療法人社団琢心会　辰巳病院"},{"$f":"IF($D$4=\"\",\"\",VLOOKUP($D$4,記録シート１!$D$6:$CG$2007,AL114))","v":""},{"$f":"IF($D$4=\"\",\"\",VLOOKUP($D$4,記録シート１!$D$6:$CG$2007,AM114))","v":""},{"$f":"IF($D$4=\"\",\"\",VLOOKUP($D$4,記録シート１!$D$6:$CG$2007,AN114))","v":""},{"$f":"DB50","v":"ここのえ歯科医院"},{"$f":"IF($D$4=\"\",\"\",VLOOKUP($D$4,記録シート１!$D$6:$CG$2007,AP114))","v":""},{"$f":"IF($D$4=\"\",\"\",VLOOKUP($D$4,記録シート１!$D$6:$CG$2007,AQ114))","v":""},{"$f":"IF($D$4=\"\",\"\",VLOOKUP($D$4,記録シート１!$D$6:$CG$2007,AR114))","v":""},{"$f":"IF($D$4=\"\",\"\",VLOOKUP($D$4,記録シート１!$D$6:$CG$2007,AS114))","v":""},{"$f":"IF($D$4=\"\",\"\",VLOOKUP($D$4,記録シート１!$D$6:$CG$2007,AT114))","v":""},{"$f":"IF($D$4=\"\",\"\",VLOOKUP($D$4,記録シート１!$D$6:$CG$2007,AU114))","v":""},null,null,null,null,null,null,null,null,null,null,null,null,null,null,{"$f":"AO64+1","v":28},{"$f":"IF($D$4=\"\",\"\",VLOOKUP($D$4,記録シート１!$D$6:$L$2007,7))","v":""},{"$f":"モデルシート!$L$18","v":"食事の環境"},{"$f":"AI70+1","v":38},{"$f":"IF($D$4=\"\",\"\",VLOOKUP($D$4,記録シート１!$D$6:$CF$2007,7))","v":""},{"$f":"IF($D$4=\"\",\"\",VLOOKUP($D$4,記録シート１!$D$6:$CF$2007,7))","v":""},{"$f":"IF($D$4=\"\",\"\",VLOOKUP($D$4,記録シート１!$D$6:$CF$2007,7))","v":""},{"$f":"IF($D$4=\"\",\"\",VLOOKUP($D$4,記録シート１!$D$6:$CF$2007,7))","v":""},{"$f":"IF($D$4=\"\",\"\",VLOOKUP($D$4,記録シート１!$D$6:$CF$2007,7))","v":""},{"$f":"IF($D$4=\"\",\"\",VLOOKUP($D$4,記録シート１!$D$6:$CF$2007,7))","v":""},{"$f":"IF($D$4=\"\",\"\",VLOOKUP($D$4,記録シート１!$D$6:$CF$2007,7))","v":""},{"$f":"IF($D$4=\"\",\"\",VLOOKUP($D$4,記録シート１!$D$6:$CF$2007,7))","v":""}]
[null,null,null,"２．食事観察と検討の実施",null,null,null,null,null,null,null,null,null,null,null,null,null,null,null,null,null,null,null,null,null,null,null,null,null,{"$f":"AJ66+1","v":29},null,null,null,{"$f":"AD70+1","v":33},null,null,null,{"$f":"モデルシート!$L$19","v":"食事の形態"},{"$f":"AM66+1","v":39},{"$f":"IF($D$4=\"\",\"\",VLOOKUP($D$4,記録シート１!$D$6:$CF$2007,7))","v":""},{"$f":"IF($D$4=\"\",\"\",VLOOKUP($D$4,記録シート１!$D$6:$CF$2007,7))","v":""},{"$f":"IF($D$4=\"\",\"\",VLOOKUP($D$4,記録シート１!$D$6:$CF$2007,7))","v":""},{"$f":"IF($D$4=\"\",\"\",VLOOKUP($D$4,記録シート１!$D$6:$CF$2007,7))","v":""},{"$f":"IF($D$4=\"\",\"\",VLOOKUP($D$4,記録シート１!$D$6:$CF$2007,7))","v":""},{"$f":"IF($D$4=\"\",\"\",VLOOKUP($D$4,記録シート１!$D$6:$CF$2007,7))","v":""},{"$f":"IF($D$4=\"\",\"\",VLOOKUP($D$4,記録シート１!$D$6:$CF$2007,7))","v":""},{"$f":"IF($D$4=\"\",\"\",VLOOKUP($D$4,記録シート１!$D$6:$CF$2007,7))","v":""}]
[null,null,null,"参加した職員等",null,null,null,"観察・検討した日",null,{"$f":"DC50","v":"00:00:00"},{"$f":"IF($D$4=\"\",\"\",VLOOKUP($D$4,記録シート１!$D$6:$L$2007,7))","v":""},{"$f":"モデルシート!$L$18","v":"食事の環境"},{"$f":"DM50","v":0},{"$f":"IF($D$4=\"\",\"\",VLOOKUP($D$4,記録シート１!$D$6:$CG$2007,AN116))","v":""},{"$f":"IF($D$4=\"\",\"\",VLOOKUP($D$4,記録シート１!$D$6:$CG$2007,AO116))","v":""},{"$f":"IF($D$4=\"\",\"\",VLOOKUP($D$4,記録シート１!$D$6:$CG$2007,AP116))","v":""},{"$f":"IF($D$4=\"\",\"\",VLOOKUP($D$4,記録シート１!$D$6:$CG$2007,AQ116))","v":""},{"$f":"IF($D$4=\"\",\"\",VLOOKUP($D$4,記録シート１!$D$6:$CG$2007,AR116))","v":""},{"$f":"IF($D$4=\"\",\"\",VLOOKUP($D$4,記録シート１!$D$6:$CG$2007,AS116))","v":""},{"$f":"IF($D$4=\"\",\"\",VLOOKUP($D$4,記録シート１!$D$6:$CG$2007,AT116))","v":""},{"$f":"IF($D$4=\"\",\"\",VLOOKUP($D$4,記録シート１!$D$6:$CG$2007,AU116))","v":""},null,null,null,null,null,null,null,null,{"$f":"AD67+1","v":30},null,null,null,{"$f":"AH67+1","v":34},null,null,null,{"$f":"モデルシート!$L$20","v":"摂取の方法"},{"$f":"AM67+1","v":40},{"$f":"IF($D$4=\"\",\"\",VLOOKUP($D$4,記録シート１!$D$6:$CF$2007,7))","v":""},{"$f":"IF($D$4=\"\",\"\",VLOOKUP($D$4,記録シート１!$D$6:$CF$2007,7))","v":""},{"$f":"IF($D$4=\"\",\"\",VLOOKUP($D$4,記録シート１!$D$6:$CF$2007,7))","v":""},{"$f":"IF($D$4=\"\",\"\",VLOOKUP($D$4,記録シート１!$D$6:$CF$2007,7))","v":""},{"$f":"IF($D$4=\"\",\"\",VLOOKUP($D$4,記録シート１!$D$6:$CF$2007,7))","v":""},{"$f":"IF($D$4=\"\",\"\",VLOOKUP($D$4,記録シート１!$D$6:$CF$2007,7))","v":""},{"$f":"IF($D$4=\"\",\"\",VLOOKUP($D$4,記録シート１!$D$6:$CF$2007,7))","v":""},{"$f":"IF($D$4=\"\",\"\",VLOOKUP($D$4,記録シート１!$D$6:$CF$2007,7))","v":""}]
[null,null,null,{"$f":"DD50","v":"□"},{"$f":"モデルシート!$E$19","v":"医師・歯科医師"},null,null,{"$f":"DH50","v":"■"},{"$f":"モデルシート!$I$19","v":"管理栄養士"},null,null,{"$f":"モデルシート!$L$19","v":"食事の形態"},{"$f":"DN50","v":0},{"$f":"IF($D$4=\"\",\"\",VLOOKUP($D$4,記録シート１!$D$6:$CG$2007,AN117))","v":""},{"$f":"IF($D$4=\"\",\"\",VLOOKUP($D$4,記録シート１!$D$6:$CG$2007,AO117))","v":""},{"$f":"IF($D$4=\"\",\"\",VLOOKUP($D$4,記録シート１!$D$6:$CG$2007,AP117))","v":""},{"$f":"IF($D$4=\"\",\"\",VLOOKUP($D$4,記録シート１!$D$6:$CG$2007,AQ117))","v":""},{"$f":"IF($D$4=\"\",\"\",VLOOKUP($D$4,記録シート１!$D$6:$CG$2007,AR117))","v":""},{"$f":"IF($D$4=\"\",\"\",VLOOKUP($D$4,記録シート１!$D$6:$CG$2007,AS117))","v":""},{"$f":"IF($D$4=\"\",\"\",VLOOKUP($D$4,記録シート１!$D$6:$CG$2007,AT117))","v":""},{"$f":"IF($D$4=\"\",\"\",VLOOKUP($D$4,記録シート１!$D$6:$CG$2007,AU117))","v":""},null,null,null,null,null,null,null,null,{"$f":"AD68+1","v":31},null,null,null,{"$f":"AH68+1","v":35},null,null,null,{"$f":"モデルシート!$L$21","v":"療養食など"},41,{"$f":"IF($D$4=\"\",\"\",VLOOKUP($D$4,記録シート１!$D$6:$CF$2007,7))","v":""},{"$f":"IF($D$4=\"\",\"\",VLOOKUP($D$4,記録シート１!$D$6:$CF$2007,7))","v":""},{"$f":"IF($D$4=\"\",\"\",VLOOKUP($D$4,記録シート１!$D$6:$CF$2007,7))","v":""},{"$f":"IF($D$4=\"\",\"\",VLOOKUP($D$4,記録シート１!$D$6:$CF$2007,7))","v":""},{"$f":"IF($D$4=\"\",\"\",VLOOKUP($D$4,記録シート１!$D$6:$CF$2007,7))","v":""},{"$f":"IF($D$4=\"\",\"\",VLOOKUP($D$4,記録シート１!$D$6:$CF$2007,7))","v":""},{"$f":"IF($D$4=\"\",\"\",VLOOKUP($D$4,記録シート１!$D$6:$CF$2007,7))","v":""},{"$f":"IF($D$4=\"\",\"\",VLOOKUP($D$4,記録シート１!$D$6:$CF$2007,7))","v":""}]
[null,null,null,{"$f":"DE50","v":"■"},{"$f":"モデルシート!$E$20","v":"介護支援専門員"},null,null,{"$f":"DI50","v":"■"},{"$f":"モデルシート!$I$20","v":"担当介護職員"},null,null,{"$f":"モデルシート!$L$20","v":"摂取の方法"},{"$f":"DO50","v":0},{"$f":"IF($D$4=\"\",\"\",VLOOKUP($D$4,記録シート１!$D$6:$CG$2007,AN118))","v":""},{"$f":"IF($D$4=\"\",\"\",VLOOKUP($D$4,記録シート１!$D$6:$CG$2007,AO118))","v":""},{"$f":"IF($D$4=\"\",\"\",VLOOKUP($D$4,記録シート１!$D$6:$CG$2007,AP118))","v":""},{"$f":"IF($D$4=\"\",\"\",VLOOKUP($D$4,記録シート１!$D$6:$CG$2007,AQ118))","v":""},{"$f":"IF($D$4=\"\",\"\",VLOOKUP($D$4,記録シート１!$D$6:$CG$2007,AR118))","v":""},{"$f":"IF($D$4=\"\",\"\",VLOOKUP($D$4,記録シート１!$D$6:$CG$2007,AS118))","v":""},{"$f":"IF($D$4=\"\",\"\",VLOOKUP($D$4,記録シート１!$D$6:$CG$2007,AT118))","v":""},{"$f":"IF($D$4=\"\",\"\",VLOOKUP($D$4,記録シート１!$D$6:$CG$2007,AU118))","v":""},null,null,null,null,null,null,null,null,32,null,null,null,36,{"$f":"AH70+1","v":37},{"$f":"IF($D$4=\"\",\"\",VLOOKUP($D$4,記録シート１!$D$6:$CF$2007,7))","v":""},{"$f":"IF($D$4=\"\",\"\",VLOOKUP($D$4,記録シート１!$D$6:$CF$2007,7))","v":""},{"$f":"モデルシート!$L$22","v":"持病・治療"},42,{"$f":"IF($D$4=\"\",\"\",VLOOKUP($D$4,記録シート１!$D$6:$CF$2007,7))","v":""},{"$f":"IF($D$4=\"\",\"\",VLOOKUP($D$4,記録シート１!$D$6:$CF$2007,7))","v":""},{"$f":"IF($D$4=\"\",\"\",VLOOKUP($D$4,記録シート１!$D$6:$CF$2007,7))","v":""},{"$f":"IF($D$4=\"\",\"\",VLOOKUP($D$4,記録シート１!$D$6:$CF$2007,7))","v":""},{"$f":"IF($D$4=\"\",\"\",VLOOKUP($D$4,記録シート１!$D$6:$CF$2007,7))","v":""},{"$f":"IF($D$4=\"\",\"\",VLOOKUP($D$4,記録シート１!$D$6:$CF$2007,7))","v":""},{"$f":"IF($D$4=\"\",\"\",VLOOKUP($D$4,記録シート１!$D$6:$CF$2007,7))","v":""},{"$f":"IF($D$4=\"\",\"\",VLOOKUP($D$4,記録シート１!$D$6:$CF$2007,7))","v":""}]
[null,null,null,{"$f":"DF50","v":"■"},{"$f":"モデルシート!$E$21","v":"看護職員"},null,null,{"$f":"DJ50","v":"□"},{"$f":"モデルシート!$I$21","v":"ご家族"},null,null,{"$f":"モデルシート!$L$21","v":"療養食など"},{"$f":"DP50","v":0},{"$f":"IF($D$4=\"\",\"\",VLOOKUP($D$4,記録シート１!$D$6:$CG$2007,AN119))","v":""},{"$f":"IF($D$4=\"\",\"\",VLOOKUP($D$4,記録シート１!$D$6:$CG$2007,AO119))","v":""},{"$f":"IF($D$4=\"\",\"\",VLOOKUP($D$4,記録シート１!$D$6:$CG$2007,AP119))","v":""},{"$f":"IF($D$4=\"\",\"\",VLOOKUP($D$4,記録シート１!$D$6:$CG$2007,AQ119))","v":""},{"$f":"IF($D$4=\"\",\"\",VLOOKUP($D$4,記録シート１!$D$6:$CG$2007,AR119))","v":""},{"$f":"IF($D$4=\"\",\"\",VLOOKUP($D$4,記録シート１!$D$6:$CG$2007,AS119))","v":""},{"$f":"IF($D$4=\"\",\"\",VLOOKUP($D$4,記録シート１!$D$6:$CG$2007,AT119))","v":""},{"$f":"IF($D$4=\"\",\"\",VLOOKUP($D$4,記録シート１!$D$6:$CG$2007,AU119))","v":""}]
[null,null,null,{"$f":"DG50","v":"■"},{"$f":"モデルシート!E22","v":"施設長"},null,"その他",{"$f":"DK50","v":"□"},{"$f":"DL50","v":0},{"$f":"IF($D$4=\"\",\"\",VLOOKUP($D$4,記録シート１!$D$6:$CG$2007,AJ120))","v":""},{"$f":"IF($D$4=\"\",\"\",VLOOKUP($D$4,記録シート１!$D$6:$CG$2007,AK120))","v":""},{"$f":"モデルシート!$L$22","v":"持病・治療"},{"$f":"DQ50","v":0},{"$f":"IF($D$4=\"\",\"\",VLOOKUP($D$4,記録シート１!$D$6:$CG$2007,AN120))","v":""},{"$f":"IF($D$4=\"\",\"\",VLOOKUP($D$4,記録シート１!$D$6:$CG$2007,AO120))","v":""},{"$f":"IF($D$4=\"\",\"\",VLOOKUP($D$4,記録シート１!$D$6:$CG$2007,AP120))","v":""},{"$f":"IF($D$4=\"\",\"\",VLOOKUP($D$4,記録シート１!$D$6:$CG$2007,AQ120))","v":""},{"$f":"IF($D$4=\"\",\"\",VLOOKUP($D$4,記録シート１!$D$6:$CG$2007,AR120))","v":""},{"$f":"IF($D$4=\"\",\"\",VLOOKUP($D$4,記録シート１!$D$6:$CG$2007,AS120))","v":""},{"$f":"IF($D$4=\"\",\"\",VLOOKUP($D$4,記録シート１!$D$6:$CG$2007,AT120))","v":""},{"$f":"IF($D$4=\"\",\"\",VLOOKUP($D$4,記録シート１!$D$6:$CG$2007,AU120))","v":""},null,null,null,null,null,null,null,null,{"$f":"AM70+1","v":43}]
[null,null,null,"３．経口による継続的な食事摂取のための支援の観点",null,null,null,null,null,null,null,null,null,null,"４．観察結果の検討",null,null,null,null,null,null,null,null,null,null,null,null,null,null,{"$f":"AD72+1","v":44},null,null,null,null,null,null,null,null,null,null,{"$f":"AF91+1","v":64},{"$f":"IF($D$4=\"\",\"\",VLOOKUP($D$4,記録シート１!$D$6:$CF$2007,7))","v":""},{"$f":"AO73+1","v":65},{"$f":"IF($D$4=\"\",\"\",VLOOKUP($D$4,記録シート１!$D$6:$CF$2007,7))","v":""},{"$f":"IF($D$4=\"\",\"\",VLOOKUP($D$4,記録シート１!$D$6:$CF$2007,7))","v":""},{"$f":"IF($D$4=\"\",\"\",VLOOKUP($D$4,記録シート１!$D$6:$CF$2007,7))","v":""},{"$f":"IF($D$4=\"\",\"\",VLOOKUP($D$4,記録シート１!$D$6:$CF$2007,7))","v":""}]
[null,null,null,{"$f":"DR50","v":0},{"$f":"モデルシート!$E$24","v":"上半身が左右や前後に傾く傾向があり、座位の保持が困難である。"},null,null,null,null,null,null,null,null,null,{"$f":"モデルシート!$O$24","v":"食事形態の変化の必要性"},null,null,null,null,null,null,null,null,null,null,null,null,null,null,{"$f":"AD73+1","v":45},null,null,null,null,null,null,null,null,null,null,{"$f":"IF($D$4=\"\",\"\",VLOOKUP($D$4,記録シート１!$D$6:$CF$2007,7))","v":""},{"$f":"IF($D$4=\"\",\"\",VLOOKUP($D$4,記録シート１!$D$6:$CF$2007,7))","v":""},{"$f":"IF($D$4=\"\",\"\",VLOOKUP($D$4,記録シート１!$D$6:$CF$2007,7))","v":""},{"$f":"IF($D$4=\"\",\"\",VLOOKUP($D$4,記録シート１!$D$6:$CF$2007,7))","v":""},{"$f":"IF($D$4=\"\",\"\",VLOOKUP($D$4,記録シート１!$D$6:$CF$2007,7))","v":""},{"$f":"IF($D$4=\"\",\"\",VLOOKUP($D$4,記録シート１!$D$6:$CF$2007,7))","v":""},{"$f":"IF($D$4=\"\",\"\",VLOOKUP($D$4,記録シート１!$D$6:$CF$2007,7))","v":""}]
[null,null,null,{"$f":"DS50","v":0},{"$f":"モデルシート!$E$25","v":"頸部が後屈しがちである。"},null,null,null,null,null,null,null,null,null,{"$f":"EM50","v":"現状継続"},{"$f":"IF($D$4=\"\",\"\",VLOOKUP($D$4,記録シート１!$D$6:$CG$2007,AP123))","v":""},{"$f":"EN50","v":0},{"$f":"IF($D$4=\"\",\"\",VLOOKUP($D$4,記録シート１!$D$6:$CG$2007,AR123))","v":""},{"$f":"IF($D$4=\"\",\"\",VLOOKUP($D$4,記録シート１!$D$6:$CG$2007,AS123))","v":""},{"$f":"IF($D$4=\"\",\"\",VLOOKUP($D$4,記録シート１!$D$6:$CG$2007,AT123))","v":""},{"$f":"IF($D$4=\"\",\"\",VLOOKUP($D$4,記録シート１!$D$6:$CG$2007,AU123))","v":""},null,null,null,null,null,null,null,null,46]
[null,null,null,{"$f":"DT50","v":0},{"$f":"モデルシート!$E$26","v":"脳血管疾患等による麻痺症状がある。"},null,null,null,null,null,null,null,null,null,{"$f":"IF($D$4=\"\",\"\",VLOOKUP($D$4,記録シート１!$D$6:$CG$2007,AO124))","v":""},{"$f":"IF($D$4=\"\",\"\",VLOOKUP($D$4,記録シート１!$D$6:$CG$2007,AP124))","v":""},{"$f":"IF($D$4=\"\",\"\",VLOOKUP($D$4,記録シート１!$D$6:$CG$2007,AQ124))","v":""},{"$f":"IF($D$4=\"\",\"\",VLOOKUP($D$4,記録シート１!$D$6:$CG$2007,AR124))","v":""},{"$f":"IF($D$4=\"\",\"\",VLOOKUP($D$4,記録シート１!$D$6:$CG$2007,AS124))","v":""},{"$f":"IF($D$4=\"\",\"\",VLOOKUP($D$4,記録シート１!$D$6:$CG$2007,AT124))","v":""},{"$f":"IF($D$4=\"\",\"\",VLOOKUP($D$4,記録シート１!$D$6:$CG$2007,AU124))","v":""},null,null,null,null,null,null,null,null,47,null,null,null,null,null,null,null,null,null,null,{"$f":"AQ73+1","v":66},{"$f":"IF($D$4=\"\",\"\",VLOOKUP($D$4,記録シート１!$D$6:$CF$2007,7))","v":""},{"$f":"AO76+1","v":67},{"$f":"IF($D$4=\"\",\"\",VLOOKUP($D$4,記録シート１!$D$6:$CF$2007,7))","v":""},{"$f":"IF($D$4=\"\",\"\",VLOOKUP($D$4,記録シート１!$D$6:$CF$2007,7))","v":""},{"$f":"IF($D$4=\"\",\"\",VLOOKUP($D$4,記録シート１!$D$6:$CF$2007,7))","v":""},{"$f":"IF($D$4=\"\",\"\",VLOOKUP($D$4,記録シート１!$D$6:$CF$2007,7))","v":""}]
[null,null,null,{"$f":"DU50","v":0},{"$f":"モデルシート!$E$27","v":"認知症により、食事に対する認知能力に問題がある。"},null,null,null,null,null,null,null,null,null,{"$f":"モデルシート!$O$27","v":"補助食の必要性"},null,null,null,null,null,null,null,null,null,null,null,null,null,null,48,null,null,null,null,null,null,null,null,null,null,{"$f":"IF($D$4=\"\",\"\",VLOOKUP($D$4,記録シート１!$D$6:$CF$2007,7))","v":""},{"$f":"IF($D$4=\"\",\"\",VLOOKUP($D$4,記録シート１!$D$6:$CF$2007,7))","v":""},{"$f":"IF($D$4=\"\",\"\",VLOOKUP($D$4,記録シート１!$D$6:$CF$2007,7))","v":""},{"$f":"IF($D$4=\"\",\"\",VLOOKUP($D$4,記録シート１!$D$6:$CF$2007,7))","v":""},{"$f":"IF($D$4=\"\",\"\",VLOOKUP($D$4,記録シート１!$D$6:$CF$2007,7))","v":""},{"$f":"IF($D$4=\"\",\"\",VLOOKUP($D$4,記録シート１!$D$6:$CF$2007,7))","v":""},{"$f":"IF($D$4=\"\",\"\",VLOOKUP($D$4,記録シート１!$D$6:$CF$2007,7))","v":""}]
[null,null,null,{"$f":"DV50","v":0},{"$f":"モデルシート!$E$28","v":"失明・空間失認などにより、食事位置などが判らない。"},null,null,null,null,null,null,null,null,null,{"$f":"EO50","v":"現状継続"},{"$f":"IF($D$4=\"\",\"\",VLOOKUP($D$4,記録シート１!$D$6:$CG$2007,AP126))","v":""},{"$f":"EP50","v":0},{"$f":"IF($D$4=\"\",\"\",VLOOKUP($D$4,記録シート１!$D$6:$CG$2007,AR126))","v":""},{"$f":"IF($D$4=\"\",\"\",VLOOKUP($D$4,記録シート１!$D$6:$CG$2007,AS126))","v":""},{"$f":"IF($D$4=\"\",\"\",VLOOKUP($D$4,記録シート１!$D$6:$CG$2007,AT126))","v":""},{"$f":"IF($D$4=\"\",\"\",VLOOKUP($D$4,記録シート１!$D$6:$CG$2007,AU126))","v":""},null,null,null,null,null,null,null,null,49]
[null,null,null,{"$f":"DW50","v":0},{"$f":"モデルシート!$E$29","v":"食べ始められない。食事を頻繁に中断してしまう。食事に集中できない。"},null,null,null,null,null,null,null,null,null,{"$f":"IF($D$4=\"\",\"\",VLOOKUP($D$4,記録シート１!$D$6:$CG$2007,AO127))","v":""},{"$f":"IF($D$4=\"\",\"\",VLOOKUP($D$4,記録シート１!$D$6:$CG$2007,AP127))","v":""},{"$f":"IF($D$4=\"\",\"\",VLOOKUP($D$4,記録シート１!$D$6:$CG$2007,AQ127))","v":""},{"$f":"IF($D$4=\"\",\"\",VLOOKUP($D$4,記録シート１!$D$6:$CG$2007,AR127))","v":""},{"$f":"IF($D$4=\"\",\"\",VLOOKUP($D$4,記録シート１!$D$6:$CG$2007,AS127))","v":""},{"$f":"IF($D$4=\"\",\"\",VLOOKUP($D$4,記録シート１!$D$6:$CG$2007,AT127))","v":""},{"$f":"IF($D$4=\"\",\"\",VLOOKUP($D$4,記録シート１!$D$6:$CG$2007,AU127))","v":""},null,null,null,null,null,null,null,null,50,null,null,null,null,null,null,null,null,null,null,{"$f":"AQ76+1","v":68},{"$f":"IF($D$4=\"\",\"\",VLOOKUP($D$4,記録シート１!$D$6:$CF$2007,7))","v":""},{"$f":"AO79+1","v":69},{"$f":"IF($D$4=\"\",\"\",VLOOKUP($D$4,記録シート１!$D$6:$CF$2007,7))","v":""},{"$f":"IF($D$4=\"\",\"\",VLOOKUP($D$4,記録シート１!$D$6:$CF$2007,7))","v":""},{"$f":"IF($D$4=\"\",\"\",VLOOKUP($D$4,記録シート１!$D$6:$CF$2007,7))","v":""},{"$f":"IF($D$4=\"\",\"\",VLOOKUP($D$4,記録シート１!$D$6:$CF$2007,7))","v":""}]
[null,null,null,{"$f":"DX50","v":0},{"$f":"モデルシート!$E$30","v":"食事そのものまたはその介助を拒否することがある。"},null,null,null,null,null,null,null,null,null,{"$f":"モデルシート!$O$30","v":"食事介助方法"},null,null,null,null,null,null,null,null,null,null,null,null,null,null,51,null,null,null,null,null,null,null,null,null,null,{"$f":"IF($D$4=\"\",\"\",VLOOKUP($D$4,記録シート１!$D$6:$CF$2007,7))","v":""},{"$f":"IF($D$4=\"\",\"\",VLOOKUP($D$4,記録シート１!$D$6:$CF$2007,7))","v":""},{"$f":"IF($D$4=\"\",\"\",VLOOKUP($D$4,記録シート１!$D$6:$CF$2007,7))","v":""},{"$f":"IF($D$4=\"\",\"\",VLOOKUP($D$4,記録シート１!$D$6:$CF$2007,7))","v":""},{"$f":"IF($D$4=\"\",\"\",VLOOKUP($D$4,記録シート１!$D$6:$CF$2007,7))","v":""},{"$f":"IF($D$4=\"\",\"\",VLOOKUP($D$4,記録シート１!$D$6:$CF$2007,7))","v":""},{"$f":"IF($D$4=\"\",\"\",VLOOKUP($D$4,記録シート１!$D$6:$CF$2007,7))","v":""}]
[null,null,null,{"$f":"DY50","v":0},{"$f":"モデルシート!$E$31","v":"食事に時間がかかり疲労してしまう。食事中に寝てしまう。"},null,null,null,null,null,null,null,null,null,{"$f":"EQ50","v":"現状継続"},{"$f":"IF($D$4=\"\",\"\",VLOOKUP($D$4,記録シート１!$D$6:$CG$2007,AP129))","v":""},{"$f":"ER50","v":0},{"$f":"IF($D$4=\"\",\"\",VLOOKUP($D$4,記録シート１!$D$6:$CG$2007,AR129))","v":""},{"$f":"IF($D$4=\"\",\"\",VLOOKUP($D$4,記録シート１!$D$6:$CG$2007,AS129))","v":""},{"$f":"IF($D$4=\"\",\"\",VLOOKUP($D$4,記録シート１!$D$6:$CG$2007,AT129))","v":""},{"$f":"IF($D$4=\"\",\"\",VLOOKUP($D$4,記録シート１!$D$6:$CG$2007,AU129))","v":""},null,null,null,null,null,null,null,null,52]
[null,null,null,{"$f":"DZ50","v":0},{"$f":"モデルシート!$E$32","v":"次から次へと食事を口に運び、口腔内がいっぱいになってしまう。"},null,null,null,null,null,null,null,null,null,{"$f":"IF($D$4=\"\",\"\",VLOOKUP($D$4,記録シート１!$D$6:$CG$2007,AO130))","v":""},{"$f":"IF($D$4=\"\",\"\",VLOOKUP($D$4,記録シート１!$D$6:$CG$2007,AP130))","v":""},{"$f":"IF($D$4=\"\",\"\",VLOOKUP($D$4,記録シート１!$D$6:$CG$2007,AQ130))","v":""},{"$f":"IF($D$4=\"\",\"\",VLOOKUP($D$4,記録シート１!$D$6:$CG$2007,AR130))","v":""},{"$f":"IF($D$4=\"\",\"\",VLOOKUP($D$4,記録シート１!$D$6:$CG$2007,AS130))","v":""},{"$f":"IF($D$4=\"\",\"\",VLOOKUP($D$4,記録シート１!$D$6:$CG$2007,AT130))","v":""},{"$f":"IF($D$4=\"\",\"\",VLOOKUP($D$4,記録シート１!$D$6:$CG$2007,AU130))","v":""},null,null,null,null,null,null,null,null,53,null,null,null,null,null,null,null,null,null,null,{"$f":"AQ79+1","v":70},{"$f":"IF($D$4=\"\",\"\",VLOOKUP($D$4,記録シート１!$D$6:$CF$2007,7))","v":""},{"$f":"AO82+1","v":71},{"$f":"IF($D$4=\"\",\"\",VLOOKUP($D$4,記録シート１!$D$6:$CF$2007,7))","v":""},{"$f":"IF($D$4=\"\",\"\",VLOOKUP($D$4,記録シート１!$D$6:$CF$2007,7))","v":""},{"$f":"IF($D$4=\"\",\"\",VLOOKUP($D$4,記録シート１!$D$6:$CF$2007,7))","v":""},{"$f":"IF($D$4=\"\",\"\",VLOOKUP($D$4,記録シート１!$D$6:$CF$2007,7))","v":""}]
[null,null,null,{"$f":"EA50","v":0},{"$f":"モデルシート!$E$33","v":"口腔内が乾燥している。口腔内の衛生状態が悪い。"},null,null,null,null,null,null,null,null,null,{"$f":"モデルシート!$O$33","v":"口腔ケアの方法"},null,null,null,null,null,null,null,null,null,null,null,null,null,null,54,null,null,null,null,null,null,null,null,null,null,{"$f":"IF($D$4=\"\",\"\",VLOOKUP($D$4,記録シート１!$D$6:$CF$2007,7))","v":""},{"$f":"IF($D$4=\"\",\"\",VLOOKUP($D$4,記録シート１!$D$6:$CF$2007,7))","v":""},{"$f":"IF($D$4=\"\",\"\",VLOOKUP($D$4,記録シート１!$D$6:$CF$2007,7))","v":""},{"$f":"IF($D$4=\"\",\"\",VLOOKUP($D$4,記録シート１!$D$6:$CF$2007,7))","v":""},{"$f":"IF($D$4=\"\",\"\",VLOOKUP($D$4,記録シート１!$D$6:$CF$2007,7))","v":""},{"$f":"IF($D$4=\"\",\"\",VLOOKUP($D$4,記録シート１!$D$6:$CF$2007,7))","v":""},{"$f":"IF($D$4=\"\",\"\",VLOOKUP($D$4,記録シート１!$D$6:$CF$2007,7))","v":""}]
[null,null,null,{"$f":"EB50","v":0},{"$f":"モデルシート!$E$34","v":"咀嚼能力に問題がある。"},null,null,null,null,null,null,null,null,null,{"$f":"ES50","v":"現状継続"},{"$f":"IF($D$4=\"\",\"\",VLOOKUP($D$4,記録シート１!$D$6:$CG$2007,AP132))","v":""},{"$f":"ET50","v":0},{"$f":"IF($D$4=\"\",\"\",VLOOKUP($D$4,記録シート１!$D$6:$CG$2007,AR132))","v":""},{"$f":"IF($D$4=\"\",\"\",VLOOKUP($D$4,記録シート１!$D$6:$CG$2007,AS132))","v":""},{"$f":"IF($D$4=\"\",\"\",VLOOKUP($D$4,記録シート１!$D$6:$CG$2007,AT132))","v":""},{"$f":"IF($D$4=\"\",\"\",VLOOKUP($D$4,記録シート１!$D$6:$CG$2007,AU132))","v":""},null,null,null,null,null,null,null,null,55]
[null,null,null,{"$f":"EC50","v":0},{"$f":"モデルシート!$E$35","v":"自歯・義歯に問題がある。"},null,null,null,null,null,null,null,null,null,{"$f":"IF($D$4=\"\",\"\",VLOOKUP($D$4,記録シート１!$D$6:$CG$2007,AO133))","v":""},{"$f":"IF($D$4=\"\",\"\",VLOOKUP($D$4,記録シート１!$D$6:$CG$2007,AP133))","v":""},{"$f":"IF($D$4=\"\",\"\",VLOOKUP($D$4,記録シート１!$D$6:$CG$2007,AQ133))","v":""},{"$f":"IF($D$4=\"\",\"\",VLOOKUP($D$4,記録シート１!$D$6:$CG$2007,AR133))","v":""},{"$f":"IF($D$4=\"\",\"\",VLOOKUP($D$4,記録シート１!$D$6:$CG$2007,AS133))","v":""},{"$f":"IF($D$4=\"\",\"\",VLOOKUP($D$4,記録シート１!$D$6:$CG$2007,AT133))","v":""},{"$f":"IF($D$4=\"\",\"\",VLOOKUP($D$4,記録シート１!$D$6:$CG$2007,AU133))","v":""},null,null,null,null,null,null,null,null,56,null,null,null,null,null,null,null,null,null,null,{"$f":"AQ82+1","v":72},{"$f":"IF($D$4=\"\",\"\",VLOOKUP($D$4,記録シート１!$D$6:$CF$2007,7))","v":""},{"$f":"AO85+1","v":73},{"$f":"IF($D$4=\"\",\"\",VLOOKUP($D$4,記録シート１!$D$6:$CF$2007,7))","v":""},{"$f":"IF($D$4=\"\",\"\",VLOOKUP($D$4,記録シート１!$D$6:$CF$2007,7))","v":""},{"$f":"IF($D$4=\"\",\"\",VLOOKUP($D$4,記録シート１!$D$6:$CF$2007,7))","v":""},{"$f":"IF($D$4=\"\",\"\",VLOOKUP($D$4,記録シート１!$D$6:$CF$2007,7))","v":""}]
[null,null,null,{"$f":"ED50","v":0},{"$f":"モデルシート!$E$36","v":"口から食物や唾液がこぼれる。"},null,null,null,null,null,null,null,null,null,{"$f":"モデルシート!$O$36","v":"医療または歯科受診の必要性"},null,null,null,null,null,null,null,null,null,null,null,null,null,null,57,null,null,null,null,null,null,null,null,null,null,{"$f":"IF($D$4=\"\",\"\",VLOOKUP($D$4,記録シート１!$D$6:$CF$2007,7))","v":""},{"$f":"IF($D$4=\"\",\"\",VLOOKUP($D$4,記録シート１!$D$6:$CF$2007,7))","v":""},{"$f":"IF($D$4=\"\",\"\",VLOOKUP($D$4,記録シート１!$D$6:$CF$2007,7))","v":""},{"$f":"IF($D$4=\"\",\"\",VLOOKUP($D$4,記録シート１!$D$6:$CF$2007,7))","v":""},{"$f":"IF($D$4=\"\",\"\",VLOOKUP($D$4,記録シート１!$D$6:$CF$2007,7))","v":""},{"$f":"IF($D$4=\"\",\"\",VLOOKUP($D$4,記録シート１!$D$6:$CF$2007,7))","v":""},{"$f":"IF($D$4=\"\",\"\",VLOOKUP($D$4,記録シート１!$D$6:$CF$2007,7))","v":""}]
[null,null,null,{"$f":"EE50","v":0},{"$f":"モデルシート!$E$37","v":"口腔内に食物残滓が目立つ。"},null,null,null,null,null,null,null,null,null,{"$f":"EU50","v":"現状継続"},{"$f":"IF($D$4=\"\",\"\",VLOOKUP($D$4,記録シート１!$D$6:$CG$2007,AP135))","v":""},{"$f":"EV50","v":0},{"$f":"IF($D$4=\"\",\"\",VLOOKUP($D$4,記録シート１!$D$6:$CG$2007,AR135))","v":""},{"$f":"IF($D$4=\"\",\"\",VLOOKUP($D$4,記録シート１!$D$6:$CG$2007,AS135))","v":""},{"$f":"IF($D$4=\"\",\"\",VLOOKUP($D$4,記録シート１!$D$6:$CG$2007,AT135))","v":""},{"$f":"IF($D$4=\"\",\"\",VLOOKUP($D$4,記録シート１!$D$6:$CG$2007,AU135))","v":""},null,null,null,null,null,null,null,null,58]
[null,null,null,{"$f":"EF50","v":0},{"$f":"モデルシート!$E$38","v":"食物がなかなか呑み込めず、嚥下に時間がかかる。"},null,null,null,null,null,null,null,null,null,{"$f":"IF($D$4=\"\",\"\",VLOOKUP($D$4,記録シート１!$D$6:$CG$2007,AO136))","v":""},{"$f":"IF($D$4=\"\",\"\",VLOOKUP($D$4,記録シート１!$D$6:$CG$2007,AP136))","v":""},{"$f":"IF($D$4=\"\",\"\",VLOOKUP($D$4,記録シート１!$D$6:$CG$2007,AQ136))","v":""},{"$f":"IF($D$4=\"\",\"\",VLOOKUP($D$4,記録シート１!$D$6:$CG$2007,AR136))","v":""},{"$f":"IF($D$4=\"\",\"\",VLOOKUP($D$4,記録シート１!$D$6:$CG$2007,AS136))","v":""},{"$f":"IF($D$4=\"\",\"\",VLOOKUP($D$4,記録シート１!$D$6:$CG$2007,AT136))","v":""},{"$f":"IF($D$4=\"\",\"\",VLOOKUP($D$4,記録シート１!$D$6:$CG$2007,AU136))","v":""},null,null,null,null,null,null,null,null,59,null,null,null,null,null,null,null,null,null,null,{"$f":"AQ85+1","v":74},{"$f":"IF($D$4=\"\",\"\",VLOOKUP($D$4,記録シート１!$D$6:$CF$2007,7))","v":""},{"$f":"AO88+1","v":75},{"$f":"IF($D$4=\"\",\"\",VLOOKUP($D$4,記録シート１!$D$6:$CF$2007,7))","v":""},{"$f":"IF($D$4=\"\",\"\",VLOOKUP($D$4,記録シート１!$D$6:$CF$2007,7))","v":""},{"$f":"IF($D$4=\"\",\"\",VLOOKUP($D$4,記録シート１!$D$6:$CF$2007,7))","v":""},{"$f":"IF($D$4=\"\",\"\",VLOOKUP($D$4,記録シート１!$D$6:$CF$2007,7))","v":""}]
[null,null,null,{"$f":"EG50","v":0},{"$f":"モデルシート!$E$39","v":"食事中や食後に濁った声や呼吸音になる。"},null,null,null,null,null,null,null,null,null,{"$f":"モデルシート!$O$39","v":"食事環境の変更の必要性"},null,null,null,null,null,null,null,null,null,null,null,null,null,null,60,null,null,null,null,null,null,null,null,null,null,{"$f":"IF($D$4=\"\",\"\",VLOOKUP($D$4,記録シート１!$D$6:$CF$2007,7))","v":""},{"$f":"IF($D$4=\"\",\"\",VLOOKUP($D$4,記録シート１!$D$6:$CF$2007,7))","v":""},{"$f":"IF($D$4=\"\",\"\",VLOOKUP($D$4,記録シート１!$D$6:$CF$2007,7))","v":""},{"$f":"IF($D$4=\"\",\"\",VLOOKUP($D$4,記録シート１!$D$6:$CF$2007,7))","v":""},{"$f":"IF($D$4=\"\",\"\",VLOOKUP($D$4,記録シート１!$D$6:$CF$2007,7))","v":""},{"$f":"IF($D$4=\"\",\"\",VLOOKUP($D$4,記録シート１!$D$6:$CF$2007,7))","v":""},{"$f":"IF($D$4=\"\",\"\",VLOOKUP($D$4,記録シート１!$D$6:$CF$2007,7))","v":""}]
[null,null,null,{"$f":"EH50","v":0},{"$f":"モデルシート!$E$40","v":"頻繁にむせこんだり、咳き込んだりする。"},null,null,null,null,null,null,null,null,null,{"$f":"EW50","v":"現状継続"},{"$f":"IF($D$4=\"\",\"\",VLOOKUP($D$4,記録シート１!$D$6:$CG$2007,AP138))","v":""},{"$f":"EX50","v":0},{"$f":"IF($D$4=\"\",\"\",VLOOKUP($D$4,記録シート１!$D$6:$CG$2007,AR138))","v":""},{"$f":"IF($D$4=\"\",\"\",VLOOKUP($D$4,記録シート１!$D$6:$CG$2007,AS138))","v":""},{"$f":"IF($D$4=\"\",\"\",VLOOKUP($D$4,記録シート１!$D$6:$CG$2007,AT138))","v":""},{"$f":"IF($D$4=\"\",\"\",VLOOKUP($D$4,記録シート１!$D$6:$CG$2007,AU138))","v":""},null,null,null,null,null,null,null,null,61,null,null,null,null,null,null,null,null,null,null,"その他",{"$f":"AQ88+1","v":76},{"$f":"IF($D$4=\"\",\"\",VLOOKUP($D$4,記録シート１!$D$6:$CF$2007,7))","v":""},{"$f":"IF($D$4=\"\",\"\",VLOOKUP($D$4,記録シート１!$D$6:$CF$2007,7))","v":""},{"$f":"IF($D$4=\"\",\"\",VLOOKUP($D$4,記録シート１!$D$6:$CF$2007,7))","v":""},{"$f":"IF($D$4=\"\",\"\",VLOOKUP($D$4,記録シート１!$D$6:$CF$2007,7))","v":""},{"$f":"IF($D$4=\"\",\"\",VLOOKUP($D$4,記録シート１!$D$6:$CF$2007,7))","v":""}]
[null,null,null,{"$f":"EI50","v":0},{"$f":"モデルシート!$E$41","v":"食事中につかえたり、嘔吐したことが直近１ヶ月以内にある。"},null,null,null,null,null,null,null,null,null,{"$f":"IF($D$4=\"\",\"\",VLOOKUP($D$4,記録シート１!$D$6:$CG$2007,AO139))","v":""},{"$f":"IF($D$4=\"\",\"\",VLOOKUP($D$4,記録シート１!$D$6:$CG$2007,AP139))","v":""},{"$f":"IF($D$4=\"\",\"\",VLOOKUP($D$4,記録シート１!$D$6:$CG$2007,AQ139))","v":""},{"$f":"IF($D$4=\"\",\"\",VLOOKUP($D$4,記録シート１!$D$6:$CG$2007,AR139))","v":""},{"$f":"IF($D$4=\"\",\"\",VLOOKUP($D$4,記録シート１!$D$6:$CG$2007,AS139))","v":""},{"$f":"IF($D$4=\"\",\"\",VLOOKUP($D$4,記録シート１!$D$6:$CG$2007,AT139))","v":""},{"$f":"IF($D$4=\"\",\"\",VLOOKUP($D$4,記録シート１!$D$6:$CG$2007,AU139))","v":""},null,null,null,null,null,null,null,null,62,"その他",{"$f":"AD91+1","v":63},{"$f":"IF($D$4=\"\",\"\",VLOOKUP($D$4,記録シート１!$D$6:$CF$2007,7))","v":""},{"$f":"IF($D$4=\"\",\"\",VLOOKUP($D$4,記録シート１!$D$6:$CF$2007,7))","v":""},{"$f":"IF($D$4=\"\",\"\",VLOOKUP($D$4,記録シート１!$D$6:$CF$2007,7))","v":""},{"$f":"IF($D$4=\"\",\"\",VLOOKUP($D$4,記録シート１!$D$6:$CF$2007,7))","v":""},{"$f":"IF($D$4=\"\",\"\",VLOOKUP($D$4,記録シート１!$D$6:$CF$2007,7))","v":""},{"$f":"IF($D$4=\"\",\"\",VLOOKUP($D$4,記録シート１!$D$6:$CF$2007,7))","v":""},{"$f":"IF($D$4=\"\",\"\",VLOOKUP($D$4,記録シート１!$D$6:$CF$2007,7))","v":""},null,null,{"$f":"IF($D$4=\"\",\"\",VLOOKUP($D$4,記録シート１!$D$6:$CF$2007,7))","v":""},{"$f":"IF($D$4=\"\",\"\",VLOOKUP($D$4,記録シート１!$D$6:$CF$2007,7))","v":""},{"$f":"IF($D$4=\"\",\"\",VLOOKUP($D$4,記録シート１!$D$6:$CF$2007,7))","v":""},{"$f":"IF($D$4=\"\",\"\",VLOOKUP($D$4,記録シート１!$D$6:$CF$2007,7))","v":""},{"$f":"IF($D$4=\"\",\"\",VLOOKUP($D$4,記録シート１!$D$6:$CF$2007,7))","v":""},{"$f":"IF($D$4=\"\",\"\",VLOOKUP($D$4,記録シート１!$D$6:$CF$2007,7))","v":""}]
[null,null,null,{"$f":"EJ50","v":0},{"$f":"モデルシート!$E$42","v":"食事の摂取量に問題がある。"},null,null,null,null,null,null,null,null,null,"その他",{"$f":"EY50","v":0},{"$f":"IF($D$4=\"\",\"\",VLOOKUP($D$4,記録シート１!$D$6:$CG$2007,AQ140))","v":""},{"$f":"IF($D$4=\"\",\"\",VLOOKUP($D$4,記録シート１!$D$6:$CG$2007,AR140))","v":""},{"$f":"IF($D$4=\"\",\"\",VLOOKUP($D$4,記録シート１!$D$6:$CG$2007,AS140))","v":""},{"$f":"IF($D$4=\"\",\"\",VLOOKUP($D$4,記録シート１!$D$6:$CG$2007,AT140))","v":""},{"$f":"IF($D$4=\"\",\"\",VLOOKUP($D$4,記録シート１!$D$6:$CG$2007,AU140))","v":""}]
[null,null,null,{"$f":"EK50","v":0},"その他",{"$f":"EL50","v":0},{"$f":"IF($D$4=\"\",\"\",VLOOKUP($D$4,記録シート１!$D$6:$CG$2007,AG141))","v":""},{"$f":"IF($D$4=\"\",\"\",VLOOKUP($D$4,記録シート１!$D$6:$CG$2007,AH141))","v":""},{"$f":"IF($D$4=\"\",\"\",VLOOKUP($D$4,記録シート１!$D$6:$CG$2007,AI141))","v":""},{"$f":"IF($D$4=\"\",\"\",VLOOKUP($D$4,記録シート１!$D$6:$CG$2007,AJ141))","v":""},{"$f":"IF($D$4=\"\",\"\",VLOOKUP($D$4,記録シート１!$D$6:$CG$2007,AK141))","v":""},{"$f":"IF($D$4=\"\",\"\",VLOOKUP($D$4,記録シート１!$D$6:$CG$2007,AL141))","v":""},{"$f":"IF($D$4=\"\",\"\",VLOOKUP($D$4,記録シート１!$D$6:$CG$2007,AM141))","v":""},null,null,{"$f":"IF($D$4=\"\",\"\",VLOOKUP($D$4,記録シート１!$D$6:$CG$2007,AP141))","v":""},{"$f":"IF($D$4=\"\",\"\",VLOOKUP($D$4,記録シート１!$D$6:$CG$2007,AQ141))","v":""},{"$f":"IF($D$4=\"\",\"\",VLOOKUP($D$4,記録シート１!$D$6:$CG$2007,AR141))","v":""},{"$f":"IF($D$4=\"\",\"\",VLOOKUP($D$4,記録シート１!$D$6:$CG$2007,AS141))","v":""},{"$f":"IF($D$4=\"\",\"\",VLOOKUP($D$4,記録シート１!$D$6:$CG$2007,AT141))","v":""},{"$f":"IF($D$4=\"\",\"\",VLOOKUP($D$4,記録シート１!$D$6:$CG$2007,AU141))","v":""},null,null,null,null,null,null,null,null,"初回作成日",null,null,{"$f":"AP90+1","v":77},{"$f":"IF($D$4=\"\",\"\",VLOOKUP($D$4,記録シート１!$D$6:$CF$2007,7))","v":""},{"$f":"IF($D$4=\"\",\"\",VLOOKUP($D$4,記録シート１!$D$6:$CF$2007,7))","v":""}]
[null,null,null,"５．経口による食事摂取のための計画",null,null,null,null,null,null,null,null,null,null,null,null,null,null,null,null,null,null,null,null,null,null,null,null,null,"計画変更日",null,null,{"$f":"AG93+1","v":78},{"$f":"IF($D$4=\"\",\"\",VLOOKUP($D$4,記録シート１!$D$6:$CF$2007,7))","v":""},{"$f":"IF($D$4=\"\",\"\",VLOOKUP($D$4,記録シート１!$D$6:$CF$2007,7))","v":""},{"$f":"AG95+1","v":80},{"$f":"IF($D$4=\"\",\"\",VLOOKUP($D$4,記録シート１!$D$6:$CF$2007,7))","v":""},{"$f":"IF($D$4=\"\",\"\",VLOOKUP($D$4,記録シート１!$D$6:$CF$2007,7))","v":""},{"$f":"IF($D$4=\"\",\"\",VLOOKUP($D$4,記録シート１!$D$6:$CF$2007,7))","v":""},{"$f":"IF($D$4=\"\",\"\",VLOOKUP($D$4,記録シート１!$D$6:$CF$2007,7))","v":""},{"$f":"IF($D$4=\"\",\"\",VLOOKUP($D$4,記録シート１!$D$6:$CF$2007,7))","v":""},{"$f":"IF($D$4=\"\",\"\",VLOOKUP($D$4,記録シート１!$D$6:$CF$2007,7))","v":""},{"$f":"IF($D$4=\"\",\"\",VLOOKUP($D$4,記録シート１!$D$6:$CF$2007,7))","v":""},{"$f":"IF($D$4=\"\",\"\",VLOOKUP($D$4,記録シート１!$D$6:$CF$2007,7))","v":""},{"$f":"IF($D$4=\"\",\"\",VLOOKUP($D$4,記録シート１!$D$6:$CF$2007,7))","v":""},{"$f":"IF($D$4=\"\",\"\",VLOOKUP($D$4,記録シート１!$D$6:$CF$2007,7))","v":""},{"$f":"IF($D$4=\"\",\"\",VLOOKUP($D$4,記録シート１!$D$6:$CF$2007,7))","v":""}]
[null,null,null,"初回作成日",null,null,{"$f":"EZ50","v":"00:00:00"},{"$f":"IF($D$4=\"\",\"\",VLOOKUP($D$4,記録シート１!$D$6:$CG$2007,AH143))","v":""},{"$f":"IF($D$4=\"\",\"\",VLOOKUP($D$4,記録シート１!$D$6:$CG$2007,AI143))","v":""},"解決すべき課題や目標",null,null,null,null,null,null,null,null,null,null,null,null,null,null,null,null,null,null,null,"計画作成者",null,null,{"$f":"AG94+1","v":79},{"$f":"IF($D$4=\"\",\"\",VLOOKUP($D$4,記録シート１!$D$6:$CF$2007,7))","v":""},{"$f":"IF($D$4=\"\",\"\",VLOOKUP($D$4,記録シート１!$D$6:$CF$2007,7))","v":""},{"$f":"IF($D$4=\"\",\"\",VLOOKUP($D$4,記録シート１!$D$6:$CF$2007,7))","v":""},{"$f":"IF($D$4=\"\",\"\",VLOOKUP($D$4,記録シート１!$D$6:$CF$2007,7))","v":""},{"$f":"IF($D$4=\"\",\"\",VLOOKUP($D$4,記録シート１!$D$6:$CF$2007,7))","v":""},{"$f":"IF($D$4=\"\",\"\",VLOOKUP($D$4,記録シート１!$D$6:$CF$2007,7))","v":""},{"$f":"IF($D$4=\"\",\"\",VLOOKUP($D$4,記録シート１!$D$6:$CF$2007,7))","v":""},{"$f":"IF($D$4=\"\",\"\",VLOOKUP($D$4,記録シート１!$D$6:$CF$2007,7))","v":""},{"$f":"IF($D$4=\"\",\"\",VLOOKUP($D$4,記録シート１!$D$6:$CF$2007,7))","v":""},{"$f":"IF($D$4=\"\",\"\",VLOOKUP($D$4,記録シート１!$D$6:$CF$2007,7))","v":""},{"$f":"IF($D$4=\"\",\"\",VLOOKUP($D$4,記録シート１!$D$6:$CF$2007,7))","v":""},{"$f":"IF($D$4=\"\",\"\",VLOOKUP($D$4,記録シート１!$D$6:$CF$2007,7))","v":""},{"$f":"IF($D$4=\"\",\"\",VLOOKUP($D$4,記録シート１!$D$6:$CF$2007,7))","v":""},{"$f":"IF($D$4=\"\",\"\",VLOOKUP($D$4,記録シート１!$D$6:$CF$2007,7))","v":""}]
[null,null,null,"計画変更日",null,null,{"$f":"FA50","v":"00:00:00"},{"$f":"IF($D$4=\"\",\"\",VLOOKUP($D$4,記録シート１!$D$6:$CG$2007,AH144))","v":""},{"$f":"IF($D$4=\"\",\"\",VLOOKUP($D$4,記録シート１!$D$6:$CG$2007,AI144))","v":""},{"$f":"FC50","v":0},{"$f":"IF($D$4=\"\",\"\",VLOOKUP($D$4,記録シート１!$D$6:$CG$2007,AK144))","v":""},{"$f":"IF($D$4=\"\",\"\",VLOOKUP($D$4,記録シート１!$D$6:$CG$2007,AL144))","v":""},{"$f":"IF($D$4=\"\",\"\",VLOOKUP($D$4,記録シート１!$D$6:$CG$2007,AM144))","v":""},{"$f":"IF($D$4=\"\",\"\",VLOOKUP($D$4,記録シート１!$D$6:$CG$2007,AN144))","v":""},{"$f":"IF($D$4=\"\",\"\",VLOOKUP($D$4,記録シート１!$D$6:$CG$2007,AO144))","v":""},{"$f":"IF($D$4=\"\",\"\",VLOOKUP($D$4,記録シート１!$D$6:$CG$2007,AP144))","v":""},{"$f":"IF($D$4=\"\",\"\",VLOOKUP($D$4,記録シート１!$D$6:$CG$2007,AQ144))","v":""},{"$f":"IF($D$4=\"\",\"\",VLOOKUP($D$4,記録シート１!$D$6:$CG$2007,AR144))","v":""},{"$f":"IF($D$4=\"\",\"\",VLOOKUP($D$4,記録シート１!$D$6:$CG$2007,AS144))","v":""},{"$f":"IF($D$4=\"\",\"\",VLOOKUP($D$4,記録シート１!$D$6:$CG$2007,AT144))","v":""},{"$f":"IF($D$4=\"\",\"\",VLOOKUP($D$4,記録シート１!$D$6:$CG$2007,AU144))","v":""},null,null,null,null,null,null,null,null,"ご家族の意見など",null,null,{"$f":"AJ94+1","v":81},{"$f":"IF($D$4=\"\",\"\",VLOOKUP($D$4,記録シート１!$D$6:$CF$2007,7))","v":""},{"$f":"IF($D$4=\"\",\"\",VLOOKUP($D$4,記録シート１!$D$6:$CF$2007,7))","v":""},{"$f":"IF($D$4=\"\",\"\",VLOOKUP($D$4,記録シート１!$D$6:$CF$2007,7))","v":""},{"$f":"IF($D$4=\"\",\"\",VLOOKUP($D$4,記録シート１!$D$6:$CF$2007,7))","v":""},{"$f":"IF($D$4=\"\",\"\",VLOOKUP($D$4,記録シート１!$D$6:$CF$2007,7))","v":""},{"$f":"IF($D$4=\"\",\"\",VLOOKUP($D$4,記録シート１!$D$6:$CF$2007,7))","v":""},{"$f":"IF($D$4=\"\",\"\",VLOOKUP($D$4,記録シート１!$D$6:$CF$2007,7))","v":""},{"$f":"IF($D$4=\"\",\"\",VLOOKUP($D$4,記録シート１!$D$6:$CF$2007,7))","v":""},{"$f":"IF($D$4=\"\",\"\",VLOOKUP($D$4,記録シート１!$D$6:$CF$2007,7))","v":""},{"$f":"IF($D$4=\"\",\"\",VLOOKUP($D$4,記録シート１!$D$6:$CF$2007,7))","v":""},{"$f":"IF($D$4=\"\",\"\",VLOOKUP($D$4,記録シート１!$D$6:$CF$2007,7))","v":""},{"$f":"IF($D$4=\"\",\"\",VLOOKUP($D$4,記録シート１!$D$6:$CF$2007,7))","v":""},{"$f":"IF($D$4=\"\",\"\",VLOOKUP($D$4,記録シート１!$D$6:$CF$2007,7))","v":""},{"$f":"IF($D$4=\"\",\"\",VLOOKUP($D$4,記録シート１!$D$6:$CF$2007,7))","v":""}]
[null,null,null,"計画作成者",null,null,{"$f":"FB50","v":"星野徳明（介護支援専門員）"},{"$f":"IF($D$4=\"\",\"\",VLOOKUP($D$4,記録シート１!$D$6:$CG$2007,AH145))","v":""},{"$f":"IF($D$4=\"\",\"\",VLOOKUP($D$4,記録シート１!$D$6:$CG$2007,AI145))","v":""},{"$f":"IF($D$4=\"\",\"\",VLOOKUP($D$4,記録シート１!$D$6:$CG$2007,AJ145))","v":""},{"$f":"IF($D$4=\"\",\"\",VLOOKUP($D$4,記録シート１!$D$6:$CG$2007,AK145))","v":""},{"$f":"IF($D$4=\"\",\"\",VLOOKUP($D$4,記録シート１!$D$6:$CG$2007,AL145))","v":""},{"$f":"IF($D$4=\"\",\"\",VLOOKUP($D$4,記録シート１!$D$6:$CG$2007,AM145))","v":""},{"$f":"IF($D$4=\"\",\"\",VLOOKUP($D$4,記録シート１!$D$6:$CG$2007,AN145))","v":""},{"$f":"IF($D$4=\"\",\"\",VLOOKUP($D$4,記録シート１!$D$6:$CG$2007,AO145))","v":""},{"$f":"IF($D$4=\"\",\"\",VLOOKUP($D$4,記録シート１!$D$6:$CG$2007,AP145))","v":""},{"$f":"IF($D$4=\"\",\"\",VLOOKUP($D$4,記録シート１!$D$6:$CG$2007,AQ145))","v":""},{"$f":"IF($D$4=\"\",\"\",VLOOKUP($D$4,記録シート１!$D$6:$CG$2007,AR145))","v":""},{"$f":"IF($D$4=\"\",\"\",VLOOKUP($D$4,記録シート１!$D$6:$CG$2007,AS145))","v":""},{"$f":"IF($D$4=\"\",\"\",VLOOKUP($D$4,記録シート１!$D$6:$CG$2007,AT145))","v":""},{"$f":"IF($D$4=\"\",\"\",VLOOKUP($D$4,記録シート１!$D$6:$CG$2007,AU145))","v":""},null,null,null,null,null,null,null,null,"備　　考",null,null,{"$f":"AG96+1","v":82},{"$f":"IF($D$4=\"\",\"\",VLOOKUP($D$4,記録シート１!$D$6:$CF$2007,7))","v":""},{"$f":"IF($D$4=\"\",\"\",VLOOKUP($D$4,記録シート１!$D$6:$CF$2007,7))","v":""},{"$f":"IF($D$4=\"\",\"\",VLOOKUP($D$4,記録シート１!$D$6:$CF$2007,7))","v":""},{"$f":"IF($D$4=\"\",\"\",VLOOKUP($D$4,記録シート１!$D$6:$CF$2007,7))","v":""},{"$f":"IF($D$4=\"\",\"\",VLOOKUP($D$4,記録シート１!$D$6:$CF$2007,7))","v":""},{"$f":"IF($D$4=\"\",\"\",VLOOKUP($D$4,記録シート１!$D$6:$CF$2007,7))","v":""},{"$f":"IF($D$4=\"\",\"\",VLOOKUP($D$4,記録シート１!$D$6:$CF$2007,7))","v":""},{"$f":"IF($D$4=\"\",\"\",VLOOKUP($D$4,記録シート１!$D$6:$CF$2007,7))","v":""},{"$f":"IF($D$4=\"\",\"\",VLOOKUP($D$4,記録シート１!$D$6:$CF$2007,7))","v":""},{"$f":"IF($D$4=\"\",\"\",VLOOKUP($D$4,記録シート１!$D$6:$CF$2007,7))","v":""},{"$f":"IF($D$4=\"\",\"\",VLOOKUP($D$4,記録シート１!$D$6:$CF$2007,7))","v":""},{"$f":"IF($D$4=\"\",\"\",VLOOKUP($D$4,記録シート１!$D$6:$CF$2007,7))","v":""},{"$f":"IF($D$4=\"\",\"\",VLOOKUP($D$4,記録シート１!$D$6:$CF$2007,7))","v":""},{"$f":"IF($D$4=\"\",\"\",VLOOKUP($D$4,記録シート１!$D$6:$CF$2007,7))","v":""}]
[null,null,null,"ご家族の意見など",null,null,{"$f":"FD50","v":0},{"$f":"IF($D$4=\"\",\"\",VLOOKUP($D$4,記録シート１!$D$6:$CG$2007,AH146))","v":""},{"$f":"IF($D$4=\"\",\"\",VLOOKUP($D$4,記録シート１!$D$6:$CG$2007,AI146))","v":""},{"$f":"IF($D$4=\"\",\"\",VLOOKUP($D$4,記録シート１!$D$6:$CG$2007,AJ146))","v":""},{"$f":"IF($D$4=\"\",\"\",VLOOKUP($D$4,記録シート１!$D$6:$CG$2007,AK146))","v":""},{"$f":"IF($D$4=\"\",\"\",VLOOKUP($D$4,記録シート１!$D$6:$CG$2007,AL146))","v":""},{"$f":"IF($D$4=\"\",\"\",VLOOKUP($D$4,記録シート１!$D$6:$CG$2007,AM146))","v":""},{"$f":"IF($D$4=\"\",\"\",VLOOKUP($D$4,記録シート１!$D$6:$CG$2007,AN146))","v":""},{"$f":"IF($D$4=\"\",\"\",VLOOKUP($D$4,記録シート１!$D$6:$CG$2007,AO146))","v":""},{"$f":"IF($D$4=\"\",\"\",VLOOKUP($D$4,記録シート１!$D$6:$CG$2007,AP146))","v":""},{"$f":"IF($D$4=\"\",\"\",VLOOKUP($D$4,記録シート１!$D$6:$CG$2007,AQ146))","v":""},{"$f":"IF($D$4=\"\",\"\",VLOOKUP($D$4,記録シート１!$D$6:$CG$2007,AR146))","v":""},{"$f":"IF($D$4=\"\",\"\",VLOOKUP($D$4,記録シート１!$D$6:$CG$2007,AS146))","v":""},{"$f":"IF($D$4=\"\",\"\",VLOOKUP($D$4,記録シート１!$D$6:$CG$2007,AT146))","v":""},{"$f":"IF($D$4=\"\",\"\",VLOOKUP($D$4,記録シート１!$D$6:$CG$2007,AU146))","v":""},null,null,null,null,null,null,null,null,"同意年月日（初回）",null,null,null,null,null,null,null,"同意者のサイン",null,null,null,null,null,"印"]
[null,null,null,"備　　考",null,null,{"$f":"FE50","v":0},{"$f":"IF($D$4=\"\",\"\",VLOOKUP($D$4,記録シート１!$D$6:$CG$2007,AH147))","v":""},{"$f":"IF($D$4=\"\",\"\",VLOOKUP($D$4,記録シート１!$D$6:$CG$2007,AI147))","v":""},{"$f":"IF($D$4=\"\",\"\",VLOOKUP($D$4,記録シート１!$D$6:$CG$2007,AJ147))","v":""},{"$f":"IF($D$4=\"\",\"\",VLOOKUP($D$4,記録シート１!$D$6:$CG$2007,AK147))","v":""},{"$f":"IF($D$4=\"\",\"\",VLOOKUP($D$4,記録シート１!$D$6:$CG$2007,AL147))","v":""},{"$f":"IF($D$4=\"\",\"\",VLOOKUP($D$4,記録シート１!$D$6:$CG$2007,AM147))","v":""},{"$f":"IF($D$4=\"\",\"\",VLOOKUP($D$4,記録シート１!$D$6:$CG$2007,AN147))","v":""},{"$f":"IF($D$4=\"\",\"\",VLOOKUP($D$4,記録シート１!$D$6:$CG$2007,AO147))","v":""},{"$f":"IF($D$4=\"\",\"\",VLOOKUP($D$4,記録シート１!$D$6:$CG$2007,AP147))","v":""},{"$f":"IF($D$4=\"\",\"\",VLOOKUP($D$4,記録シート１!$D$6:$CG$2007,AQ147))","v":""},{"$f":"IF($D$4=\"\",\"\",VLOOKUP($D$4,記録シート１!$D$6:$CG$2007,AR147))","v":""},{"$f":"IF($D$4=\"\",\"\",VLOOKUP($D$4,記録シート１!$D$6:$CG$2007,AS147))","v":""},{"$f":"IF($D$4=\"\",\"\",VLOOKUP($D$4,記録シート１!$D$6:$CG$2007,AT147))","v":""},{"$f":"IF($D$4=\"\",\"\",VLOOKUP($D$4,記録シート１!$D$6:$CG$2007,AU147))","v":""}]
[null,null,null,"同意年月日（初回）",null,null,null,"平成　　　年　　　月　　　日",null,null,null,"同意者のサイン",null,null,null,null,null,"印","関係"]
[]
[null,null,null,null,null,null,null,null,null,null,null,null,null,null,null,null,null,null,null,null,null,null,null,null,null,null,null,null,null,"特別養護老人ホーム辰巳萬緑苑・経口移行・維持計画書"]
[]
[null,null,null,null,null,null,null,null,null,null,null,null,null,null,null,null,null,null,null,null,null,null,null,null,null,null,null,null,null,"１．基本情報",null,null,null,null,null,null,null,null,null,null,null,"記録日",null,{"$f":"$R$7","v":""}]
[null,null,null,null,null,null,null,null,null,null,null,null,null,null,null,null,null,null,null,null,null,null,null,null,null,null,null,null,null,"フリガナ\nお名前",null,{"$f":"$F$8","v":""},{"$f":"G8","v":""},"","性別","生年月日",null,null,"年齢","経口摂取の状態",null,null,null,{"$f":"IF($R$8=0,\"■\",$R$8)","v":""},"初回",{"$f":"IF($T$8=0,\"□\",$T$8)","v":""},"継続"]
[null,null,null,null,null,null,null,null,null,null,null,null,null,null,null,null,null,null,null,null,null,null,null,null,null,null,null,null,null,{"$f":"$D$9","v":""},{"$f":"E9","v":""},"","","",{"$f":"$I$9","v":""},{"$f":"$J$9","v":""},"","",{"$f":"IF($BJ$9=\"\",\"\",DATEDIF($BJ$9,TODAY(),\"y\"))","v":""},{"$f":"IF($N$9=0,モデルシート!$N$9,$N$9)","v":""},{"$f":"モデルシート!$O$9","v":"自歯の使用あり"},null,null,"算定加算"]
[null,null,null,null,null,null,null,null,null,null,null,null,null,null,null,null,null,null,null,null,null,null,null,null,null,null,null,null,null,{"$f":"D10","v":""},"","","","","","","","",null,{"$f":"IF($N$10=0,モデルシート!$N$10,$N$10)","v":""},{"$f":"モデルシート!$O$10","v":"義歯の使用あり"},null,null,{"$f":"IF($R$10=0,モデルシート!$R$10,$R$10)","v":""},{"$f":"モデルシート!$S$10","v":"経口移行加算"}]
[null,null,null,null,null,null,null,null,null,null,null,null,null,null,null,null,null,null,null,null,null,null,null,null,null,null,null,null,null,{"$f":"D11","v":""},"","","","","","要介護度",null,{"$f":"$L$11","v":""},null,{"$f":"IF($N$11=0,モデルシート!$N$11,$N$11)","v":""},{"$f":"モデルシート!$O$11","v":"食事介助の必要あり"},null,null,{"$f":"IF($R$11=0,モデルシート!$R$11,$R$11)","v":""},{"$f":"モデルシート!$S$11","v":"経口維持加算Ⅰ"}]
[null,null,null,null,null,null,null,null,null,null,null,null,null,null,null,null,null,null,null,null,null,null,null,null,null,null,null,null,null,"摂取・嚥下機能の実施",null,null,null,"把握された課題",null,null,"備考（テスト・観察前の課題）",null,null,{"$f":"IF($N$12=0,モデルシート!$N$12,$N$12)","v":""},{"$f":"モデルシート!$O$12","v":"その他（以下に記述）"},null,null,{"$f":"IF($R$12=0,モデルシート!$R$12,$R$12)","v":""},{"$f":"モデルシート!$S$12","v":"経口維持加算Ⅱ"}]
[null,null,null,null,null,null,null,null,null,null,null,null,null,null,null,null,null,null,null,null,null,null,null,null,null,null,null,null,null,{"$f":"IF($D$13=0,モデルシート!$D$13,$D$13)","v":""},{"$f":"モデルシート!$E$13","v":"水飲みテスト"},null,null,{"$f":"IF($H$13=0,モデルシート!$H$13,$H$13)","v":""},{"$f":"モデルシート!$I$13","v":"認知機能"},null,{"$f":"$K$13","v":""},{"$f":"L13","v":""},"","","","","","","","",""]
[null,null,null,null,null,null,null,null,null,null,null,null,null,null,null,null,null,null,null,null,null,null,null,null,null,null,null,null,null,{"$f":"IF($D$14=0,モデルシート!$D$14,$D$14)","v":""},{"$f":"モデルシート!$E$14","v":"食事観察による確認"},null,null,{"$f":"IF($H$14=0,モデルシート!$H$14,$H$14)","v":""},{"$f":"モデルシート!$I$14","v":"咀嚼・口腔機能"},null,{"$f":"K14","v":""},"","","","","","","","","",""]
[null,null,null,null,null,null,null,null,null,null,null,null,null,null,null,null,null,null,null,null,null,null,null,null,null,null,null,null,null,{"$f":"IF($D$15=0,モデルシート!$D$15,$D$15)","v":""},"その他",{"$f":"$F$15","v":0},{"$f":"G15","v":0},{"$f":"IF($H$15=0,モデルシート!$H$15,$H$15)","v":""},{"$f":"モデルシート!$I$15","v":"嚥下機能"},null,{"$f":"K15","v":""},"","","","","","","","","",""]
[null,null,null,null,null,null,null,null,null,null,null,null,null,null,null,null,null,null,null,null,null,null,null,null,null,null,null,null,null,"確認日",null,{"$f":"$F$16","v":""},{"$f":"G16","v":""},"","協力医療機関",null,{"$f":"IF($K$16=0,モデルシート!$K$16,$K$16)","v":""},{"$f":"L16","v":""},"","",{"$f":"IF($O$16=0,モデルシート!$O$16,$O$16)","v":""}]
[null,null,null,null,null,null,null,null,null,null,null,null,null,null,null,null,null,null,null,null,null,null,null,null,null,null,null,null,null,"２．食事観察と検討の実施"]
[null,null,null,null,null,null,null,null,null,null,null,null,null,null,null,null,null,null,null,null,null,null,null,null,null,null,null,null,null,"参加した職員等",null,null,null,"観察・検討した日",null,{"$f":"$J$18","v":""},{"$f":"K18","v":""},{"$f":"モデルシート!$L$18","v":"食事の環境"},{"$f":"$M$18","v":""},{"$f":"N18","v":""},"","","","","","",""]
[null,null,null,null,null,null,null,null,null,null,null,null,null,null,null,null,null,null,null,null,null,null,null,null,null,null,null,null,null,{"$f":"IF($D$19=0,モデルシート!$D$19,$D$19)","v":""},{"$f":"モデルシート!$E$19","v":"医師・歯科医師"},null,null,{"$f":"IF($H$19=0,モデルシート!$H$19,$H$19)","v":""},{"$f":"モデルシート!$I$19","v":"管理栄養士"},null,null,{"$f":"モデルシート!$L$19","v":"食事の形態"},{"$f":"$M$19","v":""},{"$f":"N19","v":""},"","","","","","",""]
[null,null,null,null,null,null,null,null,null,null,null,null,null,null,null,null,null,null,null,null,null,null,null,null,null,null,null,null,null,{"$f":"IF($D$20=0,モデルシート!$D$20,$D$20)","v":""},{"$f":"モデルシート!$E$20","v":"介護支援専門員"},null,null,{"$f":"IF($H$20=0,モデルシート!$H$20,$H$20)","v":""},{"$f":"モデルシート!$I$20","v":"担当介護職員"},null,null,{"$f":"モデルシート!$L$20","v":"摂取の方法"},{"$f":"$M$20","v":""},{"$f":"N20","v":""},"","","","","","",""]
[null,null,null,null,null,null,null,null,null,null,null,null,null,null,null,null,null,null,null,null,null,null,null,null,null,null,null,null,null,{"$f":"IF($D$21=0,モデルシート!$D$21,$D$21)","v":""},{"$f":"モデルシート!$E$21","v":"看護職員"},null,null,{"$f":"IF($H$21=0,モデルシート!$H$21,$H$21)","v":""},{"$f":"モデルシート!$I$21","v":"ご家族"},null,null,{"$f":"モデルシート!$L$21","v":"療養食など"},{"$f":"$M$21","v":""},{"$f":"N21","v":""},"","","","","","",""]
[null,null,null,null,null,null,null,null,null,null,null,null,null,null,null,null,null,null,null,null,null,null,null,null,null,null,null,null,null,{"$f":"IF($D$22=0,モデルシート!$D$22,$D$22)","v":""},{"$f":"モデルシート!$E$22","v":"施設長"},null,"その他",{"$f":"IF($H$22=0,モデルシート!$H$22,$H$22)","v":""},{"$f":"$I$22","v":""},{"$f":"J22","v":""},"",{"$f":"モデルシート!$L$22","v":"持病・治療"},{"$f":"$M$22","v":""},{"$f":"N22","v":""},"","","","","","",""]
[null,null,null,null,null,null,null,null,null,null,null,null,null,null,null,null,null,null,null,null,null,null,null,null,null,null,null,null,null,"３．経口による継続的な食事摂取のための支援の観点",null,null,null,null,null,null,null,null,null,null,"４．観察結果の検討"]
[null,null,null,null,null,null,null,null,null,null,null,null,null,null,null,null,null,null,null,null,null,null,null,null,null,null,null,null,null,{"$f":"$D$24","v":""},{"$f":"モデルシート!$E$24","v":"上半身が左右や前後に傾く傾向があり、座位の保持が困難である。"},null,null,null,null,null,null,null,null,null,{"$f":"モデルシート!$O$24","v":"食事形態の変化の必要性"}]
[null,null,null,null,null,null,null,null,null,null,null,null,null,null,null,null,null,null,null,null,null,null,null,null,null,null,null,null,null,{"$f":"$D$25","v":""},{"$f":"モデルシート!$E$25","v":"頸部が後屈しがちである。"},null,null,null,null,null,null,null,null,null,{"$f":"IF($O$25=0,モデルシート!$O$25,$O$25)","v":""},null,{"$f":"$Q$25","v":""},{"$f":"R25","v":""},"","",""]
[null,null,null,null,null,null,null,null,null,null,null,null,null,null,null,null,null,null,null,null,null,null,null,null,null,null,null,null,null,{"$f":"$D$26","v":""},{"$f":"モデルシート!$E$26","v":"脳血管疾患等による麻痺症状がある。"},null,null,null,null,null,null,null,null,null,null,null,{"$f":"Q26","v":""},"","","",""]
[null,null,null,null,null,null,null,null,null,null,null,null,null,null,null,null,null,null,null,null,null,null,null,null,null,null,null,null,null,{"$f":"$D$27","v":""},{"$f":"モデルシート!$E$27","v":"認知症により、食事に対する認知能力に問題がある。"},null,null,null,null,null,null,null,null,null,{"$f":"モデルシート!$O$27","v":"補助食の必要性"}]
[null,null,null,null,null,null,null,null,null,null,null,null,null,null,null,null,null,null,null,null,null,null,null,null,null,null,null,null,null,{"$f":"$D$28","v":""},{"$f":"モデルシート!$E$28","v":"失明・空間失認などにより、食事位置などが判らない。"},null,null,null,null,null,null,null,null,null,{"$f":"IF($O$28=0,モデルシート!$O$28,$O$28)","v":""},null,{"$f":"$Q$28","v":""},{"$f":"R28","v":""},"","",""]
[null,null,null,null,null,null,null,null,null,null,null,null,null,null,null,null,null,null,null,null,null,null,null,null,null,null,null,null,null,{"$f":"$D$29","v":""},{"$f":"モデルシート!$E$29","v":"食べ始められない。食事を頻繁に中断してしまう。食事に集中できない。"},null,null,null,null,null,null,null,null,null,null,null,{"$f":"Q29","v":""},"","","",""]
[null,null,null,null,null,null,null,null,null,null,null,null,null,null,null,null,null,null,null,null,null,null,null,null,null,null,null,null,null,{"$f":"$D$30","v":""},{"$f":"モデルシート!$E$30","v":"食事そのものまたはその介助を拒否することがある。"},null,null,null,null,null,null,null,null,null,{"$f":"モデルシート!$O$30","v":"食事介助方法"}]
[null,null,null,null,null,null,null,null,null,null,null,null,null,null,null,null,null,null,null,null,null,null,null,null,null,null,null,null,null,{"$f":"$D$31","v":""},{"$f":"モデルシート!$E$31","v":"食事に時間がかかり疲労してしまう。食事中に寝てしまう。"},null,null,null,null,null,null,null,null,null,{"$f":"IF($O$31=0,モデルシート!$O$31,$O$31)","v":""},null,{"$f":"$Q$31","v":""},{"$f":"R31","v":""},"","",""]
[null,null,null,null,null,null,null,null,null,null,null,null,null,null,null,null,null,null,null,null,null,null,null,null,null,null,null,null,null,{"$f":"$D$32","v":""},{"$f":"モデルシート!$E$32","v":"次から次へと食事を口に運び、口腔内がいっぱいになってしまう。"},null,null,null,null,null,null,null,null,null,null,null,{"$f":"Q32","v":""},"","","",""]
[null,null,null,null,null,null,null,null,null,null,null,null,null,null,null,null,null,null,null,null,null,null,null,null,null,null,null,null,null,{"$f":"$D$33","v":""},{"$f":"モデルシート!$E$33","v":"口腔内が乾燥している。口腔内の衛生状態が悪い。"},null,null,null,null,null,null,null,null,null,{"$f":"モデルシート!$O$33","v":"口腔ケアの方法"}]
[null,null,null,null,null,null,null,null,null,null,null,null,null,null,null,null,null,null,null,null,null,null,null,null,null,null,null,null,null,{"$f":"$D$34","v":""},{"$f":"モデルシート!$E$34","v":"咀嚼能力に問題がある。"},null,null,null,null,null,null,null,null,null,{"$f":"IF($O$34=0,モデルシート!$O$34,$O$34)","v":""},null,{"$f":"$Q$34","v":""},{"$f":"R34","v":""},"","",""]
[null,null,null,null,null,null,null,null,null,null,null,null,null,null,null,null,null,null,null,null,null,null,null,null,null,null,null,null,null,{"$f":"$D$35","v":""},{"$f":"モデルシート!$E$35","v":"自歯・義歯に問題がある。"},null,null,null,null,null,null,null,null,null,null,null,{"$f":"Q35","v":""},"","","",""]
[null,null,null,null,null,null,null,null,null,null,null,null,null,null,null,null,null,null,null,null,null,null,null,null,null,null,null,null,null,{"$f":"$D$36","v":""},{"$f":"モデルシート!$E$36","v":"口から食物や唾液がこぼれる。"},null,null,null,null,null,null,null,null,null,{"$f":"モデルシート!$O$36","v":"医療または歯科受診の必要性"}]
[null,null,null,null,null,null,null,null,null,null,null,null,null,null,null,null,null,null,null,null,null,null,null,null,null,null,null,null,null,{"$f":"$D$37","v":""},{"$f":"モデルシート!$E$37","v":"口腔内に食物残滓が目立つ。"},null,null,null,null,null,null,null,null,null,{"$f":"IF($O$37=0,モデルシート!$O$37,$O$37)","v":""},null,{"$f":"$Q$37","v":""},{"$f":"R37","v":""},"","",""]
[null,null,null,null,null,null,null,null,null,null,null,null,null,null,null,null,null,null,null,null,null,null,null,null,null,null,null,null,null,{"$f":"$D$38","v":""},{"$f":"モデルシート!$E$38","v":"食物がなかなか呑み込めず、嚥下に時間がかかる。"},null,null,null,null,null,null,null,null,null,null,null,{"$f":"Q38","v":""},"","","",""]
[null,null,null,null,null,null,null,null,null,null,null,null,null,null,null,null,null,null,null,null,null,null,null,null,null,null,null,null,null,{"$f":"$D$39","v":""},{"$f":"モデルシート!$E$39","v":"食事中や食後に濁った声や呼吸音になる。"},null,null,null,null,null,null,null,null,null,{"$f":"モデルシート!$O$39","v":"食事環境の変更の必要性"}]
[null,null,null,null,null,null,null,null,null,null,null,null,null,null,null,null,null,null,null,null,null,null,null,null,null,null,null,null,null,{"$f":"$D$40","v":""},{"$f":"モデルシート!$E$40","v":"頻繁にむせこんだり、咳き込んだりする。"},null,null,null,null,null,null,null,null,null,{"$f":"IF($O$40=0,モデルシート!$O$40,$O$40)","v":""},null,{"$f":"$Q$40","v":""},{"$f":"R40","v":""},"","",""]
[null,null,null,null,null,null,null,null,null,null,null,null,null,null,null,null,null,null,null,null,null,null,null,null,null,null,null,null,null,{"$f":"$D$41","v":""},{"$f":"モデルシート!$E$41","v":"食事中につかえたり、嘔吐したことが直近１ヶ月以内にある。"},null,null,null,null,null,null,null,null,null,null,null,{"$f":"Q41","v":""},"","","",""]
[null,null,null,null,null,null,null,null,null,null,null,null,null,null,null,null,null,null,null,null,null,null,null,null,null,null,null,null,null,{"$f":"$D$42","v":""},{"$f":"モデルシート!$E$42","v":"食事の摂取量に問題がある。"},null,null,null,null,null,null,null,null,null,"その他",{"$f":"$P$42","v":""},{"$f":"Q42","v":""},"","","",""]
[null,null,null,null,null,null,null,null,null,null,null,null,null,null,null,null,null,null,null,null,null,null,null,null,null,null,null,null,null,{"$f":"$D$43","v":""},"その他",{"$f":"$F$43","v":""},{"$f":"G43","v":""},"","","","","","",null,null,{"$f":"P43","v":""},"","","","",""]
[null,null,null,null,null,null,null,null,null,null,null,null,null,null,null,null,null,null,null,null,null,null,null,null,null,null,null,null,null,"５．経口による食事摂取のための計画"]
[null,null,null,null,null,null,null,null,null,null,null,null,null,null,null,null,null,null,null,null,null,null,null,null,null,null,null,null,null,"初回作成日",null,null,{"$f":"$G$45","v":""},{"$f":"H45","v":""},"","解決すべき課題や目標"]
[null,null,null,null,null,null,null,null,null,null,null,null,null,null,null,null,null,null,null,null,null,null,null,null,null,null,null,null,null,"計画変更日",null,null,{"$f":"$G$46","v":""},{"$f":"H46","v":""},"",{"$f":"$J$46","v":""},"","","","","","","","","","",""]
[null,null,null,null,null,null,null,null,null,null,null,null,null,null,null,null,null,null,null,null,null,null,null,null,null,null,null,null,null,"計画作成者",null,null,{"$f":"IF($G$47=0,モデルシート!$G$47,$G$47)","v":""},{"$f":"H47","v":""},"",{"$f":"J47","v":""},"","","","","","","","","","",""]
[null,null,null,null,null,null,null,null,null,null,null,null,null,null,null,null,null,null,null,null,null,null,null,null,null,null,null,null,null,"ご家族の意見など",null,null,{"$f":"$G$48","v":""},{"$f":"H48","v":""},"","","","","","","","","","","","",""]
[null,null,null,null,null,null,null,null,null,null,null,null,null,null,null,null,null,null,null,null,null,null,null,null,null,null,null,null,null,"備　　考",null,null,{"$f":"$G$49","v":""},{"$f":"H49","v":""},"","","","","","","","","","","","",""]
[null,null,null,null,null,null,null,null,null,null,null,null,null,null,null,null,null,null,null,null,null,null,null,null,null,null,null,null,null,"同意年月日（初回）",null,null,null,"平成　　　年　　　月　　　日",null,null,null,"同意者のサイン",null,null,null,null,null,"印","関係"]

{"sheet":"記録シート１","index":2,"n_rows":106,"n_cols":85,"rows_kept":106,"cut":false,"hidden":false,"merged":[[1,7,1,12]]}
[]
[null,null,null,null,"個人別記録シート",null,null,"個人の記録として、最新のものがここに記録されます。不要な記録は番号を右クリックすることで消去できます。"]
[]
[null,null,null,null,null,"名前順"]
[]
[null,null,null,"番号","記録日","お名前","フリガナ","性別","生年月日","要介護度","初回","継続","自歯の使用あり","義歯の使用あり","食事介助の必要あり","その他（以下に記述）","経口移行加算","経口維持加算Ⅰ","経口維持加算Ⅱ","水飲みテスト","食事観察による確認","その他",18,"認知機能","咀嚼・口腔機能","嚥下機能",22,"確認日","協力医療機関","協力医療機関","観察・検討した日","医師・歯科医師","介護支援専門員","看護職員","施設長","管理栄養士","担当介護職員","ご家族","その他","その他","食事の環境","食事の形態","摂取の方法","療養食など","持病・治療","チェック41","チェック42","チェック43","チェック44","チェック45","チェック46","チェック47","チェック48","チェック49","チェック50","チェック51","チェック52","チェック53","チェック54","チェック55","チェック56","チェック57","チェック58","チェック59","チェック60","チェック61","食事形態の変化の必要性","データ","補助食の必要性","データ","食事介助方法","データ","口腔ケアの方法","データ","医療または歯科受診の必要性","データ","食事環境の変更の必要性","データ","その他","初回作成日","計画変更日","計画作成者","解決すべき課題や目標","ご家族の意見など","備　　考"]
[null,null,null,{"$f":"ROW()-6","v":1}]
[null,null,null,{"$f":"ROW()-6","v":2}]
[null,null,null,{"$f":"ROW()-6","v":3}]
[null,null,null,{"$f":"ROW()-6","v":4}]
[null,null,null,{"$f":"ROW()-6","v":5}]
[null,null,null,{"$f":"ROW()-6","v":6}]
[null,null,null,{"$f":"ROW()-6","v":7}]
[null,null,null,{"$f":"ROW()-6","v":8}]
[null,null,null,{"$f":"ROW()-6","v":9}]
[null,null,null,{"$f":"ROW()-6","v":10}]
[null,null,null,{"$f":"ROW()-6","v":11}]
[null,null,null,{"$f":"ROW()-6","v":12}]
[null,null,null,{"$f":"ROW()-6","v":13}]
[null,null,null,{"$f":"ROW()-6","v":14}]
[null,null,null,{"$f":"ROW()-6","v":15}]
[null,null,null,{"$f":"ROW()-6","v":16}]
[null,null,null,{"$f":"ROW()-6","v":17}]
[null,null,null,{"$f":"ROW()-6","v":18}]
[null,null,null,{"$f":"ROW()-6","v":19}]
[null,null,null,{"$f":"ROW()-6","v":20}]
[null,null,null,{"$f":"ROW()-6","v":21}]
[null,null,null,{"$f":"ROW()-6","v":22}]
[null,null,null,{"$f":"ROW()-6","v":23}]
[null,null,null,{"$f":"ROW()-6","v":24}]
[null,null,null,{"$f":"ROW()-6","v":25}]
[null,null,null,{"$f":"ROW()-6","v":26}]
[null,null,null,{"$f":"ROW()-6","v":27}]
[null,null,null,{"$f":"ROW()-6","v":28}]
[null,null,null,{"$f":"ROW()-6","v":29}]
[null,null,null,{"$f":"ROW()-6","v":30}]
[null,null,null,{"$f":"ROW()-6","v":31}]
[null,null,null,{"$f":"ROW()-6","v":32}]
[null,null,null,{"$f":"ROW()-6","v":33}]
[null,null,null,{"$f":"ROW()-6","v":34}]
[null,null,null,{"$f":"ROW()-6","v":35}]
[null,null,null,{"$f":"ROW()-6","v":36}]
[null,null,null,{"$f":"ROW()-6","v":37}]
[null,null,null,{"$f":"ROW()-6","v":38}]
[null,null,null,{"$f":"ROW()-6","v":39}]
[null,null,null,{"$f":"ROW()-6","v":40}]
[null,null,null,{"$f":"ROW()-6","v":41}]
[null,null,null,{"$f":"ROW()-6","v":42}]
[null,null,null,{"$f":"ROW()-6","v":43}]
[null,null,null,{"$f":"ROW()-6","v":44}]
[null,null,null,{"$f":"ROW()-6","v":45}]
[null,null,null,{"$f":"ROW()-6","v":46}]
[null,null,null,{"$f":"ROW()-6","v":47}]
[null,null,null,{"$f":"ROW()-6","v":48}]
[null,null,null,{"$f":"ROW()-6","v":49}]
[null,null,null,{"$f":"ROW()-6","v":50}]
[null,null,null,{"$f":"ROW()-6","v":51}]
[null,null,null,{"$f":"ROW()-6","v":52}]
[null,null,null,{"$f":"ROW()-6","v":53}]
[null,null,null,{"$f":"ROW()-6","v":54}]
[null,null,null,{"$f":"ROW()-6","v":55}]
[null,null,null,{"$f":"ROW()-6","v":56}]
[null,null,null,{"$f":"ROW()-6","v":57}]
[null,null,null,{"$f":"ROW()-6","v":58}]
[null,null,null,{"$f":"ROW()-6","v":59}]
[null,null,null,{"$f":"ROW()-6","v":60}]
[null,null,null,{"$f":"ROW()-6","v":61}]
[null,null,null,{"$f":"ROW()-6","v":62}]
[null,null,null,{"$f":"ROW()-6","v":63}]
[null,null,null,{"$f":"ROW()-6","v":64}]
[null,null,null,{"$f":"ROW()-6","v":65}]
[null,null,null,{"$f":"ROW()-6","v":66}]
[null,null,null,{"$f":"ROW()-6","v":67}]
[null,null,null,{"$f":"ROW()-6","v":68}]
[null,null,null,{"$f":"ROW()-6","v":69}]
[null,null,null,{"$f":"ROW()-6","v":70}]
[null,null,null,{"$f":"ROW()-6","v":71}]
[null,null,null,{"$f":"ROW()-6","v":72}]
[null,null,null,{"$f":"ROW()-6","v":73}]
[null,null,null,{"$f":"ROW()-6","v":74}]
[null,null,null,{"$f":"ROW()-6","v":75}]
[null,null,null,{"$f":"ROW()-6","v":76}]
[null,null,null,{"$f":"ROW()-6","v":77}]
[null,null,null,{"$f":"ROW()-6","v":78}]
[null,null,null,{"$f":"ROW()-6","v":79}]
[null,null,null,{"$f":"ROW()-6","v":80}]
[null,null,null,{"$f":"ROW()-6","v":81}]
[null,null,null,{"$f":"ROW()-6","v":82}]
[null,null,null,{"$f":"ROW()-6","v":83}]
[null,null,null,{"$f":"ROW()-6","v":84}]
[null,null,null,{"$f":"ROW()-6","v":85}]
[null,null,null,{"$f":"ROW()-6","v":86}]
[null,null,null,{"$f":"ROW()-6","v":87}]
[null,null,null,{"$f":"ROW()-6","v":88}]
[null,null,null,{"$f":"ROW()-6","v":89}]
[null,null,null,{"$f":"ROW()-6","v":90}]
[null,null,null,{"$f":"ROW()-6","v":91}]
[null,null,null,{"$f":"ROW()-6","v":92}]
[null,null,null,{"$f":"ROW()-6","v":93}]
[null,null,null,{"$f":"ROW()-6","v":94}]
[null,null,null,{"$f":"ROW()-6","v":95}]
[null,null,null,{"$f":"ROW()-6","v":96}]
[null,null,null,{"$f":"ROW()-6","v":97}]
[null,null,null,{"$f":"ROW()-6","v":98}]
[null,null,null,{"$f":"ROW()-6","v":99}]
[null,null,null,{"$f":"ROW()-6","v":100}]

{"sheet":"記録シート２","index":3,"n_rows":6,"n_cols":85,"rows_kept":6,"cut":false,"hidden":false,"merged":[[1,8,1,17],[3,3,3,5]]}
[]
[null,null,null,null,"保存記録シート",null,null,null,"保存転写されたものがすべてここに記録（格納）されます。不要な記録は番号を右クリックすることで消去できます。名前順、記録日付順でも検索できます。"]
[]
[null,null,"再現\nマクロ","灰色列部分を右クリックすると記録を再現します。",null,null,"名前順",null,"記録順"]
[null,null,"↓"]
[null,null,null,"番号","記録日","お名前","フリガナ","性別","生年月日","要介護度","初回","継続","自歯の使用あり","義歯の使用あり","食事介助の必要あり","その他（以下に記述）","経口移行加算","経口維持加算Ⅰ","経口維持加算Ⅱ","水飲みテスト","食事観察による確認","その他",18,"認知機能","咀嚼・口腔機能","嚥下機能",22,"確認日","協力医療機関","協力医療機関","観察・検討した日","医師・歯科医師","介護支援専門員","看護職員","施設長","管理栄養士","担当介護職員","ご家族","その他","その他","食事の環境","食事の形態","摂取の方法","療養食など","持病・治療","チェック41","チェック42","チェック43","チェック44","チェック45","チェック46","チェック47","チェック48","チェック49","チェック50","チェック51","チェック52","チェック53","チェック54","チェック55","チェック56","チェック57","チェック58","チェック59","チェック60","チェック61","食事形態の変化の必要性","データ","補助食の必要性","データ","食事介助方法","データ","口腔ケアの方法","データ","医療または歯科受診の必要性","データ","食事環境の変更の必要性","データ","その他","初回作成日","計画変更日","計画作成者","解決すべき課題や目標","ご家族の意見など","備　　考"]