{"text_format":"1","workbook":"xlsx","n_sheets":4,"sheets":["保存情報","バーセルインデックス","体力測定","BI利得"],"not_rendered":{"charts":0,"images":0,"macros":1,"external_links":0,"defined_names":2,"comments":0,"pivot_tables":0},"unopened":[],"bounds":{"document_bytes":16777216,"sheet_cells":100000,"rows_first":2000,"rows_last":500,"rows_between":2000,"halvings":0,"cell_chars":16384,"cell_head_chars":4096},"cells_cut":0,"cells_raw":0,"read":"whole","date_system":"1900"}

{"sheet":"保存情報","index":0,"n_rows":156,"n_cols":77,"rows_kept":156,"cut":false,"hidden":false,"merged":[[2,3,2,4],[3,49,3,55],[3,56,3,62],[3,63,3,69],[3,70,3,76],[2,12,2,16]]}
[]
[null,null,null,null,null,null,null,null,null,null,null,"削除番号"]
[null,null,null,"整列",null,null,null,null,null,null,null,null,{"$f":"IF(L3=\"\",\"\",VLOOKUP(L3,E7:F156,2)&\"様　を削除します。\")","v":""},null,null,null,null,{"$f":"IF(L3=\"\",\"\",\"削除\")","v":""}]
[null,null,null,null,null,null,"基本情報保存画面",null,null,null,null,null,null,null,null,null,null,null,null,null,null,null,null,null,null,null,null,null,null,null,null,null,null,null,null,null,null,null,null,null,null,null,null,null,null,null,null,null,null,"第1回",null,null,null,null,null,null,"第2回",null,null,null,null,null,null,"第３回",null,null,null,null,null,null,"第4回"]
[]
[null,null,null,null,"番号","お名前","フリガナ","性別","生年月日","介護度","測定年月日","食事","車椅子からベッドへの移動","整容","トイレ移動","入浴","歩行","階段昇降","着替え","排便コントロール","排尿コントロール","合計得点","担当者","前回測定日","食事","車椅子からベッドへの移動","整容","トイレ移動","入浴","歩行","階段昇降","着替え","排便コントロール","排尿コントロール","合計得点","前々回測定日","食事","車椅子からベッドへの移動","整容","トイレ移動","入浴","歩行","階段昇降","着替え","排便コントロール","排尿コントロール","合計得点","測定開始日","年間測定回数","握力(右)","握力(左)","通常歩行測定","立ち上がり","片足立ち","コーン廻り","評価","握力(右)","握力(左)","通常歩行測定","立ち上がり","片足立ち","コーン廻り","評価","握力(右)","握力(左)","通常歩行測定","立ち上がり","片足立ち","コーン廻り","評価","握力(右)","握力(左)","通常歩行測定","立ち上がり","片足立ち","コーン廻り","評価"]
[null,null,null,null,{"$f":"ROW()-6","v":1},"葵わかな","アオイワカナ","女","1928-03-15",1,"2018-10-03",10,2,3,4,5,6,7,8,9,10,64]
[null,null,null,null,2,"安倍晋三","アベシンゾウ","男","1941-09-21",2,"2018-07-17",10,2,3,4,5,6,7,8,9,10,64]
[null,null,null,null,3,"天地真理","アマチマリ","女","1931-01-02",1,"2018-09-18",10,2,3,4,5,6,7,8,9,10,64]
[null,null,null,null,4,"綾瀬はるか","アヤセハルカ","女","1930-03-23",2,"2018-07-31",10,2,3,4,5,6,7,8,9,10,64]
[null,null,null,null,5,"新垣結衣","アラガキユイ","女","1932-04-05",2,"2018-09-27",10,2,3,4,5,6,7,8,9,10,64]
[null,null,null,null,6,"有村架純","アリムラカスミ","女","1929-01-25",2,"2018-07-10",10,15,3,4,5,6,7,8,9,10,77]
[null,null,null,null,7,"杏","アン","女","1934-12-16",2,"2018-07-19",10,2,3,4,5,6,7,8,9,10,64]
[null,null,null,null,8,"井川遥","イガワハルカ","女","1940-09-09",3,"2018-08-27",5,2,3,4,5,6,7,8,9,10,59]
[null,null,null,null,9,"石原さとみ","イシハラサトミ","女","1930-01-14",2,"2018-07-30",10,2,3,4,5,6,7,8,9,10,64]
[null,null,null,null,10,"上戸彩","ウエドアヤ","女","1944-09-23","要支援１","2018-08-22",10,2,3,4,5,6,7,8,9,10,64]
[null,null,null,null,11,"浦島太郎","ウラシマタロウ","男","1934-05-26",1,"2018-09-30",5,2,3,4,5,6,7,8,9,10,59]
[null,null,null,null,12,"岡村隆史","オカムラタカシ","男","1929-01-01",3,"2018-09-16",10,2,3,4,5,6,7,8,9,10,64]
[null,null,null,null,13,"織田信長","オダノブナガ","男","1938-01-26","要支援１","2018-08-04",10,15,5,10,0,10,5,5,10,10,80]
[null,null,null,null,14,"桂小五郎","カツラコゴロウ","男","1929-11-18","要支援２","2018-08-26",10,2,3,4,5,6,7,8,9,10,64]
[null,null,null,null,15,"川栄李奈","カワエイリナ","女","1926-03-28",1,"2018-09-13",10,2,3,4,5,6,7,8,9,10,64]
[null,null,null,null,16,"川口春奈","カワグチハルナ","女","1934-04-20",2,"2018-07-27",10,2,3,4,5,6,7,8,9,10,64]
[null,null,null,null,17,"岸田京子","キシダキョウコ","女","1922-04-18",2,"2018-08-02",10,15,5,5,5,15,5,5,5,10,80,"橋爪美雪","-",0,0,0,0,0,0,0,0,0,0,0,"-",0,0,0,0,0,0,0,0,0,0,0,44,45,46,47,48,49,50,51,52,53,54,55,56,57,58,59,60,61,62,63,64,65,66,67,68,69,70,71,72,99]
[null,null,null,null,18,"北川景子","キタガワケイコ","女","1933-09-10",2,"2018-08-30",10,2,3,4,5,6,7,8,9,10,64]
[null,null,null,null,19,"吉瀬美智子","キチセミチコ","女","1926-12-20","要支援２","2018-07-18",10,2,3,4,5,6,7,8,9,10,64]
[null,null,null,null,20,"桐島かれん","キリシマカレン","女","1931-06-02",4,"2018-07-08",10,15,3,4,5,6,7,8,9,10,77]
[null,null,null,null,21,"桐谷美玲","キリタニミレイ","女",null,1,"2018-08-28",10,2,3,4,5,6,7,8,9,10,64]
[null,null,null,null,22,"金田一耕助","キンダイチコウスケ","男","1943-04-04",3,"2018-07-29",5,2,3,4,5,6,7,8,9,10,59]
[null,null,null,null,23,"金太郎","キンタロウ","男","1935-09-01",3,"2018-10-01",10,2,3,4,5,6,7,8,9,10,64]
[null,null,null,null,24,"栗山千明","クリヤマチアキ","女","1934-08-17","要支援１","2018-08-12",10,15,3,4,5,6,7,8,9,10,77]
[null,null,null,null,25,"黒木華","クロキハナ","女","1928-09-25",1,"2018-07-28",10,2,3,4,5,6,7,8,9,10,64]
[null,null,null,null,26,"黒木瞳","クロキヒトミ","女","1930-02-07",1,"2018-08-18",10,2,3,4,5,6,7,8,9,10,64]
[null,null,null,null,27,"黒木メイサ","クロキメイサ","女","1933-10-22",1,"2018-08-14",10,2,3,4,5,6,7,8,9,10,64]
[null,null,null,null,28,"小泉今日子","コイズミキョウコ","女","1939-11-24",1,"2018-07-05",10,15,0,5,0,15,10,5,5,5,70,"橋爪美幸","-",0,0,0,0,0,0,0,0,0,0,0,"-",0,0,0,0,0,0,0,0,0,0,0,"2017-03-01",4,20,25,15,30,25,19,"やる気十分",21,22,25,15,31,19,"退院直後なので、基礎体力の低下が見られます。",22,20,25,15,19,20,"握力が低下しています",20,20,20,25,19,18,"リハビリに対して熱意があります。仲間を誘っての活動にも定評があり、歩行距離は１００ｍに伸びました。"]
[null,null,null,null,29,"小泉孝太郎","コイズミコウタロウ","男","1936-11-12","要支援１","2018-08-21",10,2,3,4,5,6,7,8,9,10,64]
[null,null,null,null,30,"小泉純一郎","コイズミジュンイチロウ","男","1926-08-24",3,"2018-07-07",10,15,3,4,5,6,7,8,9,10,77]
[null,null,null,null,31,"倖田來未","コウダクミ","女","1929-03-25",5,"2018-09-09",0,2,3,4,5,6,7,8,9,10,54]
[null,null,null,null,32,"小嶋陽菜","コジマハルナ","女","1931-12-24",1,"2018-09-14",10,2,3,4,5,6,7,8,9,10,64]
[null,null,null,null,{"$f":"ROW()-6","v":33},"小松奈々","コマツナナ","女","1943-04-14",1,"2018-07-26",10,2,3,4,5,6,7,8,9,10,64]
[null,null,null,null,34,"小柳ルミ子","コヤナギルミコ","女","1929-06-06",3,"2018-09-10",10,2,3,4,5,6,7,8,9,10,64]
[null,null,null,null,35,"小雪","コユキ","女","1932-01-21",1,"2018-08-16",10,2,3,4,5,6,7,8,9,10,64]
[null,null,null,null,36,"西郷隆盛","サイゴウタカモリ","男","1933-07-09",3,"2018-08-03",5,10,0,5,0,10,5,5,5,0,45]
[null,null,null,null,37,"西城秀樹","サイジョウヒデキ","男","1951-02-06",2,"2018-07-12",5,5,3,4,5,6,7,8,9,10,62]
[null,null,null,null,38,"佐々木希","ササキノゾミ","女","1930-07-27",2,"2018-08-29",10,2,3,4,5,6,7,8,9,10,64]
[null,null,null,null,39,"シシドカフカ","シシドカフカ","女","1935-09-18",1,"2018-07-15",10,2,3,4,5,6,7,8,9,10,64]
[null,null,null,null,40,"静御前","シズカゴゼン","女","1933-07-09",2,"2018-08-05",10,15,5,10,0,10,5,5,10,10,80]
[null,null,null,null,41,"志田未来","シダミライ","女","1938-12-15","要支援１","2018-09-07",10,2,3,4,5,6,7,8,9,10,64]
[null,null,null,null,42,"篠原涼子","シノハラリョウコ","女","1929-01-30","要支援２","2018-07-25",10,2,3,4,5,6,7,8,9,10,64]
[null,null,null,null,43,"柴崎コウ","シバザキコウ","女","1928-03-25",2,"2018-08-25",10,2,3,4,5,6,7,8,9,10,64]
[null,null,null,null,44,"島倉千代子","シマクラチヨコ","女","1931-01-23",2,"2018-09-28",10,2,3,4,5,6,7,8,9,10,64]
[null,null,null,null,45,"杉咲花","スギサキハナ","女","1935-01-03",1,"2018-09-12",10,2,3,4,5,6,7,8,9,10,64]
[null,null,null,null,46,"鈴木亮平","スズキリョウヘイ","男","1929-03-25",3,"2018-08-19",10,2,3,4,5,6,7,8,9,10,64]
[null,null,null,null,47,"清少納言","セイショウナゴン","女","1950-10-04",3,"2018-08-06",10,15,3,4,5,6,7,8,9,10,77]
[null,null,null,null,48,"関根勤","セキネツトム","男","1928-07-14",1,"2018-09-22",10,2,3,4,5,6,7,8,9,10,64]
[null,null,null,null,49,"関根麻里","セキネマリ","女","1934-09-03",3,"2018-09-19",10,2,3,4,5,6,7,8,9,10,64]
[null,null,null,null,50,"高畑充希","タカハタミツキ","女","1937-07-24",2,"2018-09-24",10,2,3,4,5,6,7,8,9,10,64]
[null,null,null,null,51,"武井咲","タケイエミ","女","1925-01-02",3,"2018-07-20",10,2,3,4,5,6,7,8,9,10,64]
[null,null,null,null,52,"多部未華子","タベミカコ","女","1922-01-11",4,"2018-09-06",0,2,3,4,5,6,7,8,9,10,54]
[null,null,null,null,53,"ダレノガレ明美","ダレノガレアケミ","女","1929-09-15","要支援２","2018-07-14",10,2,3,4,5,6,7,8,9,10,64]
[null,null,null,null,54,"チコちゃん","チコチャン","女","1932-04-25",3,"2018-08-10",0,0,3,4,5,6,7,8,9,10,52]
[null,null,null,null,55,"土屋太鳳","ツチヤタオ","女","1930-03-28","要支援１","2018-09-26",10,2,3,4,5,6,7,8,9,10,64]
[null,null,null,null,56,"堂本明子","ドウモトアキコ","女","1925-01-03",2,"2018-07-11",5,0,3,4,5,6,7,8,9,10,57]
[null,null,null,null,57,"戸田恵梨香","トダエリカ","女","1928-01-25",2,"2018-09-20",10,2,3,4,5,6,7,8,9,10,64]
[null,null,null,null,58,"豊臣秀吉","トヨトミヒデヨシ","男","1938-10-20",1,"2018-10-02",10,2,3,4,5,6,7,8,9,10,64]
[null,null,null,null,59,"長澤まさみ","ナガサワマサミ","女","1929-12-15",1,"2018-09-29",10,2,3,4,5,6,7,8,9,10,64]
[null,null,null,null,60,"中谷美紀","ナカタニミキ","女","1922-10-24",1,"2018-07-23",10,2,3,4,5,6,7,8,9,10,64]
[null,null,null,null,61,"永野芽郁","ナガノメイ","女","1933-04-15",1,"2018-08-01",10,2,3,4,5,6,7,8,9,10,64]
[null,null,null,null,62,"仲間由紀恵","ナカマユキエ","女","1935-06-24",1,"2018-07-21",10,2,3,4,5,6,7,8,9,10,64]
[null,null,null,null,63,"中村アン","ナカムラアン","女","1936-08-17",2,"2018-07-13",10,10,3,4,5,6,7,8,9,10,72]
[null,null,null,null,64,"菜々緒","ナナオ","女","1927-01-03",4,"2018-08-11",0,0,3,4,5,6,7,8,9,10,52]
[null,null,null,null,{"$f":"ROW()-6","v":65},"二階堂ふみ","ニカイドウフミ","女","1933-02-12",1,"2018-09-02",10,2,3,4,5,6,7,8,9,10,64]
[null,null,null,null,66,"錦戸亮","ニシキドリョウ","男","1932-08-01","要支援２","2018-07-22",10,2,3,4,5,6,7,8,9,10,64]
[null,null,null,null,67,"のん","ノン","女","1928-10-05",2,"2018-09-11",10,2,3,4,5,6,7,8,9,10,64]
[null,null,null,null,68,"長谷川潤","ハセガワジュン","女","1936-09-17",2,"2018-07-16",10,2,3,4,5,6,7,8,9,10,64]
[null,null,null,null,69,"波留","ハル","女","1943-03-14","要支援１","2018-09-01",10,2,3,4,5,6,7,8,9,10,64]
[null,null,null,null,70,"光源氏","ヒカルゲンジ","男","1921-02-10",1,"2018-08-20",10,2,3,4,5,6,7,8,9,10,64]
[null,null,null,null,71,"広瀬アリス","ヒロセアリス","女","1926-11-28",5,"2018-09-15",0,2,3,4,5,6,7,8,9,10,54]
[null,null,null,null,72,"広瀬すず","ヒロセスズ","女","1953-03-28","要支援１","2018-08-31",10,2,3,4,5,6,7,8,9,10,64]
[null,null,null,null,73,"深田恭子","フカダキョウコ","女","1927-11-01",3,"2018-07-09",10,15,3,4,5,6,7,8,9,10,77]
[null,null,null,null,74,"本田宗一郎","ホンダソウイチロウ","男","1922-11-09","要支援１","2018-09-03",10,2,3,4,5,6,7,8,9,10,64]
[null,null,null,null,75,"本田翼","ホンダツバサ","女","1937-08-24",3,"2018-09-04",10,2,3,4,5,6,7,8,9,10,64]
[null,null,null,null,76,"真木よう子","マキヨウコ","女","1933-01-19",2,"2018-08-15",10,2,3,4,5,6,7,8,9,10,64]
[null,null,null,null,77,"松岡修造","マツオカシュウゾウ","男","1934-12-13",1,"2018-09-08",10,2,3,4,5,6,7,8,9,10,64]
[null,null,null,null,78,"松岡茉優","マツオカマユ","女","1933-04-12","要支援１","2018-09-17",10,2,3,4,5,6,7,8,9,10,64]
[null,null,null,null,79,"松島智子","マツシマトモコ","女","1931-06-21",1,"2018-08-09",10,15,3,4,5,6,7,8,9,10,77]
[null,null,null,null,80,"松嶋菜々子","マツシマナナコ","女","1926-09-11",3,"2018-07-24",10,2,3,4,5,6,7,8,9,10,64]
[null,null,null,null,81,"松田聖子","マツダセイコ","女","1937-09-20","要支援１","2018-08-08",10,15,3,4,5,6,7,8,9,10,77]
[null,null,null,null,82,"松本明子","マツモトアキコ","女","1925-10-02",5,"2018-08-07",0,0,3,4,5,6,7,8,9,10,52]
[null,null,null,null,83,"山口百恵","ヤマグチモモエ","女","1943-01-02",1,"2018-07-06",10,15,5,10,5,15,5,10,10,10,95]
[null,null,null,null,84,"吉岡里穂","ヨシオカリホ","女","1931-09-05",2,"2018-09-25",10,2,3,4,5,6,7,8,9,10,64]
[null,null,null,null,85,"吉高由里子","ヨシタカユリコ","女","1935-01-02",1,"2018-09-23",5,2,3,4,5,6,7,8,9,10,59]
[null,null,null,null,86,"ローラ","ローラ","女","1937-11-15",2,"2018-08-13",10,2,3,4,5,6,7,8,9,10,64]
[null,null,null,null,87]
[null,null,null,null,88]
[null,null,null,null,89]
[null,null,null,null,90]
[null,null,null,null,91]
[null,null,null,null,92]
[null,null,null,null,93]
[null,null,null,null,94]
[null,null,null,null,95]
[null,null,null,null,96]
[null,null,null,null,{"$f":"ROW()-6","v":97}]
[null,null,null,null,98]
[null,null,null,null,99]
[null,null,null,null,100]
[null,null,null,null,101]
[null,null,null,null,102]
[null,null,null,null,103]
[null,null,null,null,104]
[null,null,null,null,105]
[null,null,null,null,106]
[null,null,null,null,107]
[null,null,null,null,108]
[null,null,null,null,109]
[null,null,null,null,110]
[null,null,null,null,111]
[null,null,null,null,112]
[null,null,null,null,113]
[null,null,null,null,114]
[null,null,null,null,115]
[null,null,null,null,116]
[null,null,null,null,117]
[null,null,null,null,118]
[null,null,null,null,119]
[null,null,null,null,120]
[null,null,null,null,121]
[null,null,null,null,122]
[null,null,null,null,123]
[null,null,null,null,124]
[null,null,null,null,125]
[null,null,null,null,126]
[null,null,null,null,127]
[null,null,null,null,128]
[null,null,null,null,{"$f":"ROW()-6","v":129}]
[null,null,null,null,130]
[null,null,null,null,131]
[null,null,null,null,132]
[null,null,null,null,133]
[null,null,null,null,134]
[null,null,null,null,135]
[null,null,null,null,136]
[null,null,null,null,137]
[null,null,null,null,138]
[null,null,null,null,139]
[null,null,null,null,140]
[null,null,null,null,141]
[null,null,null,null,142]
[null,null,null,null,143]
[null,null,null,null,144]
[null,null,null,null,145]
[null,null,null,null,146]
[null,null,null,null,147]
[null,null,null,null,148]
[null,null,null,null,149]
[null,null,null,null,150]

{"sheet":"バーセルインデックス","index":1,"n_rows":48,"n_cols":90,"rows_kept":48,"cut":false,"hidden":false,"merged":[[47,32,49,32],[42,18,44,18],[42,19,44,19],[42,30,44,30],[42,32,44,32],[43,20,43,28],[44,20,44,28],[39,18,41,18],[39,19,41,19],[39,20,39,28],[39,30,41,30],[39,32,41,32],[40,20,40,28],[41,20,41,28],[47,30,49,30],[42,20,42,28],[36,30,38,30],[36,32,38,32],[37,20,37,28],[38,20,38,28],[33,18,35,18],[33,19,35,19],[33,20,33,28],[33,30,35,30],[33,32,35,32],[34,20,34,28],[35,20,35,28],[36,18,38,18],[36,19,38,19],[36,20,36,28],[29,18,32,18],[29,19,32,19],[29,20,29,28],[29,30,32,30],[29,32,32,32],[30,20,30,28],[31,20,31,28],[32,20,32,28],[27,18,28,18],[27,19,28,19],[27,20,27,28],[27,30,28,30],[27,32,28,32],[28,20,28,28],[24,19,26,19],[24,20,24,28],[24,30,26,30],[24,32,26,32],[25,20,25,28],[26,20,26,28],[22,18,23,18],[22,19,23,19],[22,20,22,28],[22,30,23,30],[22,32,23,32],[23,20,23,28],[24,18,26,18],[15,32,17,32],[16,20,16,28],[17,20,17,28],[14,18,14,19],[14,20,14,28],[15,18,17,18],[18,18,21,18],[18,19,21,19],[18,20,18,28],[18,30,21,30],[18,32,21,32],[19,20,19,28],[20,20,20,28],[21,20,21,28],[15,30,17,30],[9,24,9,25],[47,15,49,15],[27,13,28,13],[29,13,32,13],[23,3,23,11],[29,3,29,11],[30,3,30,11],[31,3,31,11],[32,3,32,11],[24,13,26,13],[33,3,33,11],[34,3,34,11],[39,3,39,11],[41,3,41,11],[24,3,24,11],[25,3,25,11],[26,3,26,11],[36,3,36,11],[37,3,37,11],[40,3,40,11],[35,3,35,11],[29,15,32,15],[15,19,17,19],[15,20,15,28],[9,7,9,8],[22,3,22,11],[38,3,38,11],[8,10,8,13],[8,8,8,9],[2,15,2,16],[15,1,17,1],[18,1,21,1],[27,1,28,1],[27,2,28,2],[27,3,27,11],[28,3,28,11],[24,1,26,1],[15,2,17,2],[15,13,17,13],[18,13,21,13],[22,13,23,13],[15,3,15,11],[16,3,16,11],[17,3,17,11],[14,1,14,2],[14,3,14,11],[24,2,26,2],[22,1,23,1],[22,2,23,2],[18,2,21,2],[18,3,18,11],[19,3,19,11],[20,3,20,11],[21,3,21,11],[42,1,44,1],[42,2,44,2],[43,3,43,11],[44,3,44,11],[29,1,32,1],[29,2,32,2],[33,1,35,1],[33,2,35,2],[33,13,35,13],[36,1,38,1],[36,2,38,2],[36,13,38,13],[39,1,41,1],[39,2,41,2],[39,13,41,13],[42,3,42,11],[47,13,49,13],[42,13,44,13],[47,11,49,11],[42,16,44,16],[47,16,49,16],[33,15,35,15],[36,15,38,15],[39,15,41,15],[42,15,44,15],[15,15,17,15],[18,15,21,15],[22,15,23,15],[24,15,26,15],[27,15,28,15],[15,16,17,16],[18,16,21,16],[22,16,23,16],[24,16,26,16],[27,16,28,16],[29,16,32,16],[33,16,35,16],[36,16,38,16],[39,16,41,16],[6,1,7,13],[9,11,9,13],[10,9,10,12],[11,9,11,12],[6,18,7,30],[8,25,8,26],[8,27,8,30],[9,20,9,22],[9,26,9,27],[9,28,9,30],[10,18,11,19],[10,20,11,22],[10,23,11,23],[10,24,11,25],[10,26,10,29],[11,26,11,29],[9,9,9,10],[9,1,9,2],[10,1,11,2],[10,6,11,6],[10,3,11,5],[9,3,9,5],[10,7,11,8],[9,18,9,19],[47,33,49,33],[6,35,7,47],[8,42,8,43],[8,44,8,47],[9,35,9,36],[9,37,9,39],[9,41,9,42],[9,43,9,44],[9,45,9,47],[10,35,11,36],[10,37,11,39],[10,40,11,40],[10,41,11,42],[10,43,10,46],[22,35,23,35],[22,36,23,36],[22,37,22,45],[22,47,23,47],[27,35,28,35],[27,36,28,36],[27,37,27,45],[27,47,28,47],[15,33,17,33],[18,33,21,33],[11,43,11,46],[14,35,14,36],[14,37,14,45],[15,35,17,35],[15,36,17,36],[15,37,15,45],[15,47,17,47],[15,49,17,49],[42,33,44,33],[22,33,23,33],[24,33,26,33],[27,33,28,33],[29,33,32,33],[33,33,35,33],[36,33,38,33],[39,33,41,33],[22,49,23,49],[33,35,35,35],[33,36,35,36],[33,37,33,45],[33,47,35,47],[33,49,35,49],[39,35,41,35],[39,36,41,36],[15,50,17,50],[16,37,16,45],[17,37,17,45],[18,35,21,35],[18,36,21,36],[18,37,18,45],[18,47,21,47],[18,49,21,49],[18,50,21,50],[19,37,19,45],[20,37,20,45],[21,37,21,45],[22,50,23,50],[23,37,23,45],[24,35,26,35],[24,36,26,36],[24,37,24,45],[24,47,26,47],[24,49,26,49],[24,50,26,50],[25,37,25,45],[26,37,26,45],[27,50,28,50],[28,37,28,45],[29,35,32,35],[29,36,32,36],[29,37,29,45],[29,47,32,47],[29,49,32,49],[29,50,32,50],[30,37,30,45],[31,37,31,45],[32,37,32,45],[33,50,35,50],[34,37,34,45],[35,37,35,45],[36,35,38,35],[36,36,38,36],[36,37,36,45],[36,47,38,47],[36,49,38,49],[36,50,38,50],[37,37,37,45],[38,37,38,45],[39,37,39,45],[39,47,41,47],[39,49,41,49],[39,50,41,50],[40,37,40,45],[41,37,41,45],[42,35,44,35],[42,36,44,36],[42,47,44,47],[42,49,44,49],[42,50,44,50],[43,37,43,45],[44,37,44,45],[42,37,42,45],[47,47,49,47],[47,49,49,49],[47,50,49,50],[15,54,17,54],[15,55,17,55],[18,54,21,54],[18,55,21,55],[22,54,23,54],[22,55,23,55],[24,54,26,54],[24,55,26,55],[27,54,28,54],[27,55,28,55],[29,54,32,54],[29,55,32,55],[33,54,35,54],[33,55,35,55],[36,54,38,54],[36,55,38,55],[39,54,41,54],[39,55,41,55],[42,54,44,54],[42,55,44,55],[27,49,28,49]]}
[]
[null,null,"コード"]
[null,null,1,null,"呼出",null,"印刷",null,null,null,1,"～",2,null,null,"連続印刷",null,null,null,"戻る",null,"保存",null,"更新",null,null,null,null,null,null,null,null,null,null,null,null,"戻る",null,"保存",null,"更新"]
[]
[]
[]
[null,"機能的評価：Ｂａｒｔｈｅｌ　Ｉｎｄｅｘ",null,null,null,null,null,null,null,null,null,null,null,null,null,null,null,null,"機能的評価：Ｂａｒｔｈｅｌ　Ｉｎｄｅｘ",null,null,null,null,null,null,null,null,null,null,null,null,null,null,null,null,"機能的評価：Ｂａｒｔｈｅｌ　Ｉｎｄｅｘ"]
[null,null,null,null,null,null,null,null,null,null,null,null,null,null,null,null,null,null,null,null,null,null,null,null,null,null,null,null,null,null,null,null,null,null,null,null,null,null,null,null,null,null,null,null,null,null,null,null,null,null,null,null,null,null,null,"登録者数"]
[null,null,null,null,null,null,null,null,"事業所名",null,"デイサービスたつみの森",null,null,null,null,null,null,null,null,null,null,null,null,null,null,"事業所名",null,"デイサービスたつみの森",null,null,null,null,null,null,null,null,null,null,null,null,null,null,"事業所名",null,"デイサービスたつみの森",null,null,null,null,null,null,null,null,{"$f":"NOW()","v":"2018-07-27T00:41:13.280"},null,{"$f":"COUNTA(保存情報!F7:F156)","v":86}]
[null,"フリガナ",null,{"$f":"IF($C$3=\"\",\"\",VLOOKUP($C$3,保存情報!$E$5:$BL$156,3))","v":"アオイワカナ"},null,null,"性別","介護度",null,"記録作成者",null,{"$f":"IF($C$3=\"\",\"\",VLOOKUP($C$3,保存情報!$E$5:$BL$156,19))","v":0},null,null,null,null,null,null,"フリガナ",null,"コイズミキョウコ",{"$error":"#REF!"},{"$error":"#REF!"},"性別","介護度",null,"記録作成者",null,"橋爪美幸",null,null,null,null,null,null,"フリガナ",null,{"$f":"$D$10","v":"アオイワカナ"},{"$f":"E10","v":0},0,"性別","介護度",null,"記録作成者",null,{"$f":"$L$10","v":0}]
[null,"氏名",null,{"$f":"IF($C$3=\"\",\"\",VLOOKUP($C$3,保存情報!$E$5:$BL$156,2))","v":"葵わかな"},null,null,{"$f":"IF($C$3=\"\",\"\",VLOOKUP($C$3,保存情報!$E$5:$BL$156,4))","v":"女"},{"$f":"IF($C$3=\"\",\"\",VLOOKUP($C$3,保存情報!$E$5:$BL$156,6))","v":1},null,"生年月日",null,null,null,"年齢",null,null,null,null,"氏名",null,"小泉今日子",null,null,"女",1,{"$error":"#REF!"},"生年月日",null,null,null,"年齢",null,null,null,null,"氏名",null,{"$f":"$D$11","v":"葵わかな"},null,null,{"$f":"$G$11","v":"女"},{"$f":"$H$11","v":1},{"$f":"I11","v":0},"生年月日",null,null,null,"年齢",null,null,null,null,null,"測定年月日","食事","車椅子からベッドへの移動","整容","トイレ移動","入浴","歩行","階段昇降","着替え","排便コントロール","排尿コントロール","合計得点","記録者","前回測定日","食事","車椅子からベッドへの移動","整容","トイレ移動","入浴","歩行","階段昇降","着替え","排便コントロール","排尿コントロール","合計得点","前回測定日","食事","車椅子からベッドへの移動","整容","トイレ移動","入浴","歩行","階段昇降","着替え","排便コントロール","排尿コントロール","合計得点"]
[null,null,null,null,null,null,null,null,null,{"$f":"IF($C$3=\"\",\"\",VLOOKUP($C$3,保存情報!$E$5:$BL$156,5))","v":"1928-03-15"},null,null,null,{"$f":"IF($C$3=\"\",\"\",IF($J$12=0,\"\",DATEDIF($J$12,TODAY(),\"y\")))","v":90},null,null,null,null,null,null,null,null,null,{"$error":"#REF!"},{"$error":"#REF!"},{"$error":"#REF!"},"1939-11-24",{"$error":"#REF!"},{"$error":"#REF!"},{"$error":"#REF!"},78,null,null,null,null,null,null,null,null,null,{"$f":"G12","v":0},{"$f":"H12","v":0},0,{"$f":"$J$12","v":"1928-03-15"},{"$f":"K12","v":"00:00:00"},"00:00:00","00:00:00",{"$f":"$N$12","v":90},null,null,null,null,null,{"$f":"$AE$14","v":"2018-07-05"},{"$f":"$AE$16","v":10},{"$f":"$AE$19","v":15},{"$f":"$AE$23","v":0},{"$f":"$AE$25","v":5},{"$f":"$AE$28","v":0},{"$f":"$AE$30","v":15},{"$f":"$AE$34","v":10},{"$f":"$AE$37","v":5},{"$f":"$AE$40","v":5},{"$f":"$AE$43","v":5},{"$f":"$AE$48","v":70},{"$f":"$AC$10","v":"橋爪美幸"},{"$f":"$AG$14","v":"-"},{"$f":"$AG$16","v":0},{"$f":"$AG$19","v":0},{"$f":"$AG$23","v":0},{"$f":"$AG$25","v":0},{"$f":"$AG$28","v":0},{"$f":"$AG$30","v":0},{"$f":"$AG$34","v":0},{"$f":"$AG$37","v":0},{"$f":"$AG$40","v":0},{"$f":"$AG$43","v":0},{"$f":"$AG$48","v":0},{"$f":"$AH$14","v":"-"},{"$f":"$AH$16","v":0},{"$f":"$AH$19","v":0},{"$f":"$AH$23","v":0},{"$f":"$AH$25","v":0},{"$f":"$AH$28","v":0},{"$f":"$AH$30","v":0},{"$f":"$AH$34","v":0},{"$f":"$AH$37","v":0},{"$f":"$AH$40","v":0},{"$f":"$AH$43","v":0},{"$f":"$AH$48","v":0}]
[]
[null,null,null,null,null,null,null,null,null,null,null,null,null,{"$f":"IF($C$3=\"\",\"\",VLOOKUP($C$3,保存情報!$E$5:$BL$156,7))","v":"2018-10-03"},null,{"$f":"IF($C$3=\"\",\"\",IF(VLOOKUP($C$3,保存情報!$E$5:$BL$156,20)=0,\"-\",VLOOKUP($C$3,保存情報!$E$5:$BL$156,20)))","v":"-"},{"$f":"IF($C$3=\"\",\"\",IF(VLOOKUP($C$3,保存情報!$E$5:$BL$156,20)=0,\"-\",VLOOKUP($C$3,保存情報!$E$5:$BL$156,32)))","v":"-"},null,null,null,null,null,null,null,null,null,null,null,null,null,"2018-07-05",null,"-","-",null,null,null,null,null,null,null,null,null,null,null,null,null,{"$f":"$N$14","v":"2018-10-03"},null,{"$f":"$P$14","v":"-"},{"$f":"$Q$14","v":"-"},null,null,null,"-","-"]
[null,"設問",null,"設問内容",null,null,null,null,null,null,null,null,"点数","得点",null,"前回","前々回",null,"設問",null,"設問内容",null,null,null,null,null,null,null,null,"点数","得点",null,"前回","前々回",null,"設問",null,"設問内容",null,null,null,null,null,null,null,null,"点数","得点",null,"前回","前々回",null,null,null,"前回","前々回"]
[null,1,"食事","自立、自助具などの装着可、標準的時間内に食べ終える",null,null,null,null,null,null,null,null,"１０",{"$f":"IF($C$3=\"\",\"\",VLOOKUP($C$3,保存情報!$E$5:$BL$156,8))","v":10},null,{"$f":"IF($C$3=\"\",\"\",VLOOKUP($C$3,保存情報!$E$5:$BL$156,21))","v":0},{"$f":"IF($C$3=\"\",\"\",VLOOKUP($C$3,保存情報!$E$5:$BL$156,33))","v":0},null,1,"食事","自立、自助具などの装着可、標準的時間内に食べ終える",null,null,null,null,null,null,null,null,"１０",10,null,0,0,null,1,"食事","自立、自助具などの装着可、標準的時間内に食べ終える",null,null,null,null,null,null,null,null,"１０",{"$f":"$N$16","v":10},null,{"$f":"IF($C$3=\"\",\"\",VLOOKUP($C$3,保存情報!$E$5:$BL$156,21))","v":0},{"$f":"IF($C$3=\"\",\"\",VLOOKUP($C$3,保存情報!$E$5:$BL$156,33))","v":0},null,null,null,0,0]
[null,null,null,"部分介助（たとえば、おかずを切って細かくしてもらう）",null,null,null,null,null,null,null,null,"５",null,null,null,null,null,null,null,"部分介助（たとえば、おかずを切って細かくしてもらう）",null,null,null,null,null,null,null,null,"５",{"$error":"#REF!"},null,null,null,null,null,null,"部分介助（たとえば、おかずを切って細かくしてもらう）",null,null,null,null,null,null,null,null,"５",{"$f":"N17","v":0}]
[null,null,null,"全介助 ",null,null,null,null,null,null,null,null,"０",null,null,null,null,null,null,null,"全介助 ",null,null,null,null,null,null,null,null,"０",{"$error":"#REF!"},null,null,null,null,null,null,"全介助 ",null,null,null,null,null,null,null,null,"０",0]
[null,2,"車椅子からベッドへの移動","自立、ブレーキ、フットレストの操作も含む（非行自立も含む）",null,null,null,null,null,null,null,null,"１５",{"$f":"IF($C$3=\"\",\"\",VLOOKUP($C$3,保存情報!$E$5:$BL$156,9))","v":2},null,{"$f":"IF($C$3=\"\",\"\",VLOOKUP($C$3,保存情報!$E$5:$BL$156,22))","v":0},{"$f":"IF($C$3=\"\",\"\",VLOOKUP($C$3,保存情報!$E$5:$BL$156,34))","v":0},null,2,"車椅子からベッドへの移動","自立、ブレーキ、フットレストの操作も含む（非行自立も含む）",null,null,null,null,null,null,null,null,"１５",15,null,0,0,null,2,"車椅子からベッドへの移動","自立、ブレーキ、フットレストの操作も含む（非行自立も含む）",null,null,null,null,null,null,null,null,"１５",{"$f":"$N$19","v":2},null,{"$f":"IF($C$3=\"\",\"\",VLOOKUP($C$3,保存情報!$E$5:$BL$156,22))","v":0},{"$f":"IF($C$3=\"\",\"\",VLOOKUP($C$3,保存情報!$E$5:$BL$156,34))","v":0},null,null,null,0,0]
[null,null,null,"軽度の部分介助または監視を要する",null,null,null,null,null,null,null,null,"１０",null,null,null,null,null,null,null,"軽度の部分介助または監視を要する",null,null,null,null,null,null,null,null,"１０",{"$error":"#REF!"},null,null,null,null,null,null,"軽度の部分介助または監視を要する",null,null,null,null,null,null,null,null,"１０",0]
[null,null,null,"座ることは可能であるがほぼ全介助 ",null,null,null,null,null,null,null,null,"５",null,null,null,null,null,null,null,"座ることは可能であるがほぼ全介助 ",null,null,null,null,null,null,null,null,"５",{"$error":"#REF!"},null,null,null,null,null,null,"座ることは可能であるがほぼ全介助 ",null,null,null,null,null,null,null,null,"５",0]
[null,null,null,"全介助または不可能 ",null,null,null,null,null,null,null,null,"０",null,null,null,null,null,null,null,"全介助または不可能 ",null,null,null,null,null,null,null,null,"０",{"$error":"#REF!"},null,null,null,null,null,null,"全介助または不可能 ",null,null,null,null,null,null,null,null,"０",0]
[null,3,"整容","自立（洗面、整髪、歯磨き、ひげ剃り） ",null,null,null,null,null,null,null,null,"５",{"$f":"IF($C$3=\"\",\"\",VLOOKUP($C$3,保存情報!$E$5:$BL$156,10))","v":3},null,{"$f":"IF($C$3=\"\",\"\",VLOOKUP($C$3,保存情報!$E$5:$BL$156,23))","v":0},{"$f":"IF($C$3=\"\",\"\",VLOOKUP($C$3,保存情報!$E$5:$BL$156,35))","v":0},null,3,"整容","自立（洗面、整髪、歯磨き、ひげ剃り） ",null,null,null,null,null,null,null,null,"５",0,null,0,0,null,3,"整容","自立（洗面、整髪、歯磨き、ひげ剃り） ",null,null,null,null,null,null,null,null,"５",{"$f":"$N$23","v":3},null,{"$f":"IF($C$3=\"\",\"\",VLOOKUP($C$3,保存情報!$E$5:$BL$156,23))","v":0},{"$f":"IF($C$3=\"\",\"\",VLOOKUP($C$3,保存情報!$E$5:$BL$156,35))","v":0},null,null,null,0,0]
[null,null,null,"部分介助または不可能 ",null,null,null,null,null,null,null,null,"０",null,null,null,null,null,null,null,"部分介助または不可能 ",null,null,null,null,null,null,null,null,"０",{"$error":"#REF!"},null,null,null,null,null,null,"部分介助または不可能 ",null,null,null,null,null,null,null,null,"０",0]
[null,4,"トイレ動作","自立（衣服の操作、後始末を含む､ポータブル便器などを使用している場合はその洗浄も含む）",null,null,null,null,null,null,null,null,"１０",{"$f":"IF($C$3=\"\",\"\",VLOOKUP($C$3,保存情報!$E$5:$BL$156,11))","v":4},null,{"$f":"IF($C$3=\"\",\"\",VLOOKUP($C$3,保存情報!$E$5:$BL$156,24))","v":0},{"$f":"IF($C$3=\"\",\"\",VLOOKUP($C$3,保存情報!$E$5:$BL$156,36))","v":0},null,4,"トイレ動作","自立（衣服の操作、後始末を含む､ポータブル便器などを使用している場合はその洗浄も含む）",null,null,null,null,null,null,null,null,"１０",5,null,0,0,null,4,"トイレ動作","自立（衣服の操作、後始末を含む､ポータブル便器などを使用している場合はその洗浄も含む）",null,null,null,null,null,null,null,null,"１０",{"$f":"$N$25","v":4},null,{"$f":"IF($C$3=\"\",\"\",VLOOKUP($C$3,保存情報!$E$5:$BL$156,24))","v":0},{"$f":"IF($C$3=\"\",\"\",VLOOKUP($C$3,保存情報!$E$5:$BL$156,36))","v":0},null,null,null,0,0]
[null,null,null,"部分介助、体を支える、衣服、後始末に介助を要する ",null,null,null,null,null,null,null,null,"５",null,null,null,null,null,null,null,"部分介助、体を支える、衣服、後始末に介助を要する ",null,null,null,null,null,null,null,null,"５",{"$error":"#REF!"},null,null,null,null,null,null,"部分介助、体を支える、衣服、後始末に介助を要する ",null,null,null,null,null,null,null,null,"５",0]
[null,null,null,"全介助または不可能 ",null,null,null,null,null,null,null,null,"０",null,null,null,null,null,null,null,"全介助または不可能 ",null,null,null,null,null,null,null,null,"０",{"$error":"#REF!"},null,null,null,null,null,null,"全介助または不可能 ",null,null,null,null,null,null,null,null,"０",0]
[null,5,"入浴","自立 ",null,null,null,null,null,null,null,null,"５",{"$f":"IF($C$3=\"\",\"\",VLOOKUP($C$3,保存情報!$E$5:$BL$156,12))","v":5},null,{"$f":"IF($C$3=\"\",\"\",VLOOKUP($C$3,保存情報!$E$5:$BL$156,25))","v":0},{"$f":"IF($C$3=\"\",\"\",VLOOKUP($C$3,保存情報!$E$5:$BL$156,37))","v":0},null,5,"入浴","自立 ",null,null,null,null,null,null,null,null,"５",0,null,0,0,null,5,"入浴","自立 ",null,null,null,null,null,null,null,null,"５",{"$f":"$N$28","v":5},null,{"$f":"IF($C$3=\"\",\"\",VLOOKUP($C$3,保存情報!$E$5:$BL$156,25))","v":0},{"$f":"IF($C$3=\"\",\"\",VLOOKUP($C$3,保存情報!$E$5:$BL$156,37))","v":0},null,null,null,0,0]
[null,null,null,"部分介助または不可能 ",null,null,null,null,null,null,null,null,"０",null,null,null,null,null,null,null,"部分介助または不可能 ",null,null,null,null,null,null,null,null,"０",{"$error":"#REF!"},null,null,null,null,null,null,"部分介助または不可能 ",null,null,null,null,null,null,null,null,"０",0]
[null,6,"歩行","45ｍ以上の歩行、補装具（車椅子、歩行器は除く）の使用の有無は問わず",null,null,null,null,null,null,null,null,"１５",{"$f":"IF($C$3=\"\",\"\",VLOOKUP($C$3,保存情報!$E$5:$BL$156,13))","v":6},null,{"$f":"IF($C$3=\"\",\"\",VLOOKUP($C$3,保存情報!$E$5:$BL$156,26))","v":0},{"$f":"IF($C$3=\"\",\"\",VLOOKUP($C$3,保存情報!$E$5:$BL$156,38))","v":0},null,6,"歩行","45ｍ以上の歩行、補装具（車椅子、歩行器は除く）の使用の有無は問わず",null,null,null,null,null,null,null,null,"１５",15,null,0,0,null,6,"歩行","45ｍ以上の歩行、補装具（車椅子、歩行器は除く）の使用の有無は問わず",null,null,null,null,null,null,null,null,"１５",{"$f":"$N$30","v":6},null,{"$f":"IF($C$3=\"\",\"\",VLOOKUP($C$3,保存情報!$E$5:$BL$156,26))","v":0},{"$f":"IF($C$3=\"\",\"\",VLOOKUP($C$3,保存情報!$E$5:$BL$156,38))","v":0},null,null,null,0,0]
[null,null,null,"45ｍ以上の介助歩行、歩行器の使用を含む",null,null,null,null,null,null,null,null,"１０",null,null,null,null,null,null,null,"45ｍ以上の介助歩行、歩行器の使用を含む",null,null,null,null,null,null,null,null,"１０",{"$error":"#REF!"},null,null,null,null,null,null,"45ｍ以上の介助歩行、歩行器の使用を含む",null,null,null,null,null,null,null,null,"１０",0]
[null,null,null,"歩行不能の場合、車椅子にて45ｍ以上の操作可能",null,null,null,null,null,null,null,null,"５",null,null,null,null,null,null,null,"歩行不能の場合、車椅子にて45ｍ以上の操作可能",null,null,null,null,null,null,null,null,"５",{"$error":"#REF!"},null,null,null,null,null,null,"歩行不能の場合、車椅子にて45ｍ以上の操作可能",null,null,null,null,null,null,null,null,"５",0]
[null,null,null,"上記以外 ",null,null,null,null,null,null,null,null,"０",null,null,null,null,null,null,null,"上記以外 ",null,null,null,null,null,null,null,null,"０",{"$error":"#REF!"},null,null,null,null,null,null,"上記以外 ",null,null,null,null,null,null,null,null,"０",0]
[null,7,"階段昇降","自立、手すりなどの使用の有無は問わない ",null,null,null,null,null,null,null,null,"１０",{"$f":"IF($C$3=\"\",\"\",VLOOKUP($C$3,保存情報!$E$5:$BL$156,14))","v":7},null,{"$f":"IF($C$3=\"\",\"\",VLOOKUP($C$3,保存情報!$E$5:$BL$156,27))","v":0},{"$f":"IF($C$3=\"\",\"\",VLOOKUP($C$3,保存情報!$E$5:$BL$156,39))","v":0},null,7,"階段昇降","自立、手すりなどの使用の有無は問わない ",null,null,null,null,null,null,null,null,"１０",10,null,0,0,null,7,"階段昇降","自立、手すりなどの使用の有無は問わない ",null,null,null,null,null,null,null,null,"１０",{"$f":"$N$34","v":7},null,{"$f":"IF($C$3=\"\",\"\",VLOOKUP($C$3,保存情報!$E$5:$BL$156,27))","v":0},{"$f":"IF($C$3=\"\",\"\",VLOOKUP($C$3,保存情報!$E$5:$BL$156,39))","v":0},null,null,null,0,0]
[null,null,null,"介助または監視を要する",null,null,null,null,null,null,null,null,"５",null,null,null,null,null,null,null,"介助または監視を要する",null,null,null,null,null,null,null,null,"５",{"$error":"#REF!"},null,null,null,null,null,null,"介助または監視を要する",null,null,null,null,null,null,null,null,"５",0]
[null,null,null,"不能 ",null,null,null,null,null,null,null,null,"０",null,null,null,null,null,null,null,"不能 ",null,null,null,null,null,null,null,null,"０",{"$error":"#REF!"},null,null,null,null,null,null,"不能 ",null,null,null,null,null,null,null,null,"０",0]
[null,8,"着替え","自立、靴、ファスナー、装具の着脱を含む ",null,null,null,null,null,null,null,null,"１０",{"$f":"IF($C$3=\"\",\"\",VLOOKUP($C$3,保存情報!$E$5:$BL$156,15))","v":8},null,{"$f":"IF($C$3=\"\",\"\",VLOOKUP($C$3,保存情報!$E$5:$BL$156,28))","v":0},{"$f":"IF($C$3=\"\",\"\",VLOOKUP($C$3,保存情報!$E$5:$BL$156,40))","v":0},null,8,"着替え","自立、靴、ファスナー、装具の着脱を含む ",null,null,null,null,null,null,null,null,"１０",5,null,0,0,null,8,"着替え","自立、靴、ファスナー、装具の着脱を含む ",null,null,null,null,null,null,null,null,"１０",{"$f":"$N$37","v":8},null,{"$f":"IF($C$3=\"\",\"\",VLOOKUP($C$3,保存情報!$E$5:$BL$156,28))","v":0},{"$f":"IF($C$3=\"\",\"\",VLOOKUP($C$3,保存情報!$E$5:$BL$156,40))","v":0},null,null,null,0,0]
[null,null,null,"部分介助、標準的な時間内、半分以上は自分で行える ",null,null,null,null,null,null,null,null,"５",null,null,null,null,null,null,null,"部分介助、標準的な時間内、半分以上は自分で行える ",null,null,null,null,null,null,null,null,"５",{"$error":"#REF!"},null,null,null,null,null,null,"部分介助、標準的な時間内、半分以上は自分で行える ",null,null,null,null,null,null,null,null,"５",0]
[null,null,null,"上記以外 ",null,null,null,null,null,null,null,null,"０",null,null,null,null,null,null,null,"上記以外 ",null,null,null,null,null,null,null,null,"０",{"$error":"#REF!"},null,null,null,null,null,null,"上記以外 ",null,null,null,null,null,null,null,null,"０",0]
[null,9,"排便コントロール","失禁なし、浣腸、坐薬の取り扱いも可能",null,null,null,null,null,null,null,null,"１０",{"$f":"IF($C$3=\"\",\"\",VLOOKUP($C$3,保存情報!$E$5:$BL$156,16))","v":9},null,{"$f":"IF($C$3=\"\",\"\",VLOOKUP($C$3,保存情報!$E$5:$BL$156,29))","v":0},{"$f":"IF($C$3=\"\",\"\",VLOOKUP($C$3,保存情報!$E$5:$BL$156,41))","v":0},null,9,"排便コントロール","失禁なし、浣腸、坐薬の取り扱いも可能",null,null,null,null,null,null,null,null,"１０",5,null,0,0,null,9,"排便コントロール","失禁なし、浣腸、坐薬の取り扱いも可能",null,null,null,null,null,null,null,null,"１０",{"$f":"$N$40","v":9},null,{"$f":"IF($C$3=\"\",\"\",VLOOKUP($C$3,保存情報!$E$5:$BL$156,29))","v":0},{"$f":"IF($C$3=\"\",\"\",VLOOKUP($C$3,保存情報!$E$5:$BL$156,41))","v":0},null,null,null,0,0]
[null,null,null,"ときに失禁あり、浣腸、坐薬の取り扱いに介助を要する者も含む",null,null,null,null,null,null,null,null,"５",null,null,null,null,null,null,null,"ときに失禁あり、浣腸、坐薬の取り扱いに介助を要する者も含む",null,null,null,null,null,null,null,null,"５",{"$error":"#REF!"},null,null,null,null,null,null,"ときに失禁あり、浣腸、坐薬の取り扱いに介助を要する者も含む",null,null,null,null,null,null,null,null,"５",0]
[null,null,null,"上記以外 ",null,null,null,null,null,null,null,null,"０",null,null,null,null,null,null,null,"上記以外 ",null,null,null,null,null,null,null,null,"０",{"$error":"#REF!"},null,null,null,null,null,null,"上記以外 ",null,null,null,null,null,null,null,null,"０",0]
[null,10,"排尿コントロール","失禁なし、収尿器の取り扱いも可能 ",null,null,null,null,null,null,null,null,"１０",{"$f":"IF($C$3=\"\",\"\",VLOOKUP($C$3,保存情報!$E$5:$BL$156,17))","v":10},null,{"$f":"IF($C$3=\"\",\"\",VLOOKUP($C$3,保存情報!$E$5:$BL$156,30))","v":0},{"$f":"IF($C$3=\"\",\"\",VLOOKUP($C$3,保存情報!$E$5:$BL$156,42))","v":0},null,10,"排尿コントロール","失禁なし、収尿器の取り扱いも可能 ",null,null,null,null,null,null,null,null,"１０",5,null,0,0,null,10,"排尿コントロール","失禁なし、収尿器の取り扱いも可能 ",null,null,null,null,null,null,null,null,"１０",{"$f":"$N$43","v":10},null,{"$f":"IF($C$3=\"\",\"\",VLOOKUP($C$3,保存情報!$E$5:$BL$156,30))","v":0},{"$f":"IF($C$3=\"\",\"\",VLOOKUP($C$3,保存情報!$E$5:$BL$156,42))","v":0},null,null,null,0,0]
[null,null,null,"ときに失禁あり、収尿器の取り扱いに介助を要する者も含む",null,null,null,null,null,null,null,null,"５",null,null,null,null,null,null,null,"ときに失禁あり、収尿器の取り扱いに介助を要する者も含む",null,null,null,null,null,null,null,null,"５",{"$error":"#REF!"},null,null,null,null,null,null,"ときに失禁あり、収尿器の取り扱いに介助を要する者も含む",null,null,null,null,null,null,null,null,"５",0]
[null,null,null,"上記以外 ",null,null,null,null,null,null,null,null,"０",null,null,null,null,null,null,null,"上記以外 ",null,null,null,null,null,null,null,null,"０",{"$error":"#REF!"},null,null,null,null,null,null,"上記以外 ",null,null,null,null,null,null,null,null,"０",0]
[]
[null,null,null,null,null,null,null,null,null,null,null,"BI利得",null,"合計",null,"前回","前々回",null,null,null,null,null,null,null,null,null,null,null,null,null,"合計",null,"前回","前々回",null,null,null,null,null,null,null,null,null,null,null,null,null,"合計",null,"前回","前々回"]
[null,null,null,null,null,null,null,null,null,null,null,{"$f":"IF(OR(H11=\"要支援１\",H11=\"要支援２\"),\"－\",IF(P48=0,\"－\",IF(N48>P48,1,IF(N48=P48,0,-1))))","v":"－"},null,{"$f":"SUM($N$16:$N$45)","v":64},null,{"$f":"SUM($P$16:$P$45)","v":0},{"$f":"SUM($Q$16:$Q$45)","v":0},null,null,null,null,null,null,null,null,null,null,null,null,null,{"$f":"AE43+AE40+AE37+AE34+AE30+AE28+AE25+AE19+AE16+AE23","v":70},null,{"$f":"AG43+AG40+AG37+AG34+AG30+AG28+AG25+AG19+AG16+AG23","v":0},{"$f":"AH43+AH40+AH37+AH34+AH30+AH28+AH25+AH19+AH16+AH23","v":0},null,null,null,null,null,null,null,null,null,null,null,null,null,{"$f":"AV43+AV40+AV37+AV34+AV30+AV28+AV25+AV19+AV16","v":61},null,{"$f":"AX43+AX40+AX37+AX34+AX30+AX28+AX25+AX19+AX16","v":0},{"$f":"AY43+AY40+AY37+AY34+AY30+AY28+AY25+AY19+AY16","v":0}]

{"sheet":"体力測定","index":2,"n_rows":23,"n_cols":88,"rows_kept":23,"cut":false,"hidden":false,"merged":[[15,85,16,86],[17,85,18,86],[19,85,20,86],[21,85,22,86],[15,87,16,88],[17,87,18,88],[19,87,20,88],[21,87,22,88],[14,85,14,88],[4,56,4,62],[4,63,4,69],[4,70,4,76],[4,77,4,83],[19,50,20,51],[21,37,22,38],[21,48,22,48],[21,49,22,49],[21,50,22,51],[15,50,16,51],[17,37,18,38],[17,48,18,48],[17,49,18,49],[17,50,18,51],[21,46,22,46],[21,47,22,47],[19,46,20,46],[19,47,20,47],[19,48,20,48],[19,49,20,49],[17,46,18,46],[17,47,18,47],[15,46,16,46],[15,47,16,47],[14,32,14,33],[15,19,16,20],[15,31,16,31],[15,32,16,33],[2,14,2,15],[4,19,5,33],[6,27,6,28],[6,29,6,33],[8,27,8,29],[8,30,8,33],[11,19,11,20],[11,21,11,22],[14,19,14,20],[14,21,14,23],[14,24,14,25],[11,23,11,25],[9,19,9,21],[9,22,9,26],[9,27,9,31],[10,19,10,21],[10,22,10,26],[10,27,10,31],[11,1,11,2],[8,12,8,15],[11,3,11,4],[11,13,11,15],[11,10,11,12],[21,44,22,44],[21,45,22,45],[21,42,22,42],[21,43,22,43],[19,44,20,44],[19,45,20,45],[19,42,20,42],[19,43,20,43],[19,37,20,38],[17,44,18,44],[17,45,18,45],[17,42,18,42],[17,43,18,43],[15,44,16,44],[15,45,16,45],[11,37,11,38],[11,39,11,40],[14,28,14,29],[14,30,14,31],[15,48,16,48],[15,49,16,49],[15,42,16,42],[15,43,16,43],[15,37,16,38],[14,42,14,43],[14,44,14,45],[14,46,14,47],[14,48,14,49],[11,41,11,43],[11,46,11,48],[11,49,11,51],[14,37,14,38],[14,39,14,41],[14,50,14,51],[10,37,10,39],[10,40,10,44],[10,45,10,49],[8,45,8,47],[8,48,8,51],[9,37,9,39],[9,40,9,44],[9,45,9,49],[4,37,5,51],[6,45,6,46],[6,47,6,51],[21,27,22,27],[21,28,22,28],[21,29,22,29],[21,30,22,30],[21,31,22,31],[21,32,22,33],[19,32,20,33],[17,27,18,27],[17,28,18,28],[17,29,18,29],[17,30,18,30],[17,31,18,31],[17,32,18,33],[11,28,11,30],[11,31,11,33],[14,26,14,27],[21,25,22,25],[21,26,22,26],[21,19,22,20],[19,27,20,27],[19,28,20,28],[19,29,20,29],[19,30,20,30],[19,31,20,31],[19,24,20,24],[19,25,20,25],[19,26,20,26],[19,19,20,20],[17,25,18,25],[17,26,18,26],[17,19,18,20],[15,27,16,27],[15,28,16,28],[15,29,16,29],[15,30,16,30],[15,24,16,24],[15,25,16,25],[15,26,16,26],[21,11,22,11],[21,12,22,12],[21,13,22,13],[19,9,20,9],[19,10,20,10],[19,11,20,11],[19,12,20,12],[19,13,20,13],[17,24,18,24],[21,24,22,24],[15,1,16,2],[17,1,18,2],[21,6,22,6],[21,7,22,7],[21,8,22,8],[21,9,22,9],[15,8,16,8],[17,9,18,9],[17,10,18,10],[21,10,22,10],[17,7,18,7],[17,8,18,8],[9,4,9,8],[10,4,10,8],[17,13,18,13],[14,3,14,5],[15,10,16,10],[15,12,16,12],[15,7,16,7],[15,9,16,9],[15,11,16,11],[15,6,16,6],[17,11,18,11],[17,12,18,12],[9,9,9,13],[10,9,10,13],[8,9,8,11],[6,9,6,10],[6,11,6,15],[4,1,5,15],[19,1,20,2],[21,1,22,2],[14,1,14,2],[9,1,9,3],[10,1,10,3],[11,5,11,7],[17,14,18,15],[19,14,20,15],[21,14,22,15],[14,6,14,7],[14,8,14,9],[14,10,14,11],[14,12,14,13],[14,14,14,15],[15,14,16,15],[19,6,20,6],[19,7,20,7],[19,8,20,8],[15,13,16,13],[17,6,18,6]]}
[]
[null,null,"コード"]
[null,null,1,null,"呼出",null,"印刷",null,null,null,1,"～",2,null,"連続印刷",null,null,null,null,null,"戻る",null,"保存",null,null,null,null,null,null,null,null,null,null,null,null,null,null,null,"戻る",null,"保存"]
[null,null,null,null,null,null,null,null,null,null,null,null,null,null,null,null,null,null,null,null,null,null,null,null,null,null,null,null,null,null,null,null,null,null,null,null,null,null,null,null,null,null,null,null,null,null,null,null,null,null,null,null,null,null,null,"データ数"]
[null,"体　力　測　定",null,null,null,null,null,null,null,null,null,null,null,null,null,null,null,null,null,"体　力　測　定",null,null,null,null,null,null,null,null,null,null,null,null,null,null,null,null,null,"体　力　測　定",null,null,null,null,null,null,null,null,null,null,null,null,null,null,null,null,null,{"$f":"COUNTA(保存情報!F7:F156)","v":86},{"$f":"$T$16","v":"H30.6"},null,null,null,null,null,null,{"$f":"$T$18","v":"H30.9"},null,null,null,null,null,null,{"$f":"$T$20","v":"H30.12"},null,null,null,null,null,null,{"$f":"$T$22","v":"H31.3"}]
[null,null,null,null,null,null,null,null,null,null,null,null,null,null,null,null,null,null,null,null,null,null,null,null,null,null,null,null,null,null,null,null,null,null,null,null,null,null,null,null,null,null,null,null,null,null,null,null,null,null,null,null,null,null,"測定開始日","年間測定回数","握力(右)","握力(左)","通常歩行測定","立ち上がり","片足立ち","コーン廻り","評価","握力(右)","握力(左)","通常歩行測定","立ち上がり","片足立ち","コーン廻り","評価","握力(右)","握力(左)","通常歩行測定","立ち上がり","片足立ち","コーン廻り","評価","握力(右)","握力(左)","通常歩行測定","立ち上がり","片足立ち","コーン廻り","評価"]
[null,null,null,null,null,null,null,null,null,"事業所名",null,"デイサービスたつみの森",null,null,null,null,null,null,null,null,null,null,null,null,null,null,null,"事業所名",null,"デイサービスたつみの森",null,null,null,null,null,null,null,null,null,null,null,null,null,null,null,"事業所名",null,"デイサービスたつみの森",null,null,null,null,null,null,{"$f":"$AF$12","v":"2017-03-01"},{"$f":"$AA$12","v":4},{"$f":"$W$16","v":20},{"$f":"$W$17","v":25},{"$f":"$Y$16","v":15},{"$f":"$AA$16","v":30},{"$f":"$AC$16","v":25},{"$f":"$AE$16","v":19},{"$f":"$AG$16","v":"やる気十分"},{"$f":"$W$18","v":21},{"$f":"$W$19","v":22},{"$f":"$Y$18","v":25},{"$f":"$AA$18","v":15},{"$f":"$AC$18","v":31},{"$f":"$AE$18","v":19},{"$f":"$AG$18","v":"退院直後なので、基礎体力の低下が見られます。"},{"$f":"$W$20","v":22},{"$f":"$W$21","v":20},{"$f":"$Y$20","v":25},{"$f":"$AA$20","v":15},{"$f":"$AC$20","v":19},{"$f":"$AE$20","v":20},{"$f":"$AG$20","v":"握力が低下しています"},{"$f":"$W$22","v":20},{"$f":"$W$23","v":20},{"$f":"$Y$22","v":20},{"$f":"$AA$22","v":25},{"$f":"$AC$22","v":19},{"$f":"$AE$22","v":18},{"$f":"$AG$22","v":"リハビリに対して熱意があります。仲間を誘っての活動にも定評があり、歩行距離は１００ｍに伸びました。"}]
[]
[null,null,null,null,null,null,null,null,null,"記録作成者",null,null,{"$f":"$AE$9","v":"橋爪美雪"},null,null,null,null,null,null,null,null,null,null,null,null,null,null,"記録作成者",null,null,"橋爪美雪",null,null,null,null,null,null,null,null,null,null,null,null,null,null,"記録作成者",null,null,"橋爪美雪"]
[null,"フリガナ",null,null,{"$f":"IF($C$3=\"\",\"\",VLOOKUP($C$3,保存情報!$E$5:$BY$156,3))","v":"アオイワカナ"},null,null,null,null,"生年月日",null,null,null,null,"年齢","性別",null,null,null,"フリガナ",null,null,"アサバヒロコ",null,null,null,null,"生年月日",null,null,null,null,"年齢","性別",null,null,null,"フリガナ",null,null,{"$f":"IF($C$3=\"\",\"\",VLOOKUP($C$3,保存情報!$E$5:$BY$156,3))","v":"アオイワカナ"},null,null,null,null,"生年月日",null,null,null,null,"年齢","性別"]
[null,"氏名",null,null,{"$f":"IF($C$3=\"\",\"\",VLOOKUP($C$3,保存情報!$E$5:$BY$156,2))","v":"葵わかな"},null,null,null,null,{"$f":"IF($C$3=\"\",\"\",VLOOKUP($C$3,保存情報!$E$5:$BY$156,5))","v":"1928-03-15"},null,null,null,null,{"$f":"IF($C$3=\"\",\"\",IF($J$11=0,\"\",DATEDIF($J$11,TODAY(),\"y\")))","v":90},{"$f":"IF($C$3=\"\",\"\",VLOOKUP($C$3,保存情報!$E$5:$BY$156,4))","v":"女"},null,null,null,"氏名",null,null,"浅場弘子",null,null,null,null,"1939-11-24",null,null,null,null,78,"女",null,null,null,"氏名",null,null,{"$f":"IF($C$3=\"\",\"\",VLOOKUP($C$3,保存情報!$E$5:$BY$156,2))","v":"葵わかな"},null,null,null,null,{"$f":"IF($C$3=\"\",\"\",VLOOKUP($C$3,保存情報!$E$5:$BY$156,5))","v":"1928-03-15"},null,null,null,null,{"$f":"IF($C$3=\"\",\"\",IF($J$11=0,\"\",DATEDIF($J$11,TODAY(),\"y\")))","v":90},{"$f":"IF($C$3=\"\",\"\",VLOOKUP($C$3,保存情報!$E$5:$BY$156,4))","v":"女"}]
[null,"介護度",null,{"$f":"IF($C$3=\"\",\"\",VLOOKUP($C$3,保存情報!$E$5:$BY$156,6))","v":1},null,"年間測定回数",null,null,{"$f":"IF($C$3=\"\",\"\",VLOOKUP($C$3,保存情報!$E$5:$BY$156,45))","v":0},"回","測定開始日",null,null,{"$f":"IF($C$3=\"\",\"\",VLOOKUP($C$3,保存情報!$E$5:$BY$156,44))","v":"00:00:00"},null,null,null,null,null,"介護度",null,1,null,"年間測定回数",null,null,4,"回","測定開始日",null,null,"2017-03-01",null,null,null,null,null,"介護度",null,{"$f":"IF($C$3=\"\",\"\",VLOOKUP($C$3,保存情報!$E$5:$BY$156,6))","v":1},null,"年間測定回数",null,null,{"$f":"IF($C$3=\"\",\"\",VLOOKUP($C$3,保存情報!$E$5:$BY$156,45))","v":0},"回","測定開始日",null,null,{"$f":"IF($C$3=\"\",\"\",VLOOKUP($C$3,保存情報!$E$5:$BY$156,44))","v":"00:00:00"}]
[]
[]
[null,"測定月",null,"握力",null,null,"通常歩行測定(5ｍ)",null,"立ち上がり\n(30秒)",null,"片足立ち",null,"コーン廻り\n(3ｍ往復)",null,"評価",null,null,null,null,"測定月",null,"握力",null,null,"通常歩行測定(5ｍ)",null,"立ち上がり\n(30秒)",null,"片足立ち",null,"コーン廻り\n(3ｍ往復)",null,"評価",null,null,null,null,"測定月",null,"握力",null,null,"通常歩行測定(5ｍ)",null,"立ち上がり\n(30秒)",null,"片足立ち",null,"コーン廻り\n(3ｍ往復)",null,"評価",null,null,null,null,null,null,null,null,null,null,null,null,null,null,null,null,null,null,null,null,null,null,null,null,null,null,null,null,null,null,null,null,null,null,"評価例定型文書（リスト）"]
[null,{"$f":"$T$16","v":"H30.6"},null,"右",{"$f":"IF($C$3=\"\",\"\",VLOOKUP($C$3,保存情報!$E$5:$BY$156,46))","v":0},"㎏",{"$f":"IF($C$3=\"\",\"\",VLOOKUP($C$3,保存情報!$E$5:$BY$156,48))","v":0},"秒",{"$f":"IF($C$3=\"\",\"\",VLOOKUP($C$3,保存情報!$E$5:$BY$156,49))","v":0},"秒",{"$f":"IF($C$3=\"\",\"\",VLOOKUP($C$3,保存情報!$E$5:$BY$156,50))","v":0},"秒",{"$f":"IF($C$3=\"\",\"\",VLOOKUP($C$3,保存情報!$E$5:$BY$156,51))","v":0},"秒",{"$f":"IF($C$3=\"\",\"\",VLOOKUP($C$3,保存情報!$E$5:$BY$156,52))","v":0},null,null,null,null,"H30.6",null,"右",20,"㎏",15,"秒",30,"秒",25,"秒",19,"秒","やる気十分",null,null,null,null,{"$f":"$B$16","v":"H30.6"},null,"右",{"$f":"IF($C$3=\"\",\"\",VLOOKUP($C$3,保存情報!$E$5:$BY$156,46))","v":0},"㎏",{"$f":"IF($C$3=\"\",\"\",VLOOKUP($C$3,保存情報!$E$5:$BY$156,48))","v":0},"秒",{"$f":"IF($C$3=\"\",\"\",VLOOKUP($C$3,保存情報!$E$5:$BY$156,49))","v":0},"秒",{"$f":"IF($C$3=\"\",\"\",VLOOKUP($C$3,保存情報!$E$5:$BY$156,50))","v":0},"秒",{"$f":"IF($C$3=\"\",\"\",VLOOKUP($C$3,保存情報!$E$5:$BY$156,51))","v":0},"秒",{"$f":"IF($C$3=\"\",\"\",VLOOKUP($C$3,保存情報!$E$5:$BY$156,52))","v":0},null,null,null,null,null,null,null,null,null,null,null,null,null,null,null,null,null,null,null,null,null,null,null,null,null,null,null,null,null,null,null,null,{"$f":"CH16","v":"全般的にうまくいっています。"},null,"全般的にうまくいっています。",null,"握力が低下しています"]
[null,null,null,"左",{"$f":"IF($C$3=\"\",\"\",VLOOKUP($C$3,保存情報!$E$5:$BY$156,47))","v":0},"㎏",null,null,null,null,null,null,null,null,null,null,null,null,null,null,null,"左",25,"㎏",null,null,null,null,null,null,null,null,null,null,null,null,null,null,null,"左",{"$f":"IF($C$3=\"\",\"\",VLOOKUP($C$3,保存情報!$E$5:$BY$156,47))","v":0},"㎏",null,null,null,null,null,null,null,null,null,null,null,null,null,null,null,null,null,null,null,null,null,null,null,null,null,null,null,null,null,null,null,null,null,null,null,null,null,null,null,null,null,{"$f":"CH18","v":"歩行能力に進展が見られます。"}]
[null,{"$f":"$T$18","v":"H30.9"},null,"右",{"$f":"IF($C$3=\"\",\"\",VLOOKUP($C$3,保存情報!$E$5:$BY$156,53))","v":0},"㎏",{"$f":"IF($C$3=\"\",\"\",VLOOKUP($C$3,保存情報!$E$5:$BY$156,55))","v":0},"秒",{"$f":"IF($C$3=\"\",\"\",VLOOKUP($C$3,保存情報!$E$5:$BY$156,56))","v":0},"秒",{"$f":"IF($C$3=\"\",\"\",VLOOKUP($C$3,保存情報!$E$5:$BY$156,57))","v":0},"秒",{"$f":"IF($C$3=\"\",\"\",VLOOKUP($C$3,保存情報!$E$5:$BY$156,58))","v":0},"秒",{"$f":"IF($C$3=\"\",\"\",VLOOKUP($C$3,保存情報!$E$5:$BY$156,59))","v":0},null,null,null,null,"H30.9",null,"右",21,"㎏",25,"秒",15,"秒",31,"秒",19,"秒","退院直後なので、基礎体力の低下が見られます。",null,null,null,null,{"$f":"$B$18","v":"H30.9"},null,"右",{"$f":"IF($C$3=\"\",\"\",VLOOKUP($C$3,保存情報!$E$5:$BY$156,53))","v":0},"㎏",{"$f":"IF($C$3=\"\",\"\",VLOOKUP($C$3,保存情報!$E$5:$BY$156,55))","v":0},"秒",{"$f":"IF($C$3=\"\",\"\",VLOOKUP($C$3,保存情報!$E$5:$BY$156,56))","v":0},"秒",{"$f":"IF($C$3=\"\",\"\",VLOOKUP($C$3,保存情報!$E$5:$BY$156,57))","v":0},"秒",{"$f":"IF($C$3=\"\",\"\",VLOOKUP($C$3,保存情報!$E$5:$BY$156,58))","v":0},"秒",{"$f":"IF($C$3=\"\",\"\",VLOOKUP($C$3,保存情報!$E$5:$BY$156,59))","v":0},null,null,null,null,null,null,null,null,null,null,null,null,null,null,null,null,null,null,null,null,null,null,null,null,null,null,null,null,null,null,null,null,{"$f":"CH20","v":"体力的には変わらないものの、熱心に取り組んでいます。"},null,"歩行能力に進展が見られます。",null,"やる気十分"]
[null,null,null,"左",{"$f":"IF($C$3=\"\",\"\",VLOOKUP($C$3,保存情報!$E$5:$BY$156,54))","v":0},"㎏",null,null,null,null,null,null,null,null,null,null,null,null,null,null,null,"左",22,"㎏",null,null,null,null,null,null,null,null,null,null,null,null,null,null,null,"左",{"$f":"IF($C$3=\"\",\"\",VLOOKUP($C$3,保存情報!$E$5:$BY$156,54))","v":0},"㎏",null,null,null,null,null,null,null,null,null,null,null,null,null,null,null,null,null,null,null,null,null,null,null,null,null,null,null,null,null,null,null,null,null,null,null,null,null,null,null,null,null,{"$f":"CH22","v":"リハビリに対して熱意があります。仲間を誘っての活動にも定評があり、歩行距離は１００ｍに伸びました。"}]
[null,{"$f":"$T$20","v":"H30.12"},null,"右",{"$f":"IF($C$3=\"\",\"\",VLOOKUP($C$3,保存情報!$E$5:$BY$156,60))","v":0},"㎏",{"$f":"IF($C$3=\"\",\"\",VLOOKUP($C$3,保存情報!$E$5:$BY$156,62))","v":0},"秒",{"$f":"IF($C$3=\"\",\"\",VLOOKUP($C$3,保存情報!$E$5:$BY$156,63))","v":0},"秒",{"$f":"IF($C$3=\"\",\"\",VLOOKUP($C$3,保存情報!$E$5:$BY$156,64))","v":0},"秒",{"$f":"IF($C$3=\"\",\"\",VLOOKUP($C$3,保存情報!$E$5:$BY$156,65))","v":0},"秒",{"$f":"IF($C$3=\"\",\"\",VLOOKUP($C$3,保存情報!$E$5:$BY$156,66))","v":0},null,null,null,null,"H30.12",null,"右",22,"㎏",25,"秒",15,"秒",19,"秒",20,"秒","握力が低下しています",null,null,null,null,{"$f":"$B$20","v":"H30.12"},null,"右",{"$f":"IF($C$3=\"\",\"\",VLOOKUP($C$3,保存情報!$E$5:$BY$156,60))","v":0},"㎏",{"$f":"IF($C$3=\"\",\"\",VLOOKUP($C$3,保存情報!$E$5:$BY$156,62))","v":0},"秒",{"$f":"IF($C$3=\"\",\"\",VLOOKUP($C$3,保存情報!$E$5:$BY$156,63))","v":0},"秒",{"$f":"IF($C$3=\"\",\"\",VLOOKUP($C$3,保存情報!$E$5:$BY$156,64))","v":0},"秒",{"$f":"IF($C$3=\"\",\"\",VLOOKUP($C$3,保存情報!$E$5:$BY$156,65))","v":0},"秒",{"$f":"IF($C$3=\"\",\"\",VLOOKUP($C$3,保存情報!$E$5:$BY$156,66))","v":0},null,null,null,null,null,null,null,null,null,null,null,null,null,null,null,null,null,null,null,null,null,null,null,null,null,null,null,null,null,null,null,null,{"$f":"CJ16","v":"握力が低下しています"},null,"体力的には変わらないものの、熱心に取り組んでいます。",null,"趣味活動の充実がみられます。"]
[null,null,null,"左",{"$f":"IF($C$3=\"\",\"\",VLOOKUP($C$3,保存情報!$E$5:$BY$156,61))","v":0},"㎏",null,null,null,null,null,null,null,null,null,null,null,null,null,null,null,"左",20,"㎏",null,null,null,null,null,null,null,null,null,null,null,null,null,null,null,"左",{"$f":"IF($C$3=\"\",\"\",VLOOKUP($C$3,保存情報!$E$5:$BY$156,61))","v":0},"㎏",null,null,null,null,null,null,null,null,null,null,null,null,null,null,null,null,null,null,null,null,null,null,null,null,null,null,null,null,null,null,null,null,null,null,null,null,null,null,null,null,null,{"$f":"CJ18","v":"やる気十分"}]
[null,{"$f":"$T$22","v":"H31.3"},null,"右",{"$f":"IF($C$3=\"\",\"\",VLOOKUP($C$3,保存情報!$E$5:$BY$156,67))","v":0},"㎏",{"$f":"IF($C$3=\"\",\"\",VLOOKUP($C$3,保存情報!$E$5:$BY$156,69))","v":0},"秒",{"$f":"IF($C$3=\"\",\"\",VLOOKUP($C$3,保存情報!$E$5:$BY$156,70))","v":0},"秒",{"$f":"IF($C$3=\"\",\"\",VLOOKUP($C$3,保存情報!$E$5:$BY$156,71))","v":0},"秒",{"$f":"IF($C$3=\"\",\"\",VLOOKUP($C$3,保存情報!$E$5:$BY$156,72))","v":0},"秒",{"$f":"IF($C$3=\"\",\"\",VLOOKUP($C$3,保存情報!$E$5:$BY$156,73))","v":0},null,null,null,null,"H31.3",null,"右",20,"㎏",20,"秒",25,"秒",19,"秒",18,"秒","リハビリに対して熱意があります。仲間を誘っての活動にも定評があり、歩行距離は１００ｍに伸びました。",null,null,null,null,{"$f":"$B$22","v":"H31.3"},null,"右",{"$f":"IF($C$3=\"\",\"\",VLOOKUP($C$3,保存情報!$E$5:$BY$156,67))","v":0},"㎏",{"$f":"IF($C$3=\"\",\"\",VLOOKUP($C$3,保存情報!$E$5:$BY$156,69))","v":0},"秒",{"$f":"IF($C$3=\"\",\"\",VLOOKUP($C$3,保存情報!$E$5:$BY$156,70))","v":0},"秒",{"$f":"IF($C$3=\"\",\"\",VLOOKUP($C$3,保存情報!$E$5:$BY$156,71))","v":0},"秒",{"$f":"IF($C$3=\"\",\"\",VLOOKUP($C$3,保存情報!$E$5:$BY$156,72))","v":0},"秒",{"$f":"IF($C$3=\"\",\"\",VLOOKUP($C$3,保存情報!$E$5:$BY$156,73))","v":0},null,null,null,null,null,null,null,null,null,null,null,null,null,null,null,null,null,null,null,null,null,null,null,null,null,null,null,null,null,null,null,null,{"$f":"CJ20","v":"趣味活動の充実がみられます。"},null,"リハビリに対して熱意があります。仲間を誘っての活動にも定評があり、歩行距離は１００ｍに伸びました。",null,"退院直後なので、基礎体力の低下が見られます。"]
[null,null,null,"左",{"$f":"IF($C$3=\"\",\"\",VLOOKUP($C$3,保存情報!$E$5:$BY$156,68))","v":0},"㎏",null,null,null,null,null,null,null,null,null,null,null,null,null,null,null,"左",20,"㎏",null,null,null,null,null,null,null,null,null,null,null,null,null,null,null,"左",{"$f":"IF($C$3=\"\",\"\",VLOOKUP($C$3,保存情報!$E$5:$BY$156,68))","v":0},"㎏",null,null,null,null,null,null,null,null,null,null,null,null,null,null,null,null,null,null,null,null,null,null,null,null,null,null,null,null,null,null,null,null,null,null,null,null,null,null,null,null,null,{"$f":"CJ22","v":"退院直後なので、基礎体力の低下が見られます。"}]

{"sheet":"BI利得","index":3,"n_rows":156,"n_cols":19,"rows_kept":156,"cut":false,"hidden":false,"merged":[[1,2,2,6]]}
[]
[null,null,"ＢＩ利得計算"]
[null,null,null,null,null,null,null,null,null,null,null,null,"要支援１","要支援２",1,2,3,4,5]
[null,null,null,null,null,null,null,null,null,null,null,null,{"$f":"COUNTIF($E$7:$E$156,M3)","v":11},{"$f":"COUNTIF($E$7:$E$156,N3)","v":5},26,23,15,3,3]
[]
[null,"番号","お名前","フリガナ","介護度","今回得点","前回得点","ＢＩ利得","予備","予備",null,"ＢＩ利得対象者",{"$f":"COUNTIF(E7:E156,\">0\")","v":70},"人","ただし、6ヶ月間の要介護者としての利用期間が必要"]
[null,{"$f":"ROW()-6","v":1},{"$f":"保存情報!F7","v":"葵わかな"},{"$f":"保存情報!G7","v":"アオイワカナ"},{"$f":"保存情報!J7","v":1},{"$f":"保存情報!V7","v":64},{"$f":"保存情報!AI7","v":0},{"$f":"IF(OR(E7=\"要支援１\",E7=\"要支援２\"),\"－\",IF(G7=0,\"－\",IF(F7>G7,1,IF(F7=G7,0,-1))))","v":"－"},null,null,null,"上記人数の85％",{"$f":"ROUNDUP(M6*0.85,0)","v":60},"人のＢＩ利得合計が０以上であること。"]
[null,2,{"$f":"保存情報!F8","v":"安倍晋三"},{"$f":"保存情報!G8","v":"アベシンゾウ"},{"$f":"保存情報!J8","v":2},{"$f":"保存情報!V8","v":64},{"$f":"保存情報!AI8","v":0},{"$f":"IF(OR(E8=\"要支援１\",E8=\"要支援２\"),\"－\",IF(G8=0,\"－\",IF(F8>G8,1,IF(F8=G8,0,-1))))","v":"－"},null,null,null,"介護度3以上の割合",{"$f":"SUM(Q4:S4)/SUM(O4:S4)","v":0.3},"基準月（前回）の要介護3以上者が15％超過。"]
[null,3,{"$f":"保存情報!F9","v":"天地真理"},{"$f":"保存情報!G9","v":"アマチマリ"},{"$f":"保存情報!J9","v":1},{"$f":"保存情報!V9","v":64},{"$f":"保存情報!AI9","v":0},"－"]
[null,4,{"$f":"保存情報!F10","v":"綾瀬はるか"},{"$f":"保存情報!G10","v":"アヤセハルカ"},{"$f":"保存情報!J10","v":2},{"$f":"保存情報!V10","v":64},{"$f":"保存情報!AI10","v":0},"－"]
[null,5,{"$f":"保存情報!F11","v":"新垣結衣"},{"$f":"保存情報!G11","v":"アラガキユイ"},{"$f":"保存情報!J11","v":2},{"$f":"保存情報!V11","v":64},{"$f":"保存情報!AI11","v":0},"－"]
[null,6,{"$f":"保存情報!F12","v":"有村架純"},{"$f":"保存情報!G12","v":"アリムラカスミ"},{"$f":"保存情報!J12","v":2},{"$f":"保存情報!V12","v":77},{"$f":"保存情報!AI12","v":0},"－"]
[null,7,{"$f":"保存情報!F13","v":"杏"},{"$f":"保存情報!G13","v":"アン"},{"$f":"保存情報!J13","v":2},{"$f":"保存情報!V13","v":64},{"$f":"保存情報!AI13","v":0},"－"]
[null,8,{"$f":"保存情報!F14","v":"井川遥"},{"$f":"保存情報!G14","v":"イガワハルカ"},{"$f":"保存情報!J14","v":3},{"$f":"保存情報!V14","v":59},{"$f":"保存情報!AI14","v":0},"－"]
[null,9,{"$f":"保存情報!F15","v":"石原さとみ"},{"$f":"保存情報!G15","v":"イシハラサトミ"},{"$f":"保存情報!J15","v":2},{"$f":"保存情報!V15","v":64},{"$f":"保存情報!AI15","v":0},"－"]
[null,10,{"$f":"保存情報!F16","v":"上戸彩"},{"$f":"保存情報!G16","v":"ウエドアヤ"},{"$f":"保存情報!J16","v":"要支援１"},{"$f":"保存情報!V16","v":64},{"$f":"保存情報!AI16","v":0},"－"]
[null,11,{"$f":"保存情報!F17","v":"浦島太郎"},{"$f":"保存情報!G17","v":"ウラシマタロウ"},{"$f":"保存情報!J17","v":1},{"$f":"保存情報!V17","v":59},{"$f":"保存情報!AI17","v":0},"－"]
[null,12,{"$f":"保存情報!F18","v":"岡村隆史"},{"$f":"保存情報!G18","v":"オカムラタカシ"},{"$f":"保存情報!J18","v":3},{"$f":"保存情報!V18","v":64},{"$f":"保存情報!AI18","v":0},"－"]
[null,13,{"$f":"保存情報!F19","v":"織田信長"},{"$f":"保存情報!G19","v":"オダノブナガ"},{"$f":"保存情報!J19","v":"要支援１"},{"$f":"保存情報!V19","v":80},{"$f":"保存情報!AI19","v":0},"－"]
[null,14,{"$f":"保存情報!F20","v":"桂小五郎"},{"$f":"保存情報!G20","v":"カツラコゴロウ"},{"$f":"保存情報!J20","v":"要支援２"},{"$f":"保存情報!V20","v":64},{"$f":"保存情報!AI20","v":0},"－"]
[null,15,{"$f":"保存情報!F21","v":"川栄李奈"},{"$f":"保存情報!G21","v":"カワエイリナ"},{"$f":"保存情報!J21","v":1},{"$f":"保存情報!V21","v":64},{"$f":"保存情報!AI21","v":0},"－"]
[null,16,{"$f":"保存情報!F22","v":"川口春奈"},{"$f":"保存情報!G22","v":"カワグチハルナ"},{"$f":"保存情報!J22","v":2},{"$f":"保存情報!V22","v":64},{"$f":"保存情報!AI22","v":0},"－"]
[null,17,{"$f":"保存情報!F23","v":"岸田京子"},{"$f":"保存情報!G23","v":"キシダキョウコ"},{"$f":"保存情報!J23","v":2},{"$f":"保存情報!V23","v":80},{"$f":"保存情報!AI23","v":0},"－"]
[null,18,{"$f":"保存情報!F24","v":"北川景子"},{"$f":"保存情報!G24","v":"キタガワケイコ"},{"$f":"保存情報!J24","v":2},{"$f":"保存情報!V24","v":64},{"$f":"保存情報!AI24","v":0},"－"]
[null,19,{"$f":"保存情報!F25","v":"吉瀬美智子"},{"$f":"保存情報!G25","v":"キチセミチコ"},{"$f":"保存情報!J25","v":"要支援２"},{"$f":"保存情報!V25","v":64},{"$f":"保存情報!AI25","v":0},"－"]
[null,20,{"$f":"保存情報!F26","v":"桐島かれん"},{"$f":"保存情報!G26","v":"キリシマカレン"},{"$f":"保存情報!J26","v":4},{"$f":"保存情報!V26","v":77},{"$f":"保存情報!AI26","v":0},"－"]
[null,21,{"$f":"保存情報!F27","v":"桐谷美玲"},{"$f":"保存情報!G27","v":"キリタニミレイ"},{"$f":"保存情報!J27","v":1},{"$f":"保存情報!V27","v":64},{"$f":"保存情報!AI27","v":0},"－"]
[null,22,{"$f":"保存情報!F28","v":"金田一耕助"},{"$f":"保存情報!G28","v":"キンダイチコウスケ"},{"$f":"保存情報!J28","v":3},{"$f":"保存情報!V28","v":59},{"$f":"保存情報!AI28","v":0},"－"]
[null,23,{"$f":"保存情報!F29","v":"金太郎"},{"$f":"保存情報!G29","v":"キンタロウ"},{"$f":"保存情報!J29","v":3},{"$f":"保存情報!V29","v":64},{"$f":"保存情報!AI29","v":0},"－"]
[null,24,{"$f":"保存情報!F30","v":"栗山千明"},{"$f":"保存情報!G30","v":"クリヤマチアキ"},{"$f":"保存情報!J30","v":"要支援１"},{"$f":"保存情報!V30","v":77},{"$f":"保存情報!AI30","v":0},"－"]
[null,25,{"$f":"保存情報!F31","v":"黒木華"},{"$f":"保存情報!G31","v":"クロキハナ"},{"$f":"保存情報!J31","v":1},{"$f":"保存情報!V31","v":64},{"$f":"保存情報!AI31","v":0},"－"]
[null,26,{"$f":"保存情報!F32","v":"黒木瞳"},{"$f":"保存情報!G32","v":"クロキヒトミ"},{"$f":"保存情報!J32","v":1},{"$f":"保存情報!V32","v":64},{"$f":"保存情報!AI32","v":0},"－"]
[null,27,{"$f":"保存情報!F33","v":"黒木メイサ"},{"$f":"保存情報!G33","v":"クロキメイサ"},{"$f":"保存情報!J33","v":1},{"$f":"保存情報!V33","v":64},{"$f":"保存情報!AI33","v":0},"－"]
[null,28,{"$f":"保存情報!F34","v":"小泉今日子"},{"$f":"保存情報!G34","v":"コイズミキョウコ"},{"$f":"保存情報!J34","v":1},{"$f":"保存情報!V34","v":70},{"$f":"保存情報!AI34","v":0},"－"]
[null,29,{"$f":"保存情報!F35","v":"小泉孝太郎"},{"$f":"保存情報!G35","v":"コイズミコウタロウ"},{"$f":"保存情報!J35","v":"要支援１"},{"$f":"保存情報!V35","v":64},{"$f":"保存情報!AI35","v":0},"－"]
[null,30,{"$f":"保存情報!F36","v":"小泉純一郎"},{"$f":"保存情報!G36","v":"コイズミジュンイチロウ"},{"$f":"保存情報!J36","v":3},{"$f":"保存情報!V36","v":77},{"$f":"保存情報!AI36","v":0},"－"]
[null,31,{"$f":"保存情報!F37","v":"倖田來未"},{"$f":"保存情報!G37","v":"コウダクミ"},{"$f":"保存情報!J37","v":5},{"$f":"保存情報!V37","v":54},{"$f":"保存情報!AI37","v":0},"－"]
[null,32,{"$f":"保存情報!F38","v":"小嶋陽菜"},{"$f":"保存情報!G38","v":"コジマハルナ"},{"$f":"保存情報!J38","v":1},{"$f":"保存情報!V38","v":64},{"$f":"保存情報!AI38","v":0},"－"]
[null,{"$f":"ROW()-6","v":33},{"$f":"保存情報!F39","v":"小松奈々"},{"$f":"保存情報!G39","v":"コマツナナ"},{"$f":"保存情報!J39","v":1},{"$f":"保存情報!V39","v":64},{"$f":"保存情報!AI39","v":0},"－"]
[null,34,{"$f":"保存情報!F40","v":"小柳ルミ子"},{"$f":"保存情報!G40","v":"コヤナギルミコ"},{"$f":"保存情報!J40","v":3},{"$f":"保存情報!V40","v":64},{"$f":"保存情報!AI40","v":0},"－"]
[null,35,{"$f":"保存情報!F41","v":"小雪"},{"$f":"保存情報!G41","v":"コユキ"},{"$f":"保存情報!J41","v":1},{"$f":"保存情報!V41","v":64},{"$f":"保存情報!AI41","v":0},"－"]
[null,36,{"$f":"保存情報!F42","v":"西郷隆盛"},{"$f":"保存情報!G42","v":"サイゴウタカモリ"},{"$f":"保存情報!J42","v":3},{"$f":"保存情報!V42","v":45},{"$f":"保存情報!AI42","v":0},"－"]
[null,37,{"$f":"保存情報!F43","v":"西城秀樹"},{"$f":"保存情報!G43","v":"サイジョウヒデキ"},{"$f":"保存情報!J43","v":2},{"$f":"保存情報!V43","v":62},{"$f":"保存情報!AI43","v":0},"－"]
[null,38,{"$f":"保存情報!F44","v":"佐々木希"},{"$f":"保存情報!G44","v":"ササキノゾミ"},{"$f":"保存情報!J44","v":2},{"$f":"保存情報!V44","v":64},{"$f":"保存情報!AI44","v":0},"－"]
[null,39,{"$f":"保存情報!F45","v":"シシドカフカ"},{"$f":"保存情報!G45","v":"シシドカフカ"},{"$f":"保存情報!J45","v":1},{"$f":"保存情報!V45","v":64},{"$f":"保存情報!AI45","v":0},"－"]
[null,40,{"$f":"保存情報!F46","v":"静御前"},{"$f":"保存情報!G46","v":"シズカゴゼン"},{"$f":"保存情報!J46","v":2},{"$f":"保存情報!V46","v":80},{"$f":"保存情報!AI46","v":0},"－"]
[null,41,{"$f":"保存情報!F47","v":"志田未来"},{"$f":"保存情報!G47","v":"シダミライ"},{"$f":"保存情報!J47","v":"要支援１"},{"$f":"保存情報!V47","v":64},{"$f":"保存情報!AI47","v":0},"－"]
[null,42,{"$f":"保存情報!F48","v":"篠原涼子"},{"$f":"保存情報!G48","v":"シノハラリョウコ"},{"$f":"保存情報!J48","v":"要支援２"},{"$f":"保存情報!V48","v":64},{"$f":"保存情報!AI48","v":0},"－"]
[null,43,{"$f":"保存情報!F49","v":"柴崎コウ"},{"$f":"保存情報!G49","v":"シバザキコウ"},{"$f":"保存情報!J49","v":2},{"$f":"保存情報!V49","v":64},{"$f":"保存情報!AI49","v":0},"－"]
[null,44,{"$f":"保存情報!F50","v":"島倉千代子"},{"$f":"保存情報!G50","v":"シマクラチヨコ"},{"$f":"保存情報!J50","v":2},{"$f":"保存情報!V50","v":64},{"$f":"保存情報!AI50","v":0},"－"]
[null,45,{"$f":"保存情報!F51","v":"杉咲花"},{"$f":"保存情報!G51","v":"スギサキハナ"},{"$f":"保存情報!J51","v":1},{"$f":"保存情報!V51","v":64},{"$f":"保存情報!AI51","v":0},"－"]
[null,46,{"$f":"保存情報!F52","v":"鈴木亮平"},{"$f":"保存情報!G52","v":"スズキリョウヘイ"},{"$f":"保存情報!J52","v":3},{"$f":"保存情報!V52","v":64},{"$f":"保存情報!AI52","v":0},"－"]
[null,47,{"$f":"保存情報!F53","v":"清少納言"},{"$f":"保存情報!G53","v":"セイショウナゴン"},{"$f":"保存情報!J53","v":3},{"$f":"保存情報!V53","v":77},{"$f":"保存情報!AI53","v":0},"－"]
[null,48,{"$f":"保存情報!F54","v":"関根勤"},{"$f":"保存情報!G54","v":"セキネツトム"},{"$f":"保存情報!J54","v":1},{"$f":"保存情報!V54","v":64},{"$f":"保存情報!AI54","v":0},"－"]
[null,49,{"$f":"保存情報!F55","v":"関根麻里"},{"$f":"保存情報!G55","v":"セキネマリ"},{"$f":"保存情報!J55","v":3},{"$f":"保存情報!V55","v":64},{"$f":"保存情報!AI55","v":0},"－"]
[null,50,{"$f":"保存情報!F56","v":"高畑充希"},{"$f":"保存情報!G56","v":"タカハタミツキ"},{"$f":"保存情報!J56","v":2},{"$f":"保存情報!V56","v":64},{"$f":"保存情報!AI56","v":0},"－"]
[null,51,{"$f":"保存情報!F57","v":"武井咲"},{"$f":"保存情報!G57","v":"タケイエミ"},{"$f":"保存情報!J57","v":3},{"$f":"保存情報!V57","v":64},{"$f":"保存情報!AI57","v":0},"－"]
[null,52,{"$f":"保存情報!F58","v":"多部未華子"},{"$f":"保存情報!G58","v":"タベミカコ"},{"$f":"保存情報!J58","v":4},{"$f":"保存情報!V58","v":54},{"$f":"保存情報!AI58","v":0},"－"]
[null,53,{"$f":"保存情報!F59","v":"ダレノガレ明美"},{"$f":"保存情報!G59","v":"ダレノガレアケミ"},{"$f":"保存情報!J59","v":"要支援２"},{"$f":"保存情報!V59","v":64},{"$f":"保存情報!AI59","v":0},"－"]
[null,54,{"$f":"保存情報!F60","v":"チコちゃん"},{"$f":"保存情報!G60","v":"チコチャン"},{"$f":"保存情報!J60","v":3},{"$f":"保存情報!V60","v":52},{"$f":"保存情報!AI60","v":0},"－"]
[null,55,{"$f":"保存情報!F61","v":"土屋太鳳"},{"$f":"保存情報!G61","v":"ツチヤタオ"},{"$f":"保存情報!J61","v":"要支援１"},{"$f":"保存情報!V61","v":64},{"$f":"保存情報!AI61","v":0},"－"]
[null,56,{"$f":"保存情報!F62","v":"堂本明子"},{"$f":"保存情報!G62","v":"ドウモトアキコ"},{"$f":"保存情報!J62","v":2},{"$f":"保存情報!V62","v":57},{"$f":"保存情報!AI62","v":0},"－"]
[null,57,{"$f":"保存情報!F63","v":"戸田恵梨香"},{"$f":"保存情報!G63","v":"トダエリカ"},{"$f":"保存情報!J63","v":2},{"$f":"保存情報!V63","v":64},{"$f":"保存情報!AI63","v":0},"－"]
[null,58,{"$f":"保存情報!F64","v":"豊臣秀吉"},{"$f":"保存情報!G64","v":"トヨトミヒデヨシ"},{"$f":"保存情報!J64","v":1},{"$f":"保存情報!V64","v":64},{"$f":"保存情報!AI64","v":0},"－"]
[null,59,{"$f":"保存情報!F65","v":"長澤まさみ"},{"$f":"保存情報!G65","v":"ナガサワマサミ"},{"$f":"保存情報!J65","v":1},{"$f":"保存情報!V65","v":64},{"$f":"保存情報!AI65","v":0},"－"]
[null,60,{"$f":"保存情報!F66","v":"中谷美紀"},{"$f":"保存情報!G66","v":"ナカタニミキ"},{"$f":"保存情報!J66","v":1},{"$f":"保存情報!V66","v":64},{"$f":"保存情報!AI66","v":0},"－"]
[null,61,{"$f":"保存情報!F67","v":"永野芽郁"},{"$f":"保存情報!G67","v":"ナガノメイ"},{"$f":"保存情報!J67","v":1},{"$f":"保存情報!V67","v":64},{"$f":"保存情報!AI67","v":0},"－"]
[null,62,{"$f":"保存情報!F68","v":"仲間由紀恵"},{"$f":"保存情報!G68","v":"ナカマユキエ"},{"$f":"保存情報!J68","v":1},{"$f":"保存情報!V68","v":64},{"$f":"保存情報!AI68","v":0},"－"]
[null,63,{"$f":"保存情報!F69","v":"中村アン"},{"$f":"保存情報!G69","v":"ナカムラアン"},{"$f":"保存情報!J69","v":2},{"$f":"保存情報!V69","v":72},{"$f":"保存情報!AI69","v":0},"－"]
[null,64,{"$f":"保存情報!F70","v":"菜々緒"},{"$f":"保存情報!G70","v":"ナナオ"},{"$f":"保存情報!J70","v":4},{"$f":"保存情報!V70","v":52},{"$f":"保存情報!AI70","v":0},"－"]
[null,{"$f":"ROW()-6","v":65},{"$f":"保存情報!F71","v":"二階堂ふみ"},{"$f":"保存情報!G71","v":"ニカイドウフミ"},{"$f":"保存情報!J71","v":1},{"$f":"保存情報!V71","v":64},{"$f":"保存情報!AI71","v":0},"－"]
[null,66,{"$f":"保存情報!F72","v":"錦戸亮"},{"$f":"保存情報!G72","v":"ニシキドリョウ"},{"$f":"保存情報!J72","v":"要支援２"},{"$f":"保存情報!V72","v":64},{"$f":"保存情報!AI72","v":0},{"$f":"IF(OR(E72=\"要支援１\",E72=\"要支援２\"),\"－\",IF(G72=0,\"－\",IF(F72>G72,1,IF(F72=G72,0,-1))))","v":"－"}]
[null,67,{"$f":"保存情報!F73","v":"のん"},{"$f":"保存情報!G73","v":"ノン"},{"$f":"保存情報!J73","v":2},{"$f":"保存情報!V73","v":64},{"$f":"保存情報!AI73","v":0},"－"]
[null,68,{"$f":"保存情報!F74","v":"長谷川潤"},{"$f":"保存情報!G74","v":"ハセガワジュン"},{"$f":"保存情報!J74","v":2},{"$f":"保存情報!V74","v":64},{"$f":"保存情報!AI74","v":0},"－"]
[null,69,{"$f":"保存情報!F75","v":"波留"},{"$f":"保存情報!G75","v":"ハル"},{"$f":"保存情報!J75","v":"要支援１"},{"$f":"保存情報!V75","v":64},{"$f":"保存情報!AI75","v":0},"－"]
[null,70,{"$f":"保存情報!F76","v":"光源氏"},{"$f":"保存情報!G76","v":"ヒカルゲンジ"},{"$f":"保存情報!J76","v":1},{"$f":"保存情報!V76","v":64},{"$f":"保存情報!AI76","v":0},"－"]
[null,71,{"$f":"保存情報!F77","v":"広瀬アリス"},{"$f":"保存情報!G77","v":"ヒロセアリス"},{"$f":"保存情報!J77","v":5},{"$f":"保存情報!V77","v":54},{"$f":"保存情報!AI77","v":0},"－"]
[null,72,{"$f":"保存情報!F78","v":"広瀬すず"},{"$f":"保存情報!G78","v":"ヒロセスズ"},{"$f":"保存情報!J78","v":"要支援１"},{"$f":"保存情報!V78","v":64},{"$f":"保存情報!AI78","v":0},"－"]
[null,73,{"$f":"保存情報!F79","v":"深田恭子"},{"$f":"保存情報!G79","v":"フカダキョウコ"},{"$f":"保存情報!J79","v":3},{"$f":"保存情報!V79","v":77},{"$f":"保存情報!AI79","v":0},"－"]
[null,74,{"$f":"保存情報!F80","v":"本田宗一郎"},{"$f":"保存情報!G80","v":"ホンダソウイチロウ"},{"$f":"保存情報!J80","v":"要支援１"},{"$f":"保存情報!V80","v":64},{"$f":"保存情報!AI80","v":0},"－"]
[null,75,{"$f":"保存情報!F81","v":"本田翼"},{"$f":"保存情報!G81","v":"ホンダツバサ"},{"$f":"保存情報!J81","v":3},{"$f":"保存情報!V81","v":64},{"$f":"保存情報!AI81","v":0},"－"]
[null,76,{"$f":"保存情報!F82","v":"真木よう子"},{"$f":"保存情報!G82","v":"マキヨウコ"},{"$f":"保存情報!J82","v":2},{"$f":"保存情報!V82","v":64},{"$f":"保存情報!AI82","v":0},"－"]
[null,77,{"$f":"保存情報!F83","v":"松岡修造"},{"$f":"保存情報!G83","v":"マツオカシュウゾウ"},{"$f":"保存情報!J83","v":1},{"$f":"保存情報!V83","v":64},{"$f":"保存情報!AI83","v":0},"－"]
[null,78,{"$f":"保存情報!F84","v":"松岡茉優"},{"$f":"保存情報!G84","v":"マツオカマユ"},{"$f":"保存情報!J84","v":"要支援１"},{"$f":"保存情報!V84","v":64},{"$f":"保存情報!AI84","v":0},"－"]
[null,79,{"$f":"保存情報!F85","v":"松島智子"},{"$f":"保存情報!G85","v":"マツシマトモコ"},{"$f":"保存情報!J85","v":1},{"$f":"保存情報!V85","v":77},{"$f":"保存情報!AI85","v":0},"－"]
[null,80,{"$f":"保存情報!F86","v":"松嶋菜々子"},{"$f":"保存情報!G86","v":"マツシマナナコ"},{"$f":"保存情報!J86","v":3},{"$f":"保存情報!V86","v":64},{"$f":"保存情報!AI86","v":0},"－"]
[null,81,{"$f":"保存情報!F87","v":"松田聖子"},{"$f":"保存情報!G87","v":"マツダセイコ"},{"$f":"保存情報!J87","v":"要支援１"},{"$f":"保存情報!V87","v":77},{"$f":"保存情報!AI87","v":0},"－"]
[null,82,{"$f":"保存情報!F88","v":"松本明子"},{"$f":"保存情報!G88","v":"マツモトアキコ"},{"$f":"保存情報!J88","v":5},{"$f":"保存情報!V88","v":52},{"$f":"保存情報!AI88","v":0},"－"]
[null,83,{"$f":"保存情報!F89","v":"山口百恵"},{"$f":"保存情報!G89","v":"ヤマグチモモエ"},{"$f":"保存情報!J89","v":1},{"$f":"保存情報!V89","v":95},{"$f":"保存情報!AI89","v":0},"－"]
[null,84,{"$f":"保存情報!F90","v":"吉岡里穂"},{"$f":"保存情報!G90","v":"ヨシオカリホ"},{"$f":"保存情報!J90","v":2},{"$f":"保存情報!V90","v":64},{"$f":"保存情報!AI90","v":0},"－"]
[null,85,{"$f":"保存情報!F91","v":"吉高由里子"},{"$f":"保存情報!G91","v":"ヨシタカユリコ"},{"$f":"保存情報!J91","v":1},{"$f":"保存情報!V91","v":59},{"$f":"保存情報!AI91","v":0},"－"]
[null,86,{"$f":"保存情報!F92","v":"ローラ"},{"$f":"保存情報!G92","v":"ローラ"},{"$f":"保存情報!J92","v":2},{"$f":"保存情報!V92","v":64},{"$f":"保存情報!AI92","v":0},"－"]
[null,87,{"$f":"保存情報!F93","v":0},{"$f":"保存情報!G93","v":0},{"$f":"保存情報!J93","v":0},{"$f":"保存情報!V93","v":0},{"$f":"保存情報!AI93","v":0},"－"]
[null,88,{"$f":"保存情報!F94","v":0},{"$f":"保存情報!G94","v":0},{"$f":"保存情報!J94","v":0},{"$f":"保存情報!V94","v":0},{"$f":"保存情報!AI94","v":0},"－"]
[null,89,{"$f":"保存情報!F95","v":0},{"$f":"保存情報!G95","v":0},{"$f":"保存情報!J95","v":0},{"$f":"保存情報!V95","v":0},{"$f":"保存情報!AI95","v":0},"－"]
[null,90,{"$f":"保存情報!F96","v":0},{"$f":"保存情報!G96","v":0},{"$f":"保存情報!J96","v":0},{"$f":"保存情報!V96","v":0},{"$f":"保存情報!AI96","v":0},"－"]
[null,91,{"$f":"保存情報!F97","v":0},{"$f":"保存情報!G97","v":0},{"$f":"保存情報!J97","v":0},{"$f":"保存情報!V97","v":0},{"$f":"保存情報!AI97","v":0},"－"]
[null,92,{"$f":"保存情報!F98","v":0},{"$f":"保存情報!G98","v":0},{"$f":"保存情報!J98","v":0},{"$f":"保存情報!V98","v":0},{"$f":"保存情報!AI98","v":0},"－"]
[null,93,{"$f":"保存情報!F99","v":0},{"$f":"保存情報!G99","v":0},{"$f":"保存情報!J99","v":0},{"$f":"保存情報!V99","v":0},{"$f":"保存情報!AI99","v":0},"－"]
[null,94,{"$f":"保存情報!F100","v":0},{"$f":"保存情報!G100","v":0},{"$f":"保存情報!J100","v":0},{"$f":"保存情報!V100","v":0},{"$f":"保存情報!AI100","v":0},"－"]
[null,95,{"$f":"保存情報!F101","v":0},{"$f":"保存情報!G101","v":0},{"$f":"保存情報!J101","v":0},{"$f":"保存情報!V101","v":0},{"$f":"保存情報!AI101","v":0},"－"]
[null,96,{"$f":"保存情報!F102","v":0},{"$f":"保存情報!G102","v":0},{"$f":"保存情報!J102","v":0},{"$f":"保存情報!V102","v":0},{"$f":"保存情報!AI102","v":0},"－"]
[null,{"$f":"ROW()-6","v":97},{"$f":"保存情報!F103","v":0},{"$f":"保存情報!G103","v":0},{"$f":"保存情報!J103","v":0},{"$f":"保存情報!V103","v":0},{"$f":"保存情報!AI103","v":0},"－"]
[null,98,{"$f":"保存情報!F104","v":0},{"$f":"保存情報!G104","v":0},{"$f":"保存情報!J104","v":0},{"$f":"保存情報!V104","v":0},{"$f":"保存情報!AI104","v":0},"－"]
[null,99,{"$f":"保存情報!F105","v":0},{"$f":"保存情報!G105","v":0},{"$f":"保存情報!J105","v":0},{"$f":"保存情報!V105","v":0},{"$f":"保存情報!AI105","v":0},"－"]
[null,100,{"$f":"保存情報!F106","v":0},{"$f":"保存情報!G106","v":0},{"$f":"保存情報!J106","v":0},{"$f":"保存情報!V106","v":0},{"$f":"保存情報!AI106","v":0},"－"]
[null,101,{"$f":"保存情報!F107","v":0},{"$f":"保存情報!G107","v":0},{"$f":"保存情報!J107","v":0},{"$f":"保存情報!V107","v":0},{"$f":"保存情報!AI107","v":0},"－"]
[null,102,{"$f":"保存情報!F108","v":0},{"$f":"保存情報!G108","v":0},{"$f":"保存情報!J108","v":0},{"$f":"保存情報!V108","v":0},{"$f":"保存情報!AI108","v":0},"－"]
[null,103,{"$f":"保存情報!F109","v":0},{"$f":"保存情報!G109","v":0},{"$f":"保存情報!J109","v":0},{"$f":"保存情報!V109","v":0},{"$f":"保存情報!AI109","v":0},"－"]
[null,104,{"$f":"保存情報!F110","v":0},{"$f":"保存情報!G110","v":0},{"$f":"保存情報!J110","v":0},{"$f":"保存情報!V110","v":0},{"$f":"保存情報!AI110","v":0},"－"]
[null,105,{"$f":"保存情報!F111","v":0},{"$f":"保存情報!G111","v":0},{"$f":"保存情報!J111","v":0},{"$f":"保存情報!V111","v":0},{"$f":"保存情報!AI111","v":0},"－"]
[null,106,{"$f":"保存情報!F112","v":0},{"$f":"保存情報!G112","v":0},{"$f":"保存情報!J112","v":0},{"$f":"保存情報!V112","v":0},{"$f":"保存情報!AI112","v":0},"－"]
[null,107,{"$f":"保存情報!F113","v":0},{"$f":"保存情報!G113","v":0},{"$f":"保存情報!J113","v":0},{"$f":"保存情報!V113","v":0},{"$f":"保存情報!AI113","v":0},"－"]
[null,108,{"$f":"保存情報!F114","v":0},{"$f":"保存情報!G114","v":0},{"$f":"保存情報!J114","v":0},{"$f":"保存情報!V114","v":0},{"$f":"保存情報!AI114","v":0},"－"]
[null,109,{"$f":"保存情報!F115","v":0},{"$f":"保存情報!G115","v":0},{"$f":"保存情報!J115","v":0},{"$f":"保存情報!V115","v":0},{"$f":"保存情報!AI115","v":0},"－"]
[null,110,{"$f":"保存情報!F116","v":0},{"$f":"保存情報!G116","v":0},{"$f":"保存情報!J116","v":0},{"$f":"保存情報!V116","v":0},{"$f":"保存情報!AI116","v":0},"－"]
[null,111,{"$f":"保存情報!F117","v":0},{"$f":"保存情報!G117","v":0},{"$f":"保存情報!J117","v":0},{"$f":"保存情報!V117","v":0},{"$f":"保存情報!AI117","v":0},"－"]
[null,112,{"$f":"保存情報!F118","v":0},{"$f":"保存情報!G118","v":0},{"$f":"保存情報!J118","v":0},{"$f":"保存情報!V118","v":0},{"$f":"保存情報!AI118","v":0},"－"]
[null,113,{"$f":"保存情報!F119","v":0},{"$f":"保存情報!G119","v":0},{"$f":"保存情報!J119","v":0},{"$f":"保存情報!V119","v":0},{"$f":"保存情報!AI119","v":0},"－"]
[null,114,{"$f":"保存情報!F120","v":0},{"$f":"保存情報!G120","v":0},{"$f":"保存情報!J120","v":0},{"$f":"保存情報!V120","v":0},{"$f":"保存情報!AI120","v":0},"－"]
[null,115,{"$f":"保存情報!F121","v":0},{"$f":"保存情報!G121","v":0},{"$f":"保存情報!J121","v":0},{"$f":"保存情報!V121","v":0},{"$f":"保存情報!AI121","v":0},"－"]
[null,116,{"$f":"保存情報!F122","v":0},{"$f":"保存情報!G122","v":0},{"$f":"保存情報!J122","v":0},{"$f":"保存情報!V122","v":0},{"$f":"保存情報!AI122","v":0},"－"]
[null,117,{"$f":"保存情報!F123","v":0},{"$f":"保存情報!G123","v":0},{"$f":"保存情報!J123","v":0},{"$f":"保存情報!V123","v":0},{"$f":"保存情報!AI123","v":0},"－"]
[null,118,{"$f":"保存情報!F124","v":0},{"$f":"保存情報!G124","v":0},{"$f":"保存情報!J124","v":0},{"$f":"保存情報!V124","v":0},{"$f":"保存情報!AI124","v":0},"－"]
[null,119,{"$f":"保存情報!F125","v":0},{"$f":"保存情報!G125","v":0},{"$f":"保存情報!J125","v":0},{"$f":"保存情報!V125","v":0},{"$f":"保存情報!AI125","v":0},"－"]
[null,120,{"$f":"保存情報!F126","v":0},{"$f":"保存情報!G126","v":0},{"$f":"保存情報!J126","v":0},{"$f":"保存情報!V126","v":0},{"$f":"保存情報!AI126","v":0},"－"]
[null,121,{"$f":"保存情報!F127","v":0},{"$f":"保存情報!G127","v":0},{"$f":"保存情報!J127","v":0},{"$f":"保存情報!V127","v":0},{"$f":"保存情報!AI127","v":0},"－"]
[null,122,{"$f":"保存情報!F128","v":0},{"$f":"保存情報!G128","v":0},{"$f":"保存情報!J128","v":0},{"$f":"保存情報!V128","v":0},{"$f":"保存情報!AI128","v":0},"－"]
[null,123,{"$f":"保存情報!F129","v":0},{"$f":"保存情報!G129","v":0},{"$f":"保存情報!J129","v":0},{"$f":"保存情報!V129","v":0},{"$f":"保存情報!AI129","v":0},"－"]
[null,124,{"$f":"保存情報!F130","v":0},{"$f":"保存情報!G130","v":0},{"$f":"保存情報!J130","v":0},{"$f":"保存情報!V130","v":0},{"$f":"保存情報!AI130","v":0},"－"]
[null,125,{"$f":"保存情報!F131","v":0},{"$f":"保存情報!G131","v":0},{"$f":"保存情報!J131","v":0},{"$f":"保存情報!V131","v":0},{"$f":"保存情報!AI131","v":0},"－"]
[null,126,{"$f":"保存情報!F132","v":0},{"$f":"保存情報!G132","v":0},{"$f":"保存情報!J132","v":0},{"$f":"保存情報!V132","v":0},{"$f":"保存情報!AI132","v":0},"－"]
[null,127,{"$f":"保存情報!F133","v":0},{"$f":"保存情報!G133","v":0},{"$f":"保存情報!J133","v":0},{"$f":"保存情報!V133","v":0},{"$f":"保存情報!AI133","v":0},"－"]
[null,128,{"$f":"保存情報!F134","v":0},{"$f":"保存情報!G134","v":0},{"$f":"保存情報!J134","v":0},{"$f":"保存情報!V134","v":0},{"$f":"保存情報!AI134","v":0},"－"]
[null,{"$f":"ROW()-6","v":129},{"$f":"保存情報!F135","v":0},{"$f":"保存情報!G135","v":0},{"$f":"保存情報!J135","v":0},{"$f":"保存情報!V135","v":0},{"$f":"保存情報!AI135","v":0},"－"]
[null,130,{"$f":"保存情報!F136","v":0},{"$f":"保存情報!G136","v":0},{"$f":"保存情報!J136","v":0},{"$f":"保存情報!V136","v":0},{"$f":"保存情報!AI136","v":0},{"$f":"IF(OR(E136=\"要支援１\",E136=\"要支援２\"),\"－\",IF(G136=0,\"－\",IF(F136>G136,1,IF(F136=G136,0,-1))))","v":"－"}]
[null,131,{"$f":"保存情報!F137","v":0},{"$f":"保存情報!G137","v":0},{"$f":"保存情報!J137","v":0},{"$f":"保存情報!V137","v":0},{"$f":"保存情報!AI137","v":0},"－"]
[null,132,{"$f":"保存情報!F138","v":0},{"$f":"保存情報!G138","v":0},{"$f":"保存情報!J138","v":0},{"$f":"保存情報!V138","v":0},{"$f":"保存情報!AI138","v":0},"－"]
[null,133,{"$f":"保存情報!F139","v":0},{"$f":"保存情報!G139","v":0},{"$f":"保存情報!J139","v":0},{"$f":"保存情報!V139","v":0},{"$f":"保存情報!AI139","v":0},"－"]
[null,134,{"$f":"保存情報!F140","v":0},{"$f":"保存情報!G140","v":0},{"$f":"保存情報!J140","v":0},{"$f":"保存情報!V140","v":0},{"$f":"保存情報!AI140","v":0},"－"]
[null,135,{"$f":"保存情報!F141","v":0},{"$f":"保存情報!G141","v":0},{"$f":"保存情報!J141","v":0},{"$f":"保存情報!V141","v":0},{"$f":"保存情報!AI141","v":0},"－"]
[null,136,{"$f":"保存情報!F142","v":0},{"$f":"保存情報!G142","v":0},{"$f":"保存情報!J142","v":0},{"$f":"保存情報!V142","v":0},{"$f":"保存情報!AI142","v":0},"－"]
[null,137,{"$f":"保存情報!F143","v":0},{"$f":"保存情報!G143","v":0},{"$f":"保存情報!J143","v":0},{"$f":"保存情報!V143","v":0},{"$f":"保存情報!AI143","v":0},"－"]
[null,138,{"$f":"保存情報!F144","v":0},{"$f":"保存情報!G144","v":0},{"$f":"保存情報!J144","v":0},{"$f":"保存情報!V144","v":0},{"$f":"保存情報!AI144","v":0},"－"]
[null,139,{"$f":"保存情報!F145","v":0},{"$f":"保存情報!G145","v":0},{"$f":"保存情報!J145","v":0},{"$f":"保存情報!V145","v":0},{"$f":"保存情報!AI145","v":0},"－"]
[null,140,{"$f":"保存情報!F146","v":0},{"$f":"保存情報!G146","v":0},{"$f":"保存情報!J146","v":0},{"$f":"保存情報!V146","v":0},{"$f":"保存情報!AI146","v":0},"－"]
[null,141,{"$f":"保存情報!F147","v":0},{"$f":"保存情報!G147","v":0},{"$f":"保存情報!J147","v":0},{"$f":"保存情報!V147","v":0},{"$f":"保存情報!AI147","v":0},"－"]
[null,142,{"$f":"保存情報!F148","v":0},{"$f":"保存情報!G148","v":0},{"$f":"保存情報!J148","v":0},{"$f":"保存情報!V148","v":0},{"$f":"保存情報!AI148","v":0},"－"]
[null,143,{"$f":"保存情報!F149","v":0},{"$f":"保存情報!G149","v":0},{"$f":"保存情報!J149","v":0},{"$f":"保存情報!V149","v":0},{"$f":"保存情報!AI149","v":0},"－"]
[null,144,{"$f":"保存情報!F150","v":0},{"$f":"保存情報!G150","v":0},{"$f":"保存情報!J150","v":0},{"$f":"保存情報!V150","v":0},{"$f":"保存情報!AI150","v":0},"－"]
[null,145,{"$f":"保存情報!F151","v":0},{"$f":"保存情報!G151","v":0},{"$f":"保存情報!J151","v":0},{"$f":"保存情報!V151","v":0},{"$f":"保存情報!AI151","v":0},"－"]
[null,146,{"$f":"保存情報!F152","v":0},{"$f":"保存情報!G152","v":0},{"$f":"保存情報!J152","v":0},{"$f":"保存情報!V152","v":0},{"$f":"保存情報!AI152","v":0},"－"]
[null,147,{"$f":"保存情報!F153","v":0},{"$f":"保存情報!G153","v":0},{"$f":"保存情報!J153","v":0},{"$f":"保存情報!V153","v":0},{"$f":"保存情報!AI153","v":0},"－"]
[null,148,{"$f":"保存情報!F154","v":0},{"$f":"保存情報!G154","v":0},{"$f":"保存情報!J154","v":0},{"$f":"保存情報!V154","v":0},{"$f":"保存情報!AI154","v":0},"－"]
[null,149,{"$f":"保存情報!F155","v":0},{"$f":"保存情報!G155","v":0},{"$f":"保存情報!J155","v":0},{"$f":"保存情報!V155","v":0},{"$f":"保存情報!AI155","v":0},"－"]
[null,150,{"$f":"保存情報!F156","v":0},{"$f":"保存情報!G156","v":0},{"$f":"保存情報!J156","v":0},{"$f":"保存情報!V156","v":0},{"$f":"保存情報!AI156","v":0},"－"]